Workbook

Sheet List
A1: No. | B1: เครื่องที่ใช้งาน | C1: เครื่องที่ใช้งาน
A2: 1 | B2: Cavity Plate | C2: CNC-05
B3: ย้าย | C3: CNC-08
A4: 2 | B4: Core Plate | C4: CNC-05
B5: ย้าย | C5: CNC-08
A6: 3 | B6: Insert Cavity | C6: CNC-05
B7: ย้าย | C7: CNC-08
A8: 4 | B8: Insert Core | C8: CNC-08
B9: ย้าย | C9: CNC-05
A10: 5 | B10: Sup Insert cavity | C10: CNC-08
B11: ย้าย | C11: CNC-05
A12: 6 | B12: Sup Insert core | C12: CNC-08
B13: ย้าย | C13: CNC-05
A14: 7 | B14: Ejector plate | C14: CNC-05
B15: Ejector plate ย้าย | C15: CNC-08
B16: ย้าย | C16: CNC-08
A17: 8 | B17: Prptotype | C17: CNC-05
B18: ย้าย | C18: CNC-08
A19: 9 | B19: EL-insert Cavity | C19: CNC-08
B20: ย้าย | C20: CNC-05
A21: 10 | B21: EL-insert Core | C21: CNC-08
B22: ย้าย | C22: CNC-05
A23: 11 | B23: LOGO 3 mm. | C23: CNC-08
B24: ย้าย | C24: CNC-05
A25: 12 | B25: LOGO 4 mm. | C25: CNC-08
B26: ย้าย | C26: CNC-05
A27: 13
A28: 14
A29: 15
A30: 17
A31: 18
A32: 19
A33: 20
A34: 21
A35: 22
A36: 23
A37: 24
A38: 25
... A46: 33

Sheet แผนการใช้เครื่อง CNC
A1: แผนการใช้เครื่อง CNC | M1: รายการ | N1: เครื่อง
M2: =List!B2 -> Cavity Plate | N2: CNC-08
D3: เครื่อง | E3: CNC-08 | M3: =List!B4 -> Core Plate | N3: CNC-05
E4: วันที่ออกเอกสาร | G4: =TODAY() -> 42787 | H4: เลขที่เอกสาร_____________ | M4: =List!B6 -> Insert Cavity
A5: ลำดับที่ | B5: เครื่องที่ใช้งาน | C5: ใบแจ้งงาน | D5: รหัส | F5: Actual | I5: หมายเหตุ | M5: =List!B8 -> Insert Core
F6: Plan | G6: Start | H6: Finish | M6: =List!B10 -> Sup Insert cavity
F7: Time | G7: Date | H7: Date | M7: =List!B12 -> Sup Insert core
A8: 1 | B8: =VLOOKUP($D8&$I8,List!$B:$C,2,0) -> #N/A | C8: DD-C-013/2017 | D8: Prptotype | E8: 7021 | F8: 81 | G8: 42774 | H8: 09-02-17 | I8: ย้าย | M8: =List!B21 -> EL-insert Core
A9: 2 | B9: =VLOOKUP($D9&$I9,List!$B:$C,2,0) -> #N/A | C9: DD-C-180/2016 | D9: Insert Core | E9: 7023 | F9: 211 | G9: 42748 | H9: 14-01-17 | I9: ย้าย | M9: =List!B14 -> Ejector plate
A10: 3 | B10: =VLOOKUP($D10&$I10,List!$B:$C,2,0) -> #N/A | C10: 2016-DM-D-11-2-5933 | D10: EL-insert Cavity | E10: 5933 | F10: 273 | G10: 42773 | H10: 08-02-17 | I10: ย้าย | M10: =List!B17 -> Prptotype
A11: 4 | B11: =VLOOKUP($D11&$I11,List!$B:$C,2,0) -> #N/A | C11: DD-C-180/2016 | D11: LOGO 4 mm. | E11: 7415 | F11: 89 | G11: 42773 | H11: 07-02-17 | I11: ย้าย | M11: =List!B19 -> EL-insert Cavity
A12: 5 | M12: =List!B23 -> LOGO 3 mm.
A13: 6 | M13: =List!B25 -> LOGO 4 mm.
A14: 7 | M14: =List!B26 -> ย้าย
A15: 8 | M15: =List!B27 -> 0
A16: 9 | M16: =List!B28 -> 0
A17: 10 | M17: =List!B29 -> 0
A18: 11 | M18: =List!B30 -> 0
A19: 12 | M19: =List!B31 -> 0
A20: 13 | M20: =List!B32 -> 0
A21: 14 | M21: =List!B33 -> 0
A22: 15 | M22: =List!B34 -> 0
A23: 16 | M23: =List!B35 -> 0
A24: 17 | M24: =List!B36 -> 0
... A33: 26 | M33: =List!B45 -> 0
M34: =List!B47 -> 0
M35: =List!B48 -> 0
M36: =List!B49 -> 0
M37: =List!B50 -> 0
M38: =List!B51 -> 0

Sheet Sheet1
A1: เครื่องอะไร | B1: ชิ้นงาน | C1: ย้าย
A2: =VLOOKUP(B2&C2,J:K,2,0) -> C002 | C2: ขวดย้าย | J2: ชิ้นงาน | K2: เครื่อง
J3: ขวด | K3: C001
J4: ขวดย้าย | K4: C002
J5: หิน | K5: C003
J6: หินย้าย | K6: C004
