Workbook

Sheet Sheet1
A1: As Is
A2: Location | B2: Shop Name | C2: Product Group | D2: Product | E2: Product Grade | F2: Chnl Type | G2: Sales Amt Jun16 | H2: Sales Amt Jul16 | I2: Sales Amt Aug16 | J2: Sales Qty Jun16 | K2: Sales Qty Jul16 | L2: Sales Qty Aug16 | M2: Share Amt% | N2: Display Qty (Aug16) | O2: NewColumn.Promoter Name | P2: NewColumn.Promoter Grade | Q2: NewColumn.Promoter Sales Amt May16 | R2: NewColumn.Promoter Sales Amt Jun16 | S2: NewColumn.Promoter Sales Amt Jul16
A3: Bangrak | B3: Home Electronics | C3: IM | D3: HHP | E3: A | F3: HYPER MT | G3: 807430 | H3: 652660 | I3: 811670 | J3: 94 | K3: 84 | L3: 92 | M3: 0.815 | N3: 12 | O3: MS.DONGKAMON CHOUYNUAN | P3: A | Q3: 1326070 | R3: 807430 | S3: 652660
A4: Bangrak | B4: Home Electronics | C4: CE | D4: AV | E4: C | F4: HYPER MT | G4: 645483 | H4: 532041 | I4: 538089 | J4: 52 | K4: 45 | L4: 41 | M4: 0.403 | N4: 21 | O4: MR.ARTIT WONGTANEE | P4: C | Q4: 701190 | R4: 611470 | S4: 496550
A5: Bangrak | B5: Home Electronics | C5: CE | D5: AV | E5: C | F5: HYPER MT | G5: 645483 | H5: 532041 | I5: 538089 | J5: 52 | K5: 45 | L5: 41 | M5: 0.403 | N5: 21 | O5: MR.WUTTICHAI SUTTHIRAT | P5: A | Q5: 1239119 | R5: 1021233 | S5: 672670
A6: Bangrak | B6: Home Electronics | C6: CE | D6: HA | E6: B | F6: HYPER MT | G6: 1185383 | H6: 756995 | I6: 942386 | J6: 128 | K6: 144 | L6: 168 | M6: 0.231 | N6: 26 | O6: MR.ARTIT WONGTANEE | P6: C | Q6: 701190 | R6: 611470 | S6: 496550
A7: Bangrak | B7: Home Electronics | C7: CE | D7: HA | E7: B | F7: HYPER MT | G7: 1185383 | H7: 756995 | I7: 942386 | J7: 128 | K7: 144 | L7: 168 | M7: 0.231 | N7: 26 | O7: MR.WUTTICHAI SUTTHIRAT | P7: A | Q7: 1239119 | R7: 1021233 | S7: 672670
A8: Ladprao | B8: Daungjai | C8: IM | D8: HHP | E8: B | F8: OPERATOR SHOP | G8: 2040693 | H8: 3629115 | I8: 2299790 | J8: 223 | K8: 426 | L8: 273 | M8: 0.27 | N8: 6 | O8: MS.KATWARANG YOMDOY | P8: N | R8: 2040697 | S8: 3724719
A9: Ladprao | B9: Daungjai | C9: IM | D9: HHP | E9: B | F9: OPERATOR SHOP | G9: 2040693 | H9: 3629115 | I9: 2299790 | J9: 223 | K9: 426 | L9: 273 | M9: 0.27 | N9: 6 | O9: MS.WANDEE DARASING | P9: A | Q9: 1860632
A10: Pinklao | B10: Chokdee | C10: IM | D10: HHP | E10: A | F10: PREMIUM MT | G10: 3126560 | H10: 3376650 | I10: 2810380 | J10: 300 | K10: 314 | L10: 254 | M10: 0.591 | N10: 18 | O10: MS.PRAPATSORN | P10: A | Q10: 2901250 | R10: 3167240 | S10: 3438530
A11: Pinklao | B11: Chokdee | C11: CE | D11: AV | E11: A | F11: PREMIUM MT | G11: 5128411 | H11: 6091077 | I11: 4209539 | J11: 218 | K11: 211 | L11: 165 | M11: 0.436 | N11: 44 | O11: MR.CHATCHAI | P11: B | Q11: 1738447 | R11: 2410277 | S11: 2964006
A12: Pinklao | B12: Chokdee | C12: CE | D12: AV | E12: A | F12: PREMIUM MT | G12: 5128411 | H12: 6091077 | I12: 4209539 | J12: 218 | K12: 211 | L12: 165 | M12: 0.436 | N12: 44 | O12: MR.SUCHART | P12: A | Q12: 1738447 | R12: 2410277 | S12: 2964006
A13: Pinklao | B13: Chokdee | C13: CE | D13: AV | E13: A | F13: PREMIUM MT | G13: 5128411 | H13: 6091077 | I13: 4209539 | J13: 218 | K13: 211 | L13: 165 | M13: 0.436 | N13: 44 | O13: MR.PONCHAI | P13: D | Q13: 447300 | R13: 330580 | S13: 412946
A14: Pinklao | B14: Chokdee | C14: CE | D14: AV | E14: A | F14: PREMIUM MT | G14: 5128411 | H14: 6091077 | I14: 4209539 | J14: 218 | K14: 211 | L14: 165 | M14: 0.436 | N14: 44 | O14: MR.SANGA | P14: N | Q14: 447300 | R14: 330580 | S14: 412946
A15: Pinklao | B15: Chokdee | C15: CE | D15: AV | E15: B | F15: PREMIUM MT | G15: 5128411 | J15: 218 | M15: 0.469 | O15: MR.CHATCHAI | P15: B | Q15: 1738447 | R15: 2410277 | S15: 2964006
A16: Pinklao | B16: Chokdee | C16: CE | D16: AV | E16: B | F16: PREMIUM MT | G16: 5128411 | J16: 218 | M16: 0.469 | O16: MR.SUCHART | P16: A | Q16: 1738447 | R16: 2410277 | S16: 2964006
A17: Pinklao | B17: Chokdee | C17: CE | D17: AV | E17: B | F17: PREMIUM MT | G17: 5128411 | J17: 218 | M17: 0.469 | O17: MR.PONCHAI | P17: D | Q17: 447300 | R17: 330580 | S17: 412946
A18: Pinklao | B18: Chokdee | C18: CE | D18: AV | E18: B | F18: PREMIUM MT | G18: 5128411 | J18: 218 | M18: 0.469 | O18: MR.SANGA | P18: N | Q18: 447300 | R18: 330580 | S18: 412946
A19: Pinklao | B19: Chokdee | C19: CE | D19: HA | E19: B | F19: PREMIUM MT | G19: 776528 | H19: 920722 | I19: 1447805 | J19: 64 | K19: 100 | L19: 95 | M19: 0.514 | N19: 23 | O19: MR.CHATCHAI | P19: B | Q19: 1738447 | R19: 2410277 | S19: 2964006
A20: Pinklao | B20: Chokdee | C20: CE | D20: HA | E20: B | F20: PREMIUM MT | G20: 776528 | H20: 920722 | I20: 1447805 | J20: 64 | K20: 100 | L20: 95 | M20: 0.514 | N20: 23 | O20: MR.SUCHART | P20: A | Q20: 1738447 | R20: 2410277 | S20: 2964006
A21: Pinklao | B21: Chokdee | C21: CE | D21: HA | E21: B | F21: PREMIUM MT | G21: 776528 | H21: 920722 | I21: 1447805 | J21: 64 | K21: 100 | L21: 95 | M21: 0.514 | N21: 23 | O21: MR.PONCHAI | P21: D | Q21: 447300 | R21: 330580 | S21: 412946
A22: Pinklao | B22: Chokdee | C22: CE | D22: HA | E22: B | F22: PREMIUM MT | G22: 776528 | H22: 920722 | I22: 1447805 | J22: 64 | K22: 100 | L22: 95 | M22: 0.514 | N22: 23 | O22: MR.SANGA | P22: N | Q22: 447300 | R22: 330580 | S22: 412946
A23: Pinklao | B23: Chokdee | C23: CE | D23: HA | E23: D | F23: PREMIUM MT | G23: 776528 | J23: 64 | M23: 0.442 | O23: MR.CHATCHAI | P23: B | Q23: 1738447 | R23: 2410277 | S23: 2964006
A24: Pinklao | B24: Chokdee | C24: CE | D24: HA | E24: D | F24: PREMIUM MT | G24: 776528 | J24: 64 | M24: 0.442 | O24: MR.SUCHART | P24: A | Q24: 1738447 | R24: 2410277 | S24: 2964006
A25: Pinklao | B25: Chokdee | C25: CE | D25: HA | E25: D | F25: PREMIUM MT | G25: 776528 | J25: 64 | M25: 0.442 | O25: MR.PONCHAI | P25: D | Q25: 447300 | R25: 330580 | S25: 412946
A26: Pinklao | B26: Chokdee | C26: CE | D26: HA | E26: D | F26: PREMIUM MT | G26: 776528 | J26: 64 | M26: 0.442 | O26: MR.SANGA | P26: N | Q26: 447300 | R26: 330580 | S26: 412946
A27: Thapra | B27: Power Life | C27: CE | D27: AV | E27: B | F27: PREMIUM MT | G27: 1589179 | H27: 1365021 | I27: 1761363 | J27: 82 | K27: 68 | L27: 84 | M27: 0.302 | N27: 52 | O27: MR.PATARACHAI WANGLANG | P27: C | Q27: 655165 | R27: 755090 | S27: 656010
A28: Thapra | B28: Power Life | C28: CE | D28: AV | E28: B | F28: PREMIUM MT | G28: 1589179 | H28: 1365021 | I28: 1761363 | J28: 82 | K28: 68 | L28: 84 | M28: 0.302 | N28: 52 | O28: MR.WIRAT DAMKERT | P28: B | Q28: 655165 | R28: 755090 | S28: 656010
A29: Thapra | B29: Power Life | C29: CE | D29: AV | E29: B | F29: PREMIUM MT | G29: 1589179 | H29: 1365021 | I29: 1761363 | J29: 82 | K29: 68 | L29: 84 | M29: 0.302 | N29: 52 | O29: MR.PAIROJ JARERNPOL | P29: C | Q29: 657366 | R29: 469260 | S29: 683231
A30: Thapra | B30: Power Life | C30: CE | D30: AV | E30: B | F30: PREMIUM MT | G30: 1589179 | H30: 1365021 | I30: 1761363 | J30: 82 | K30: 68 | L30: 84 | M30: 0.302 | N30: 52 | O30: MR.PRASET MAHAMMAD | P30: B | Q30: 657366 | R30: 469260 | S30: 683231
A31: Thapra | B31: Power Life | C31: CE | D31: HA | E31: B | F31: PREMIUM MT | G31: 1115497 | H31: 1409938 | I31: 2319619 | J31: 78 | K31: 103 | L31: 191 | M31: 0.465 | N31: 44 | O31: MR.PATARACHAI WANGLANG | P31: C | Q31: 655165 | R31: 755090 | S31: 656010
A32: Thapra | B32: Power Life | C32: CE | D32: HA | E32: B | F32: PREMIUM MT | G32: 1115497 | H32: 1409938 | I32: 2319619 | J32: 78 | K32: 103 | L32: 191 | M32: 0.465 | N32: 44 | O32: MR.WIRAT DAMKERT | P32: B | Q32: 655165 | R32: 755090 | S32: 656010
A33: Thapra | B33: Power Life | C33: CE | D33: HA | E33: B | F33: PREMIUM MT | G33: 1115497 | H33: 1409938 | I33: 2319619 | J33: 78 | K33: 103 | L33: 191 | M33: 0.465 | N33: 44 | O33: MR.PAIROJ JARERNPOL | P33: C | Q33: 657366 | R33: 469260 | S33: 683231
A34: Thapra | B34: Power Life | C34: CE | D34: HA | E34: B | F34: PREMIUM MT | G34: 1115497 | H34: 1409938 | I34: 2319619 | J34: 78 | K34: 103 | L34: 191 | M34: 0.465 | N34: 44 | O34: MR.PRASET MAHAMMAD | P34: B | Q34: 657366 | R34: 469260 | S34: 683231
A35: Phuket | B35: Phuket Express | C35: CE | D35: AV | E35: A | F35: PREMIUM MT | G35: 932047 | J35: 45 | M35: 0.483 | O35: MR.PIRAPONG SAMAPONG | P35: A | Q35: 675450 | R35: 1118790 | S35: 1394630
A36: Phuket | B36: Phuket Express | C36: CE | D36: AV | E36: C | F36: PREMIUM MT | H36: 1001484 | I36: 667103 | K36: 51 | L36: 39 | M36: 0.497 | N36: 35 | O36: MR.PIRAPONG SAMAPONG | P36: A | Q36: 675450 | R36: 1118790 | S36: 1394630
A37: Phuket | B37: Phuket Express | C37: CE | D37: HA | E37: C | F37: PREMIUM MT | G37: 288119 | H37: 507388 | I37: 425051 | J37: 26 | K37: 38 | L37: 39 | M37: 0.378 | N37: 42 | O37: MR.PIRAPONG SAMAPONG | P37: A | Q37: 675450 | R37: 1118790 | S37: 1394630
A40: To Be
A41: Location | B41: Shop Name | C41: Product Group | D41: Product | E41: Product Grade | F41: Chnl Type | G41: Sales Amt Jun16 | H41: Sales Amt Jul16 | I41: Sales Amt Aug16 | J41: Sales Qty Jun16 | K41: Sales Qty Jul16 | L41: Sales Qty Aug16 | M41: Share Amt% | N41: Display Qty (Aug16) | O41: NewColumn.Promoter Name | P41: NewColumn.Promoter Grade | Q41: NewColumn.Promoter Sales Amt May16 | R41: NewColumn.Promoter Sales Amt Jun16 | S41: NewColumn.Promoter Sales Amt Jul16
A42: Bangrak | B42: Home Electronics | C42: IM | D42: HHP | E42: A | F42: HYPER MT | G42: 807430 | H42: 652660 | I42: 811670 | J42: 94 | K42: 84 | L42: 92 | M42: 0.815 | N42: 12 | O42: MS.DONGKAMON CHOUYNUAN | P42: A | Q42: 1326070 | R42: 807430 | S42: 652660
...

Sheet Data_Modify
A1: As Is | V1: Cust_ID | W1: Key_Cnt | X1: Key_ID | Y1: Key_ShopProd
A2: Location | B2: Shop Name | C2: Product Group | D2: Product | E2: Product Grade | F2: Chnl Type | G2: Sales Amt Jun16 | H2: Sales Amt Jul16 | I2: Sales Amt Aug16 | J2: Sales Qty Jun16 | K2: Sales Qty Jul16 | L2: Sales Qty Aug16 | M2: Share Amt% | N2: Display Qty (Aug16) | O2: NewColumn.Promoter Name | P2: NewColumn.Promoter Grade | Q2: NewColumn.Promoter Sales Amt May16 | R2: NewColumn.Promoter Sales Amt Jun16 | S2: NewColumn.Promoter Sales Amt Jul16 | X2: 0 | Y2: None | AA2: เงื่อนไข : ข้อมูลต้องเรียงลำดับตาม Location + ChnlType + Shop Name
A3: Bangrak | B3: Home Electronics | C3: IM | D3: HHP | E3: A | F3: HYPER MT | G3: 807430 | H3: 652660 | I3: 811670 | J3: 94 | K3: 84 | L3: 92 | M3: 0.815 | N3: 12 | O3: MS.DONGKAMON CHOUYNUAN | P3: A | Q3: 1326070 | R3: 807430 | S3: 652660 | V3: =IF(COUNTIF(B$2:B3,B3)=1,V2+1,V2) -> 1 | W3: =IF(COUNTIF(Y$2:Y3,Y3)=1,1,0) -> 1 | X3: =IF(AND(A3<>0,COUNTIF(Y$2:Y3,Y3)=1),X2+1,X2) -> 1 | Y3: =B3&"_"&D3&"_"&O3 -> Home Electronics_HHP_MS.DONGKAMON CHOUYNUAN | AA3: สูตรใน Column V ถึง Y ต้องมีครบทุกบรรทัด (มีมากกว่าข้อมูลจริงได้)
A4: Bangrak | B4: Home Electronics | C4: CE | D4: AV | E4: C | F4: HYPER MT | G4: 645483 | H4: 532041 | I4: 538089 | J4: 52 | K4: 45 | L4: 41 | M4: 0.403 | N4: 21 | O4: MR.ARTIT WONGTANEE | P4: C | Q4: 701190 | R4: 611470 | S4: 496550 | V4: =IF(COUNTIF(B$2:B4,B4)=1,V3+1,V3) -> 1 | W4: =IF(COUNTIF(Y$2:Y4,Y4)=1,1,0) -> 1 | X4: =IF(AND(A4<>0,COUNTIF(Y$2:Y4,Y4)=1),X3+1,X3) -> 2 | Y4: =B4&"_"&D4&"_"&O4 -> Home Electronics_AV_MR.ARTIT WONGTANEE
A5: Bangrak | B5: Home Electronics | C5: CE | D5: AV | E5: C | F5: HYPER MT | G5: 645483 | H5: 532041 | I5: 538089 | J5: 52 | K5: 45 | L5: 41 | M5: 0.403 | N5: 21 | O5: MR.WUTTICHAI SUTTHIRAT | P5: A | Q5: 1239119 | R5: 1021233 | S5: 672670 | V5: =IF(COUNTIF(B$2:B5,B5)=1,V4+1,V4) -> 1 | W5: =IF(COUNTIF(Y$2:Y5,Y5)=1,1,0) -> 1 | X5: =IF(AND(A5<>0,COUNTIF(Y$2:Y5,Y5)=1),X4+1,X4) -> 3 | Y5: =B5&"_"&D5&"_"&O5 -> Home Electronics_AV_MR.WUTTICHAI SUTTHIRAT
A6: Bangrak | B6: Home Electronics | C6: CE | D6: HA | E6: B | F6: HYPER MT | G6: 1185383 | H6: 756995 | I6: 942386 | J6: 128 | K6: 144 | L6: 168 | M6: 0.231 | N6: 26 | O6: MR.ARTIT WONGTANEE | P6: C | Q6: 701190 | R6: 611470 | S6: 496550 | V6: =IF(COUNTIF(B$2:B6,B6)=1,V5+1,V5) -> 1 | W6: =IF(COUNTIF(Y$2:Y6,Y6)=1,1,0) -> 1 | X6: =IF(AND(A6<>0,COUNTIF(Y$2:Y6,Y6)=1),X5+1,X5) -> 4 | Y6: =B6&"_"&D6&"_"&O6 -> Home Electronics_HA_MR.ARTIT WONGTANEE
A7: Bangrak | B7: Home Electronics | C7: CE | D7: HA | E7: B | F7: HYPER MT | G7: 1185383 | H7: 756995 | I7: 942386 | J7: 128 | K7: 144 | L7: 168 | M7: 0.231 | N7: 26 | O7: MR.WUTTICHAI SUTTHIRAT | P7: A | Q7: 1239119 | R7: 1021233 | S7: 672670 | V7: =IF(COUNTIF(B$2:B7,B7)=1,V6+1,V6) -> 1 | W7: =IF(COUNTIF(Y$2:Y7,Y7)=1,1,0) -> 1 | X7: =IF(AND(A7<>0,COUNTIF(Y$2:Y7,Y7)=1),X6+1,X6) -> 5 | Y7: =B7&"_"&D7&"_"&O7 -> Home Electronics_HA_MR.WUTTICHAI SUTTHIRAT
A8: Ladprao | B8: Daungjai | C8: IM | D8: HHP | E8: B | F8: OPERATOR SHOP | G8: 2040693 | H8: 3629115 | I8: 2299790 | J8: 223 | K8: 426 | L8: 273 | M8: 0.27 | N8: 6 | O8: MS.KATWARANG YOMDOY | P8: N | R8: 2040697 | S8: 3724719 | V8: =IF(COUNTIF(B$2:B8,B8)=1,V7+1,V7) -> 2 | W8: =IF(COUNTIF(Y$2:Y8,Y8)=1,1,0) -> 1 | X8: =IF(AND(A8<>0,COUNTIF(Y$2:Y8,Y8)=1),X7+1,X7) -> 6 | Y8: =B8&"_"&D8&"_"&O8 -> Daungjai_HHP_MS.KATWARANG YOMDOY
A9: Ladprao | B9: Daungjai | C9: IM | D9: HHP | E9: B | F9: OPERATOR SHOP | G9: 2040693 | H9: 3629115 | I9: 2299790 | J9: 223 | K9: 426 | L9: 273 | M9: 0.27 | N9: 6 | O9: MS.WANDEE DARASING | P9: A | Q9: 1860632 | V9: =IF(COUNTIF(B$2:B9,B9)=1,V8+1,V8) -> 2 | W9: =IF(COUNTIF(Y$2:Y9,Y9)=1,1,0) -> 1 | X9: =IF(AND(A9<>0,COUNTIF(Y$2:Y9,Y9)=1),X8+1,X8) -> 7 | Y9: =B9&"_"&D9&"_"&O9 -> Daungjai_HHP_MS.WANDEE DARASING
A10: Pinklao | B10: Chokdee | C10: IM | D10: HHP | E10: A | F10: PREMIUM MT | G10: 3126560 | H10: 3376650 | I10: 2810380 | J10: 300 | K10: 314 | L10: 254 | M10: 0.591 | N10: 18 | O10: MS.PRAPATSORN | P10: A | Q10: 2901250 | R10: 3167240 | S10: 3438530 | V10: =IF(COUNTIF(B$2:B10,B10)=1,V9+1,V9) -> 3 | W10: =IF(COUNTIF(Y$2:Y10,Y10)=1,1,0) -> 1 | X10: =IF(AND(A10<>0,COUNTIF(Y$2:Y10,Y10)=1),X9+1,X9) -> 8 | Y10: =B10&"_"&D10&"_"&O10 -> Chokdee_HHP_MS.PRAPATSORN
A11: Pinklao | B11: Chokdee | C11: CE | D11: AV | E11: A | F11: PREMIUM MT | G11: 5128411 | H11: 6091077 | I11: 4209539 | J11: 218 | K11: 211 | L11: 165 | M11: 0.436 | N11: 44 | O11: MR.CHATCHAI | P11: B | Q11: 1738447 | R11: 2410277 | S11: 2964006 | V11: =IF(COUNTIF(B$2:B11,B11)=1,V10+1,V10) -> 3 | W11: =IF(COUNTIF(Y$2:Y11,Y11)=1,1,0) -> 1 | X11: =IF(AND(A11<>0,COUNTIF(Y$2:Y11,Y11)=1),X10+1,X10) -> 9 | Y11: =B11&"_"&D11&"_"&O11 -> Chokdee_AV_MR.CHATCHAI
A12: Pinklao | B12: Chokdee | C12: CE | D12: AV | E12: A | F12: PREMIUM MT | G12: 5128411 | H12: 6091077 | I12: 4209539 | J12: 218 | K12: 211 | L12: 165 | M12: 0.436 | N12: 44 | O12: MR.SUCHART | P12: A | Q12: 1738447 | R12: 2410277 | S12: 2964006 | V12: =IF(COUNTIF(B$2:B12,B12)=1,V11+1,V11) -> 3 | W12: =IF(COUNTIF(Y$2:Y12,Y12)=1,1,0) -> 1 | X12: =IF(AND(A12<>0,COUNTIF(Y$2:Y12,Y12)=1),X11+1,X11) -> 10 | Y12: =B12&"_"&D12&"_"&O12 -> Chokdee_AV_MR.SUCHART
A13: Pinklao | B13: Chokdee | C13: CE | D13: AV | E13: A | F13: PREMIUM MT | G13: 5128411 | H13: 6091077 | I13: 4209539 | J13: 218 | K13: 211 | L13: 165 | M13: 0.436 | N13: 44 | O13: MR.PONCHAI | P13: D | Q13: 447300 | R13: 330580 | S13: 412946 | V13: =IF(COUNTIF(B$2:B13,B13)=1,V12+1,V12) -> 3 | W13: =IF(COUNTIF(Y$2:Y13,Y13)=1,1,0) -> 1 | X13: =IF(AND(A13<>0,COUNTIF(Y$2:Y13,Y13)=1),X12+1,X12) -> 11 | Y13: =B13&"_"&D13&"_"&O13 -> Chokdee_AV_MR.PONCHAI
A14: Pinklao | B14: Chokdee | C14: CE | D14: AV | E14: A | F14: PREMIUM MT | G14: 5128411 | H14: 6091077 | I14: 4209539 | J14: 218 | K14: 211 | L14: 165 | M14: 0.436 | N14: 44 | O14: MR.SANGA | P14: N | Q14: 447300 | R14: 330580 | S14: 412946 | V14: =IF(COUNTIF(B$2:B14,B14)=1,V13+1,V13) -> 3 | W14: =IF(COUNTIF(Y$2:Y14,Y14)=1,1,0) -> 1 | X14: =IF(AND(A14<>0,COUNTIF(Y$2:Y14,Y14)=1),X13+1,X13) -> 12 | Y14: =B14&"_"&D14&"_"&O14 -> Chokdee_AV_MR.SANGA
A15: Pinklao | B15: Chokdee | C15: CE | D15: AV | E15: B | F15: PREMIUM MT | G15: 5128411 | J15: 218 | M15: 0.469 | O15: MR.CHATCHAI | P15: B | Q15: 1738447 | R15: 2410277 | S15: 2964006 | V15: =IF(COUNTIF(B$2:B15,B15)=1,V14+1,V14) -> 3 | W15: =IF(COUNTIF(Y$2:Y15,Y15)=1,1,0) -> 0 | X15: =IF(AND(A15<>0,COUNTIF(Y$2:Y15,Y15)=1),X14+1,X14) -> 12 | Y15: =B15&"_"&D15&"_"&O15 -> Chokdee_AV_MR.CHATCHAI
A16: Pinklao | B16: Chokdee | C16: CE | D16: AV | E16: B | F16: PREMIUM MT | G16: 5128411 | J16: 218 | M16: 0.469 | O16: MR.SUCHART | P16: A | Q16: 1738447 | R16: 2410277 | S16: 2964006 | V16: =IF(COUNTIF(B$2:B16,B16)=1,V15+1,V15) -> 3 | W16: =IF(COUNTIF(Y$2:Y16,Y16)=1,1,0) -> 0 | X16: =IF(AND(A16<>0,COUNTIF(Y$2:Y16,Y16)=1),X15+1,X15) -> 12 | Y16: =B16&"_"&D16&"_"&O16 -> Chokdee_AV_MR.SUCHART
A17: Pinklao | B17: Chokdee | C17: CE | D17: AV | E17: B | F17: PREMIUM MT | G17: 5128411 | J17: 218 | M17: 0.469 | O17: MR.PONCHAI | P17: D | Q17: 447300 | R17: 330580 | S17: 412946 | V17: =IF(COUNTIF(B$2:B17,B17)=1,V16+1,V16) -> 3 | W17: =IF(COUNTIF(Y$2:Y17,Y17)=1,1,0) -> 0 | X17: =IF(AND(A17<>0,COUNTIF(Y$2:Y17,Y17)=1),X16+1,X16) -> 12 | Y17: =B17&"_"&D17&"_"&O17 -> Chokdee_AV_MR.PONCHAI
A18: Pinklao | B18: Chokdee | C18: CE | D18: AV | E18: B | F18: PREMIUM MT | G18: 5128411 | J18: 218 | M18: 0.469 | O18: MR.SANGA | P18: N | Q18: 447300 | R18: 330580 | S18: 412946 | V18: =IF(COUNTIF(B$2:B18,B18)=1,V17+1,V17) -> 3 | W18: =IF(COUNTIF(Y$2:Y18,Y18)=1,1,0) -> 0 | X18: =IF(AND(A18<>0,COUNTIF(Y$2:Y18,Y18)=1),X17+1,X17) -> 12 | Y18: =B18&"_"&D18&"_"&O18 -> Chokdee_AV_MR.SANGA
A19: Pinklao | B19: Chokdee | C19: CE | D19: HA | E19: B | F19: PREMIUM MT | G19: 776528 | H19: 920722 | I19: 1447805 | J19: 64 | K19: 100 | L19: 95 | M19: 0.514 | N19: 23 | O19: MR.CHATCHAI | P19: B | Q19: 1738447 | R19: 2410277 | S19: 2964006 | V19: =IF(COUNTIF(B$2:B19,B19)=1,V18+1,V18) -> 3 | W19: =IF(COUNTIF(Y$2:Y19,Y19)=1,1,0) -> 1 | X19: =IF(AND(A19<>0,COUNTIF(Y$2:Y19,Y19)=1),X18+1,X18) -> 13 | Y19: =B19&"_"&D19&"_"&O19 -> Chokdee_HA_MR.CHATCHAI
A20: Pinklao | B20: Chokdee | C20: CE | D20: HA | E20: B | F20: PREMIUM MT | G20: 776528 | H20: 920722 | I20: 1447805 | J20: 64 | K20: 100 | L20: 95 | M20: 0.514 | N20: 23 | O20: MR.SUCHART | P20: A | Q20: 1738447 | R20: 2410277 | S20: 2964006 | V20: =IF(COUNTIF(B$2:B20,B20)=1,V19+1,V19) -> 3 | W20: =IF(COUNTIF(Y$2:Y20,Y20)=1,1,0) -> 1 | X20: =IF(AND(A20<>0,COUNTIF(Y$2:Y20,Y20)=1),X19+1,X19) -> 14 | Y20: =B20&"_"&D20&"_"&O20 -> Chokdee_HA_MR.SUCHART
A21: Pinklao | B21: Chokdee | C21: CE | D21: HA | E21: B | F21: PREMIUM MT | G21: 776528 | H21: 920722 | I21: 1447805 | J21: 64 | K21: 100 | L21: 95 | M21: 0.514 | N21: 23 | O21: MR.PONCHAI | P21: D | Q21: 447300 | R21: 330580 | S21: 412946 | V21: =IF(COUNTIF(B$2:B21,B21)=1,V20+1,V20) -> 3 | W21: =IF(COUNTIF(Y$2:Y21,Y21)=1,1,0) -> 1 | X21: =IF(AND(A21<>0,COUNTIF(Y$2:Y21,Y21)=1),X20+1,X20) -> 15 | Y21: =B21&"_"&D21&"_"&O21 -> Chokdee_HA_MR.PONCHAI
A22: Pinklao | B22: Chokdee | C22: CE | D22: HA | E22: B | F22: PREMIUM MT | G22: 776528 | H22: 920722 | I22: 1447805 | J22: 64 | K22: 100 | L22: 95 | M22: 0.514 | N22: 23 | O22: MR.SANGA | P22: N | Q22: 447300 | R22: 330580 | S22: 412946 | V22: =IF(COUNTIF(B$2:B22,B22)=1,V21+1,V21) -> 3 | W22: =IF(COUNTIF(Y$2:Y22,Y22)=1,1,0) -> 1 | X22: =IF(AND(A22<>0,COUNTIF(Y$2:Y22,Y22)=1),X21+1,X21) -> 16 | Y22: =B22&"_"&D22&"_"&O22 -> Chokdee_HA_MR.SANGA
A23: Pinklao | B23: Chokdee | C23: CE | D23: HA | E23: D | F23: PREMIUM MT | G23: 776528 | J23: 64 | M23: 0.442 | O23: MR.CHATCHAI | P23: B | Q23: 1738447 | R23: 2410277 | S23: 2964006 | V23: =IF(COUNTIF(B$2:B23,B23)=1,V22+1,V22) -> 3 | W23: =IF(COUNTIF(Y$2:Y23,Y23)=1,1,0) -> 0 | X23: =IF(AND(A23<>0,COUNTIF(Y$2:Y23,Y23)=1),X22+1,X22) -> 16 | Y23: =B23&"_"&D23&"_"&O23 -> Chokdee_HA_MR.CHATCHAI
A24: Pinklao | B24: Chokdee | C24: CE | D24: HA | E24: D | F24: PREMIUM MT | G24: 776528 | J24: 64 | M24: 0.442 | O24: MR.SUCHART | P24: A | Q24: 1738447 | R24: 2410277 | S24: 2964006 | V24: =IF(COUNTIF(B$2:B24,B24)=1,V23+1,V23) -> 3 | W24: =IF(COUNTIF(Y$2:Y24,Y24)=1,1,0) -> 0 | X24: =IF(AND(A24<>0,COUNTIF(Y$2:Y24,Y24)=1),X23+1,X23) -> 16 | Y24: =B24&"_"&D24&"_"&O24 -> Chokdee_HA_MR.SUCHART
A25: Pinklao | B25: Chokdee | C25: CE | D25: HA | E25: D | F25: PREMIUM MT | G25: 776528 | J25: 64 | M25: 0.442 | O25: MR.PONCHAI | P25: D | Q25: 447300 | R25: 330580 | S25: 412946 | V25: =IF(COUNTIF(B$2:B25,B25)=1,V24+1,V24) -> 3 | W25: =IF(COUNTIF(Y$2:Y25,Y25)=1,1,0) -> 0 | X25: =IF(AND(A25<>0,COUNTIF(Y$2:Y25,Y25)=1),X24+1,X24) -> 16 | Y25: =B25&"_"&D25&"_"&O25 -> Chokdee_HA_MR.PONCHAI
A26: Pinklao | B26: Chokdee | C26: CE | D26: HA | E26: D | F26: PREMIUM MT | G26: 776528 | J26: 64 | M26: 0.442 | O26: MR.SANGA | P26: N | Q26: 447300 | R26: 330580 | S26: 412946 | V26: =IF(COUNTIF(B$2:B26,B26)=1,V25+1,V25) -> 3 | W26: =IF(COUNTIF(Y$2:Y26,Y26)=1,1,0) -> 0 | X26: =IF(AND(A26<>0,COUNTIF(Y$2:Y26,Y26)=1),X25+1,X25) -> 16 | Y26: =B26&"_"&D26&"_"&O26 -> Chokdee_HA_MR.SANGA
A27: Thapra | B27: Power Life | C27: CE | D27: AV | E27: B | F27: PREMIUM MT | G27: 1589179 | H27: 1365021 | I27: 1761363 | J27: 82 | K27: 68 | L27: 84 | M27: 0.302 | N27: 52 | O27: MR.PATARACHAI WANGLANG | P27: C | Q27: 655165 | R27: 755090 | S27: 656010 | V27: =IF(COUNTIF(B$2:B27,B27)=1,V26+1,V26) -> 4 | W27: =IF(COUNTIF(Y$2:Y27,Y27)=1,1,0) -> 1 | X27: =IF(AND(A27<>0,COUNTIF(Y$2:Y27,Y27)=1),X26+1,X26) -> 17 | Y27: =B27&"_"&D27&"_"&O27 -> Power Life_AV_MR.PATARACHAI WANGLANG
A28: Thapra | B28: Power Life | C28: CE | D28: AV | E28: B | F28: PREMIUM MT | G28: 1589179 | H28: 1365021 | I28: 1761363 | J28: 82 | K28: 68 | L28: 84 | M28: 0.302 | N28: 52 | O28: MR.WIRAT DAMKERT | P28: B | Q28: 655165 | R28: 755090 | S28: 656010 | V28: =IF(COUNTIF(B$2:B28,B28)=1,V27+1,V27) -> 4 | W28: =IF(COUNTIF(Y$2:Y28,Y28)=1,1,0) -> 1 | X28: =IF(AND(A28<>0,COUNTIF(Y$2:Y28,Y28)=1),X27+1,X27) -> 18 | Y28: =B28&"_"&D28&"_"&O28 -> Power Life_AV_MR.WIRAT DAMKERT
A29: Thapra | B29: Power Life | C29: CE | D29: AV | E29: B | F29: PREMIUM MT | G29: 1589179 | H29: 1365021 | I29: 1761363 | J29: 82 | K29: 68 | L29: 84 | M29: 0.302 | N29: 52 | O29: MR.PAIROJ JARERNPOL | P29: C | Q29: 657366 | R29: 469260 | S29: 683231 | V29: =IF(COUNTIF(B$2:B29,B29)=1,V28+1,V28) -> 4 | W29: =IF(COUNTIF(Y$2:Y29,Y29)=1,1,0) -> 1 | X29: =IF(AND(A29<>0,COUNTIF(Y$2:Y29,Y29)=1),X28+1,X28) -> 19 | Y29: =B29&"_"&D29&"_"&O29 -> Power Life_AV_MR.PAIROJ JARERNPOL
A30: Thapra | B30: Power Life | C30: CE | D30: AV | E30: B | F30: PREMIUM MT | G30: 1589179 | H30: 1365021 | I30: 1761363 | J30: 82 | K30: 68 | L30: 84 | M30: 0.302 | N30: 52 | O30: MR.PRASET MAHAMMAD | P30: B | Q30: 657366 | R30: 469260 | S30: 683231 | V30: =IF(COUNTIF(B$2:B30,B30)=1,V29+1,V29) -> 4 | W30: =IF(COUNTIF(Y$2:Y30,Y30)=1,1,0) -> 1 | X30: =IF(AND(A30<>0,COUNTIF(Y$2:Y30,Y30)=1),X29+1,X29) -> 20 | Y30: =B30&"_"&D30&"_"&O30 -> Power Life_AV_MR.PRASET MAHAMMAD
A31: Thapra | B31: Power Life | C31: CE | D31: HA | E31: B | F31: PREMIUM MT | G31: 1115497 | H31: 1409938 | I31: 2319619 | J31: 78 | K31: 103 | L31: 191 | M31: 0.465 | N31: 44 | O31: MR.PATARACHAI WANGLANG | P31: C | Q31: 655165 | R31: 755090 | S31: 656010 | V31: =IF(COUNTIF(B$2:B31,B31)=1,V30+1,V30) -> 4 | W31: =IF(COUNTIF(Y$2:Y31,Y31)=1,1,0) -> 1 | X31: =IF(AND(A31<>0,COUNTIF(Y$2:Y31,Y31)=1),X30+1,X30) -> 21 | Y31: =B31&"_"&D31&"_"&O31 -> Power Life_HA_MR.PATARACHAI WANGLANG
A32: Thapra | B32: Power Life | C32: CE | D32: HA | E32: B | F32: PREMIUM MT | G32: 1115497 | H32: 1409938 | I32: 2319619 | J32: 78 | K32: 103 | L32: 191 | M32: 0.465 | N32: 44 | O32: MR.WIRAT DAMKERT | P32: B | Q32: 655165 | R32: 755090 | S32: 656010 | V32: =IF(COUNTIF(B$2:B32,B32)=1,V31+1,V31) -> 4 | W32: =IF(COUNTIF(Y$2:Y32,Y32)=1,1,0) -> 1 | X32: =IF(AND(A32<>0,COUNTIF(Y$2:Y32,Y32)=1),X31+1,X31) -> 22 | Y32: =B32&"_"&D32&"_"&O32 -> Power Life_HA_MR.WIRAT DAMKERT
A33: Thapra | B33: Power Life | C33: CE | D33: HA | E33: B | F33: PREMIUM MT | G33: 1115497 | H33: 1409938 | I33: 2319619 | J33: 78 | K33: 103 | L33: 191 | M33: 0.465 | N33: 44 | O33: MR.PAIROJ JARERNPOL | P33: C | Q33: 657366 | R33: 469260 | S33: 683231 | V33: =IF(COUNTIF(B$2:B33,B33)=1,V32+1,V32) -> 4 | W33: =IF(COUNTIF(Y$2:Y33,Y33)=1,1,0) -> 1 | X33: =IF(AND(A33<>0,COUNTIF(Y$2:Y33,Y33)=1),X32+1,X32) -> 23 | Y33: =B33&"_"&D33&"_"&O33 -> Power Life_HA_MR.PAIROJ JARERNPOL
A34: Thapra | B34: Power Life | C34: CE | D34: HA | E34: B | F34: PREMIUM MT | G34: 1115497 | H34: 1409938 | I34: 2319619 | J34: 78 | K34: 103 | L34: 191 | M34: 0.465 | N34: 44 | O34: MR.PRASET MAHAMMAD | P34: B | Q34: 657366 | R34: 469260 | S34: 683231 | V34: =IF(COUNTIF(B$2:B34,B34)=1,V33+1,V33) -> 4 | W34: =IF(COUNTIF(Y$2:Y34,Y34)=1,1,0) -> 1 | X34: =IF(AND(A34<>0,COUNTIF(Y$2:Y34,Y34)=1),X33+1,X33) -> 24 | Y34: =B34&"_"&D34&"_"&O34 -> Power Life_HA_MR.PRASET MAHAMMAD
A35: Phuket | B35: Phuket Express | C35: CE | D35: AV | E35: A | F35: PREMIUM MT | G35: 932047 | J35: 45 | M35: 0.483 | O35: MR.PIRAPONG SAMAPONG | P35: A | Q35: 675450 | R35: 1118790 | S35: 1394630 | V35: =IF(COUNTIF(B$2:B35,B35)=1,V34+1,V34) -> 5 | W35: =IF(COUNTIF(Y$2:Y35,Y35)=1,1,0) -> 1 | X35: =IF(AND(A35<>0,COUNTIF(Y$2:Y35,Y35)=1),X34+1,X34) -> 25 | Y35: =B35&"_"&D35&"_"&O35 -> Phuket Express_AV_MR.PIRAPONG SAMAPONG
A36: Phuket | B36: Phuket Express | C36: CE | D36: AV | E36: C | F36: PREMIUM MT | H36: 1001484 | I36: 667103 | K36: 51 | L36: 39 | M36: 0.497 | N36: 35 | O36: MR.PIRAPONG SAMAPONG | P36: A | Q36: 675450 | R36: 1118790 | S36: 1394630 | V36: =IF(COUNTIF(B$2:B36,B36)=1,V35+1,V35) -> 5 | W36: =IF(COUNTIF(Y$2:Y36,Y36)=1,1,0) -> 0 | X36: =IF(AND(A36<>0,COUNTIF(Y$2:Y36,Y36)=1),X35+1,X35) -> 25 | Y36: =B36&"_"&D36&"_"&O36 -> Phuket Express_AV_MR.PIRAPONG SAMAPONG
A37: Phuket | B37: Phuket Express | C37: CE | D37: HA | E37: C | F37: PREMIUM MT | G37: 288119 | H37: 507388 | I37: 425051 | J37: 26 | K37: 38 | L37: 39 | M37: 0.378 | N37: 42 | O37: MR.PIRAPONG SAMAPONG | P37: A | Q37: 675450 | R37: 1118790 | S37: 1394630 | V37: =IF(COUNTIF(B$2:B37,B37)=1,V36+1,V36) -> 5 | W37: =IF(COUNTIF(Y$2:Y37,Y37)=1,1,0) -> 1 | X37: =IF(AND(A37<>0,COUNTIF(Y$2:Y37,Y37)=1),X36+1,X36) -> 26 | Y37: =B37&"_"&D37&"_"&O37 -> Phuket Express_HA_MR.PIRAPONG SAMAPONG
V38: =IF(COUNTIF(B$2:B38,B38)=1,V37+1,V37) -> 5 | W38: =IF(COUNTIF(Y$2:Y38,Y38)=1,1,0) -> 1 | X38: =IF(AND(A38<>0,COUNTIF(Y$2:Y38,Y38)=1),X37+1,X37) -> 26 | Y38: =B38&"_"&D38&"_"&O38 -> __
V39: =IF(COUNTIF(B$2:B39,B39)=1,V38+1,V38) -> 5 | W39: =IF(COUNTIF(Y$2:Y39,Y39)=1,1,0) -> 0 | X39: =IF(AND(A39<>0,COUNTIF(Y$2:Y39,Y39)=1),X38+1,X38) -> 26 | Y39: =B39&"_"&D39&"_"&O39 -> __
V40: =IF(COUNTIF(B$2:B40,B40)=1,V39+1,V39) -> 5 | W40: =IF(COUNTIF(Y$2:Y40,Y40)=1,1,0) -> 0 | X40: =IF(AND(A40<>0,COUNTIF(Y$2:Y40,Y40)=1),X39+1,X39) -> 26 | Y40: =B40&"_"&D40&"_"&O40 -> __
...

Sheet Output
A2: To Be
A3: Location | B3: Shop Name | C3: Product Group | D3: Product | E3: Product Grade | F3: Chnl Type | G3: Sales Amt Jun16 | H3: Sales Amt Jul16 | I3: Sales Amt Aug16 | J3: Sales Qty Jun16 | K3: Sales Qty Jul16 | L3: Sales Qty Aug16 | M3: Share Amt% | N3: Display Qty (Aug16) | O3: NewColumn.Promoter Name | P3: NewColumn.Promoter Grade | Q3: NewColumn.Promoter Sales Amt May16 | R3: NewColumn.Promoter Sales Amt Jun16 | S3: NewColumn.Promoter Sales Amt Jul16 | U3: Key_ID | V3: Cust_ID | W3: Cust_Prod | X3: Cust_Prod_CNT
Z4: << บรรทัดนี้ต้องเว้นไว้
A5: =IF(AND($U5<>0,$U5<=MAX(Data_Modify!$X$1:$X$38)),INDEX(Data_Modify!A$1:A$38,MATCH($U5,Data_Modify!$X$1:$X$38,0),1),"") -> Bangrak | B5: =IF(AND($U5<>0,$U5<=MAX(Data_Modify!$X$1:$X$38)),INDEX(Data_Modify!B$1:B$38,MATCH($U5,Data_Modify!$X$1:$X$38,0),1),"") -> Home Electronics | C5: =IF(AND($U5<>0,$U5<=MAX(Data_Modify!$X$1:$X$38)),INDEX(Data_Modify!C$1:C$38,MATCH($U5,Data_Modify!$X$1:$X$38,0),1),"") -> IM | D5: =IF(AND($U5<>0,$U5<=MAX(Data_Modify!$X$1:$X$38)),INDEX(Data_Modify!D$1:D$38,MATCH($U5,Data_Modify!$X$1:$X$38,0),1),"") -> HHP | E5: =IF(AND($U5<>0,$U5<=MAX(Data_Modify!$X$1:$X$38)),INDEX(Data_Modify!E$1:E$38,MATCH($U5,Data_Modify!$X$1:$X$38,0),1),"") -> A | F5: =IF(AND($U5<>0,$U5<=MAX(Data_Modify!$X$1:$X$38)),INDEX(Data_Modify!F$1:F$38,MATCH($U5,Data_Modify!$X$1:$X$38,0),1),"") -> HYPER MT | G5: =IF(OR($B4<>$B5,$D4<>$D5),SUMIF(Data_Modify!$Y$1:$Y$38,$B5&"_"&$D5&"_"&$O5,Data_Modify!G$1:G$38),0) -> 807430 | H5: =IF(OR($B4<>$B5,$D4<>$D5),SUMIF(Data_Modify!$Y$1:$Y$38,$B5&"_"&$D5&"_"&$O5,Data_Modify!H$1:H$38),0) -> 652660 | I5: =IF(OR($B4<>$B5,$D4<>$D5),SUMIF(Data_Modify!$Y$1:$Y$38,$B5&"_"&$D5&"_"&$O5,Data_Modify!I$1:I$38),0) -> 811670 | J5: =IF(OR($B4<>$B5,$D4<>$D5),SUMIF(Data_Modify!$Y$1:$Y$38,$B5&"_"&$D5&"_"&$O5,Data_Modify!J$1:J$38),0) -> 94 | K5: =IF(OR($B4<>$B5,$D4<>$D5),SUMIF(Data_Modify!$Y$1:$Y$38,$B5&"_"&$D5&"_"&$O5,Data_Modify!K$1:K$38),0) -> 84 | L5: =IF(OR($B4<>$B5,$D4<>$D5),SUMIF(Data_Modify!$Y$1:$Y$38,$B5&"_"&$D5&"_"&$O5,Data_Modify!L$1:L$38),0) -> 92 | M5: =IF(OR($B4<>$B5,$D4<>$D5),SUMIF(Data_Modify!$Y$1:$Y$38,$B5&"_"&$D5&"_"&$O5,Data_Modify!M$1:M$38),0) -> 0.815 | N5: =IF(OR($B4<>$B5,$D4<>$D5),SUMIF(Data_Modify!$Y$1:$Y$38,$B5&"_"&$D5&"_"&$O5,Data_Modify!N$1:N$38),0) -> 12 | O5: =IF(AND($U5<>0,$U5<=MAX(Data_Modify!$X$1:$X$38)),INDEX(Data_Modify!O$1:O$38,MATCH($U5,Data_Modify!$X$1:$X$38,0),1),"") -> MS.DONGKAMON CHOUYNUAN | P5: =IF(AND($U5<>0,$U5<=MAX(Data_Modify!$X$1:$X$38)),INDEX(Data_Modify!P$1:P$38,MATCH($U5,Data_Modify!$X$1:$X$38,0),1),"") -> A | Q5: =SUMIF(Data_Modify!$Y$1:$Y$38,$B5&"_"&$D5&"_"&$O5,Data_Modify!Q$1:Q$38) -> 1326070 | R5: =SUMIF(Data_Modify!$Y$1:$Y$38,$B5&"_"&$D5&"_"&$O5,Data_Modify!R$1:R$38) -> 807430 | S5: =SUMIF(Data_Modify!$Y$1:$Y$38,$B5&"_"&$D5&"_"&$O5,Data_Modify!S$1:S$38) -> 652660 | U5: =IF(V5<=MAX(Data_Modify!$V:$V),IF(V5<>V4,INDEX(Data_Modify!$X:$X,MATCH(V5,Data_Modify!$V:$V,0),1),U4+1),0) -> 1 | V5: 1 | W5: =IF(V5<=MAX(Data_Modify!$V:$V),IF(V5<>V4,1,W4+1),0) -> 1 | X5: =SUMIF(Data_Modify!$V:$V,V5,Data_Modify!$W:$W) -> 5
A6: =IF(AND($U6<>0,$U6<=MAX(Data_Modify!$X$1:$X$38)),INDEX(Data_Modify!A$1:A$38,MATCH($U6,Data_Modify!$X$1:$X$38,0),1),"") -> Bangrak | B6: =IF(AND($U6<>0,$U6<=MAX(Data_Modify!$X$1:$X$38)),INDEX(Data_Modify!B$1:B$38,MATCH($U6,Data_Modify!$X$1:$X$38,0),1),"") -> Home Electronics | C6: =IF(AND($U6<>0,$U6<=MAX(Data_Modify!$X$1:$X$38)),INDEX(Data_Modify!C$1:C$38,MATCH($U6,Data_Modify!$X$1:$X$38,0),1),"") -> CE | D6: =IF(AND($U6<>0,$U6<=MAX(Data_Modify!$X$1:$X$38)),INDEX(Data_Modify!D$1:D$38,MATCH($U6,Data_Modify!$X$1:$X$38,0),1),"") -> AV | E6: =IF(AND($U6<>0,$U6<=MAX(Data_Modify!$X$1:$X$38)),INDEX(Data_Modify!E$1:E$38,MATCH($U6,Data_Modify!$X$1:$X$38,0),1),"") -> C | F6: =IF(AND($U6<>0,$U6<=MAX(Data_Modify!$X$1:$X$38)),INDEX(Data_Modify!F$1:F$38,MATCH($U6,Data_Modify!$X$1:$X$38,0),1),"") -> HYPER MT | G6: =IF(OR($B5<>$B6,$D5<>$D6),SUMIF(Data_Modify!$Y$1:$Y$38,$B6&"_"&$D6&"_"&$O6,Data_Modify!G$1:G$38),0) -> 645483 | H6: =IF(OR($B5<>$B6,$D5<>$D6),SUMIF(Data_Modify!$Y$1:$Y$38,$B6&"_"&$D6&"_"&$O6,Data_Modify!H$1:H$38),0) -> 532041 | I6: =IF(OR($B5<>$B6,$D5<>$D6),SUMIF(Data_Modify!$Y$1:$Y$38,$B6&"_"&$D6&"_"&$O6,Data_Modify!I$1:I$38),0) -> 538089 | J6: =IF(OR($B5<>$B6,$D5<>$D6),SUMIF(Data_Modify!$Y$1:$Y$38,$B6&"_"&$D6&"_"&$O6,Data_Modify!J$1:J$38),0) -> 52 | K6: =IF(OR($B5<>$B6,$D5<>$D6),SUMIF(Data_Modify!$Y$1:$Y$38,$B6&"_"&$D6&"_"&$O6,Data_Modify!K$1:K$38),0) -> 45 | L6: =IF(OR($B5<>$B6,$D5<>$D6),SUMIF(Data_Modify!$Y$1:$Y$38,$B6&"_"&$D6&"_"&$O6,Data_Modify!L$1:L$38),0) -> 41 | M6: =IF(OR($B5<>$B6,$D5<>$D6),SUMIF(Data_Modify!$Y$1:$Y$38,$B6&"_"&$D6&"_"&$O6,Data_Modify!M$1:M$38),0) -> 0.403 | N6: =IF(OR($B5<>$B6,$D5<>$D6),SUMIF(Data_Modify!$Y$1:$Y$38,$B6&"_"&$D6&"_"&$O6,Data_Modify!N$1:N$38),0) -> 21 | O6: =IF(AND($U6<>0,$U6<=MAX(Data_Modify!$X$1:$X$38)),INDEX(Data_Modify!O$1:O$38,MATCH($U6,Data_Modify!$X$1:$X$38,0),1),"") -> MR.ARTIT WONGTANEE | P6: =IF(AND($U6<>0,$U6<=MAX(Data_Modify!$X$1:$X$38)),INDEX(Data_Modify!P$1:P$38,MATCH($U6,Data_Modify!$X$1:$X$38,0),1),"") -> C | Q6: =SUMIF(Data_Modify!$Y$1:$Y$38,$B6&"_"&$D6&"_"&$O6,Data_Modify!Q$1:Q$38) -> 701190 | R6: =SUMIF(Data_Modify!$Y$1:$Y$38,$B6&"_"&$D6&"_"&$O6,Data_Modify!R$1:R$38) -> 611470 | S6: =SUMIF(Data_Modify!$Y$1:$Y$38,$B6&"_"&$D6&"_"&$O6,Data_Modify!S$1:S$38) -> 496550 | U6: =IF(V6<=MAX(Data_Modify!$V:$V),IF(V6<>V5,INDEX(Data_Modify!$X:$X,MATCH(V6,Data_Modify!$V:$V,0),1),U5+1),0) -> 2 | V6: =IF(W5<X5,V5,V5+1) -> 1 | W6: =IF(V6<=MAX(Data_Modify!$V:$V),IF(V6<>V5,1,W5+1),0) -> 2 | X6: =SUMIF(Data_Modify!$V:$V,V6,Data_Modify!$W:$W) -> 5
A7: =IF(AND($U7<>0,$U7<=MAX(Data_Modify!$X$1:$X$38)),INDEX(Data_Modify!A$1:A$38,MATCH($U7,Data_Modify!$X$1:$X$38,0),1),"") -> Bangrak | B7: =IF(AND($U7<>0,$U7<=MAX(Data_Modify!$X$1:$X$38)),INDEX(Data_Modify!B$1:B$38,MATCH($U7,Data_Modify!$X$1:$X$38,0),1),"") -> Home Electronics | C7: =IF(AND($U7<>0,$U7<=MAX(Data_Modify!$X$1:$X$38)),INDEX(Data_Modify!C$1:C$38,MATCH($U7,Data_Modify!$X$1:$X$38,0),1),"") -> CE | D7: =IF(AND($U7<>0,$U7<=MAX(Data_Modify!$X$1:$X$38)),INDEX(Data_Modify!D$1:D$38,MATCH($U7,Data_Modify!$X$1:$X$38,0),1),"") -> AV | E7: =IF(AND($U7<>0,$U7<=MAX(Data_Modify!$X$1:$X$38)),INDEX(Data_Modify!E$1:E$38,MATCH($U7,Data_Modify!$X$1:$X$38,0),1),"") -> C | F7: =IF(AND($U7<>0,$U7<=MAX(Data_Modify!$X$1:$X$38)),INDEX(Data_Modify!F$1:F$38,MATCH($U7,Data_Modify!$X$1:$X$38,0),1),"") -> HYPER MT | G7: =IF(OR($B6<>$B7,$D6<>$D7),SUMIF(Data_Modify!$Y$1:$Y$38,$B7&"_"&$D7&"_"&$O7,Data_Modify!G$1:G$38),0) -> 0 | H7: =IF(OR($B6<>$B7,$D6<>$D7),SUMIF(Data_Modify!$Y$1:$Y$38,$B7&"_"&$D7&"_"&$O7,Data_Modify!H$1:H$38),0) -> 0 | I7: =IF(OR($B6<>$B7,$D6<>$D7),SUMIF(Data_Modify!$Y$1:$Y$38,$B7&"_"&$D7&"_"&$O7,Data_Modify!I$1:I$38),0) -> 0 | J7: =IF(OR($B6<>$B7,$D6<>$D7),SUMIF(Data_Modify!$Y$1:$Y$38,$B7&"_"&$D7&"_"&$O7,Data_Modify!J$1:J$38),0) -> 0 | K7: =IF(OR($B6<>$B7,$D6<>$D7),SUMIF(Data_Modify!$Y$1:$Y$38,$B7&"_"&$D7&"_"&$O7,Data_Modify!K$1:K$38),0) -> 0 | L7: =IF(OR($B6<>$B7,$D6<>$D7),SUMIF(Data_Modify!$Y$1:$Y$38,$B7&"_"&$D7&"_"&$O7,Data_Modify!L$1:L$38),0) -> 0 | M7: =IF(OR($B6<>$B7,$D6<>$D7),SUMIF(Data_Modify!$Y$1:$Y$38,$B7&"_"&$D7&"_"&$O7,Data_Modify!M$1:M$38),0) -> 0 | N7: =IF(OR($B6<>$B7,$D6<>$D7),SUMIF(Data_Modify!$Y$1:$Y$38,$B7&"_"&$D7&"_"&$O7,Data_Modify!N$1:N$38),0) -> 0 | O7: =IF(AND($U7<>0,$U7<=MAX(Data_Modify!$X$1:$X$38)),INDEX(Data_Modify!O$1:O$38,MATCH($U7,Data_Modify!$X$1:$X$38,0),1),"") -> MR.WUTTICHAI SUTTHIRAT | P7: =IF(AND($U7<>0,$U7<=MAX(Data_Modify!$X$1:$X$38)),INDEX(Data_Modify!P$1:P$38,MATCH($U7,Data_Modify!$X$1:$X$38,0),1),"") -> A | Q7: =SUMIF(Data_Modify!$Y$1:$Y$38,$B7&"_"&$D7&"_"&$O7,Data_Modify!Q$1:Q$38) -> 1239119 | R7: =SUMIF(Data_Modify!$Y$1:$Y$38,$B7&"_"&$D7&"_"&$O7,Data_Modify!R$1:R$38) -> 1021233 | S7: =SUMIF(Data_Modify!$Y$1:$Y$38,$B7&"_"&$D7&"_"&$O7,Data_Modify!S$1:S$38) -> 672670 | U7: =IF(V7<=MAX(Data_Modify!$V:$V),IF(V7<>V6,INDEX(Data_Modify!$X:$X,MATCH(V7,Data_Modify!$V:$V,0),1),U6+1),0) -> 3 | V7: =IF(W6<X6,V6,V6+1) -> 1 | W7: =IF(V7<=MAX(Data_Modify!$V:$V),IF(V7<>V6,1,W6+1),0) -> 3 | X7: =SUMIF(Data_Modify!$V:$V,V7,Data_Modify!$W:$W) -> 5
A8: =IF(AND($U8<>0,$U8<=MAX(Data_Modify!$X$1:$X$38)),INDEX(Data_Modify!A$1:A$38,MATCH($U8,Data_Modify!$X$1:$X$38,0),1),"") -> Bangrak | B8: =IF(AND($U8<>0,$U8<=MAX(Data_Modify!$X$1:$X$38)),INDEX(Data_Modify!B$1:B$38,MATCH($U8,Data_Modify!$X$1:$X$38,0),1),"") -> Home Electronics | C8: =IF(AND($U8<>0,$U8<=MAX(Data_Modify!$X$1:$X$38)),INDEX(Data_Modify!C$1:C$38,MATCH($U8,Data_Modify!$X$1:$X$38,0),1),"") -> CE | D8: =IF(AND($U8<>0,$U8<=MAX(Data_Modify!$X$1:$X$38)),INDEX(Data_Modify!D$1:D$38,MATCH($U8,Data_Modify!$X$1:$X$38,0),1),"") -> HA | E8: =IF(AND($U8<>0,$U8<=MAX(Data_Modify!$X$1:$X$38)),INDEX(Data_Modify!E$1:E$38,MATCH($U8,Data_Modify!$X$1:$X$38,0),1),"") -> B | F8: =IF(AND($U8<>0,$U8<=MAX(Data_Modify!$X$1:$X$38)),INDEX(Data_Modify!F$1:F$38,MATCH($U8,Data_Modify!$X$1:$X$38,0),1),"") -> HYPER MT | G8: =IF(OR($B7<>$B8,$D7<>$D8),SUMIF(Data_Modify!$Y$1:$Y$38,$B8&"_"&$D8&"_"&$O8,Data_Modify!G$1:G$38),0) -> 1185383 | H8: =IF(OR($B7<>$B8,$D7<>$D8),SUMIF(Data_Modify!$Y$1:$Y$38,$B8&"_"&$D8&"_"&$O8,Data_Modify!H$1:H$38),0) -> 756995 | I8: =IF(OR($B7<>$B8,$D7<>$D8),SUMIF(Data_Modify!$Y$1:$Y$38,$B8&"_"&$D8&"_"&$O8,Data_Modify!I$1:I$38),0) -> 942386 | J8: =IF(OR($B7<>$B8,$D7<>$D8),SUMIF(Data_Modify!$Y$1:$Y$38,$B8&"_"&$D8&"_"&$O8,Data_Modify!J$1:J$38),0) -> 128 | K8: =IF(OR($B7<>$B8,$D7<>$D8),SUMIF(Data_Modify!$Y$1:$Y$38,$B8&"_"&$D8&"_"&$O8,Data_Modify!K$1:K$38),0) -> 144 | L8: =IF(OR($B7<>$B8,$D7<>$D8),SUMIF(Data_Modify!$Y$1:$Y$38,$B8&"_"&$D8&"_"&$O8,Data_Modify!L$1:L$38),0) -> 168 | M8: =IF(OR($B7<>$B8,$D7<>$D8),SUMIF(Data_Modify!$Y$1:$Y$38,$B8&"_"&$D8&"_"&$O8,Data_Modify!M$1:M$38),0) -> 0.231 | N8: =IF(OR($B7<>$B8,$D7<>$D8),SUMIF(Data_Modify!$Y$1:$Y$38,$B8&"_"&$D8&"_"&$O8,Data_Modify!N$1:N$38),0) -> 26 | O8: =IF(AND($U8<>0,$U8<=MAX(Data_Modify!$X$1:$X$38)),INDEX(Data_Modify!O$1:O$38,MATCH($U8,Data_Modify!$X$1:$X$38,0),1),"") -> MR.ARTIT WONGTANEE | P8: =IF(AND($U8<>0,$U8<=MAX(Data_Modify!$X$1:$X$38)),INDEX(Data_Modify!P$1:P$38,MATCH($U8,Data_Modify!$X$1:$X$38,0),1),"") -> C | Q8: =SUMIF(Data_Modify!$Y$1:$Y$38,$B8&"_"&$D8&"_"&$O8,Data_Modify!Q$1:Q$38) -> 701190 | R8: =SUMIF(Data_Modify!$Y$1:$Y$38,$B8&"_"&$D8&"_"&$O8,Data_Modify!R$1:R$38) -> 611470 | S8: =SUMIF(Data_Modify!$Y$1:$Y$38,$B8&"_"&$D8&"_"&$O8,Data_Modify!S$1:S$38) -> 496550 | U8: =IF(V8<=MAX(Data_Modify!$V:$V),IF(V8<>V7,INDEX(Data_Modify!$X:$X,MATCH(V8,Data_Modify!$V:$V,0),1),U7+1),0) -> 4 | V8: =IF(W7<X7,V7,V7+1) -> 1 | W8: =IF(V8<=MAX(Data_Modify!$V:$V),IF(V8<>V7,1,W7+1),0) -> 4 | X8: =SUMIF(Data_Modify!$V:$V,V8,Data_Modify!$W:$W) -> 5
A9: =IF(AND($U9<>0,$U9<=MAX(Data_Modify!$X$1:$X$38)),INDEX(Data_Modify!A$1:A$38,MATCH($U9,Data_Modify!$X$1:$X$38,0),1),"") -> Bangrak | B9: =IF(AND($U9<>0,$U9<=MAX(Data_Modify!$X$1:$X$38)),INDEX(Data_Modify!B$1:B$38,MATCH($U9,Data_Modify!$X$1:$X$38,0),1),"") -> Home Electronics | C9: =IF(AND($U9<>0,$U9<=MAX(Data_Modify!$X$1:$X$38)),INDEX(Data_Modify!C$1:C$38,MATCH($U9,Data_Modify!$X$1:$X$38,0),1),"") -> CE | D9: =IF(AND($U9<>0,$U9<=MAX(Data_Modify!$X$1:$X$38)),INDEX(Data_Modify!D$1:D$38,MATCH($U9,Data_Modify!$X$1:$X$38,0),1),"") -> HA | E9: =IF(AND($U9<>0,$U9<=MAX(Data_Modify!$X$1:$X$38)),INDEX(Data_Modify!E$1:E$38,MATCH($U9,Data_Modify!$X$1:$X$38,0),1),"") -> B | F9: =IF(AND($U9<>0,$U9<=MAX(Data_Modify!$X$1:$X$38)),INDEX(Data_Modify!F$1:F$38,MATCH($U9,Data_Modify!$X$1:$X$38,0),1),"") -> HYPER MT | G9: =IF(OR($B8<>$B9,$D8<>$D9),SUMIF(Data_Modify!$Y$1:$Y$38,$B9&"_"&$D9&"_"&$O9,Data_Modify!G$1:G$38),0) -> 0 | H9: =IF(OR($B8<>$B9,$D8<>$D9),SUMIF(Data_Modify!$Y$1:$Y$38,$B9&"_"&$D9&"_"&$O9,Data_Modify!H$1:H$38),0) -> 0 | I9: =IF(OR($B8<>$B9,$D8<>$D9),SUMIF(Data_Modify!$Y$1:$Y$38,$B9&"_"&$D9&"_"&$O9,Data_Modify!I$1:I$38),0) -> 0 | J9: =IF(OR($B8<>$B9,$D8<>$D9),SUMIF(Data_Modify!$Y$1:$Y$38,$B9&"_"&$D9&"_"&$O9,Data_Modify!J$1:J$38),0) -> 0 | K9: =IF(OR($B8<>$B9,$D8<>$D9),SUMIF(Data_Modify!$Y$1:$Y$38,$B9&"_"&$D9&"_"&$O9,Data_Modify!K$1:K$38),0) -> 0 | L9: =IF(OR($B8<>$B9,$D8<>$D9),SUMIF(Data_Modify!$Y$1:$Y$38,$B9&"_"&$D9&"_"&$O9,Data_Modify!L$1:L$38),0) -> 0 | M9: =IF(OR($B8<>$B9,$D8<>$D9),SUMIF(Data_Modify!$Y$1:$Y$38,$B9&"_"&$D9&"_"&$O9,Data_Modify!M$1:M$38),0) -> 0 | N9: =IF(OR($B8<>$B9,$D8<>$D9),SUMIF(Data_Modify!$Y$1:$Y$38,$B9&"_"&$D9&"_"&$O9,Data_Modify!N$1:N$38),0) -> 0 | O9: =IF(AND($U9<>0,$U9<=MAX(Data_Modify!$X$1:$X$38)),INDEX(Data_Modify!O$1:O$38,MATCH($U9,Data_Modify!$X$1:$X$38,0),1),"") -> MR.WUTTICHAI SUTTHIRAT | P9: =IF(AND($U9<>0,$U9<=MAX(Data_Modify!$X$1:$X$38)),INDEX(Data_Modify!P$1:P$38,MATCH($U9,Data_Modify!$X$1:$X$38,0),1),"") -> A | Q9: =SUMIF(Data_Modify!$Y$1:$Y$38,$B9&"_"&$D9&"_"&$O9,Data_Modify!Q$1:Q$38) -> 1239119 | R9: =SUMIF(Data_Modify!$Y$1:$Y$38,$B9&"_"&$D9&"_"&$O9,Data_Modify!R$1:R$38) -> 1021233 | S9: =SUMIF(Data_Modify!$Y$1:$Y$38,$B9&"_"&$D9&"_"&$O9,Data_Modify!S$1:S$38) -> 672670 | U9: =IF(V9<=MAX(Data_Modify!$V:$V),IF(V9<>V8,INDEX(Data_Modify!$X:$X,MATCH(V9,Data_Modify!$V:$V,0),1),U8+1),0) -> 5 | V9: =IF(W8<X8,V8,V8+1) -> 1 | W9: =IF(V9<=MAX(Data_Modify!$V:$V),IF(V9<>V8,1,W8+1),0) -> 5 | X9: =SUMIF(Data_Modify!$V:$V,V9,Data_Modify!$W:$W) -> 5
A10: =IF(AND($U10<>0,$U10<=MAX(Data_Modify!$X$1:$X$38)),INDEX(Data_Modify!A$1:A$38,MATCH($U10,Data_Modify!$X$1:$X$38,0),1),"") -> Ladprao | B10: =IF(AND($U10<>0,$U10<=MAX(Data_Modify!$X$1:$X$38)),INDEX(Data_Modify!B$1:B$38,MATCH($U10,Data_Modify!$X$1:$X$38,0),1),"") -> Daungjai | C10: =IF(AND($U10<>0,$U10<=MAX(Data_Modify!$X$1:$X$38)),INDEX(Data_Modify!C$1:C$38,MATCH($U10,Data_Modify!$X$1:$X$38,0),1),"") -> IM | D10: =IF(AND($U10<>0,$U10<=MAX(Data_Modify!$X$1:$X$38)),INDEX(Data_Modify!D$1:D$38,MATCH($U10,Data_Modify!$X$1:$X$38,0),1),"") -> HHP | E10: =IF(AND($U10<>0,$U10<=MAX(Data_Modify!$X$1:$X$38)),INDEX(Data_Modify!E$1:E$38,MATCH($U10,Data_Modify!$X$1:$X$38,0),1),"") -> B | F10: =IF(AND($U10<>0,$U10<=MAX(Data_Modify!$X$1:$X$38)),INDEX(Data_Modify!F$1:F$38,MATCH($U10,Data_Modify!$X$1:$X$38,0),1),"") -> OPERATOR SHOP | G10: =IF(OR($B9<>$B10,$D9<>$D10),SUMIF(Data_Modify!$Y$1:$Y$38,$B10&"_"&$D10&"_"&$O10,Data_Modify!G$1:G$38),0) -> 2040693 | H10: =IF(OR($B9<>$B10,$D9<>$D10),SUMIF(Data_Modify!$Y$1:$Y$38,$B10&"_"&$D10&"_"&$O10,Data_Modify!H$1:H$38),0) -> 3629115 | I10: =IF(OR($B9<>$B10,$D9<>$D10),SUMIF(Data_Modify!$Y$1:$Y$38,$B10&"_"&$D10&"_"&$O10,Data_Modify!I$1:I$38),0) -> 2299790 | J10: =IF(OR($B9<>$B10,$D9<>$D10),SUMIF(Data_Modify!$Y$1:$Y$38,$B10&"_"&$D10&"_"&$O10,Data_Modify!J$1:J$38),0) -> 223 | K10: =IF(OR($B9<>$B10,$D9<>$D10),SUMIF(Data_Modify!$Y$1:$Y$38,$B10&"_"&$D10&"_"&$O10,Data_Modify!K$1:K$38),0) -> 426 | L10: =IF(OR($B9<>$B10,$D9<>$D10),SUMIF(Data_Modify!$Y$1:$Y$38,$B10&"_"&$D10&"_"&$O10,Data_Modify!L$1:L$38),0) -> 273 | M10: =IF(OR($B9<>$B10,$D9<>$D10),SUMIF(Data_Modify!$Y$1:$Y$38,$B10&"_"&$D10&"_"&$O10,Data_Modify!M$1:M$38),0) -> 0.27 | N10: =IF(OR($B9<>$B10,$D9<>$D10),SUMIF(Data_Modify!$Y$1:$Y$38,$B10&"_"&$D10&"_"&$O10,Data_Modify!N$1:N$38),0) -> 6 | O10: =IF(AND($U10<>0,$U10<=MAX(Data_Modify!$X$1:$X$38)),INDEX(Data_Modify!O$1:O$38,MATCH($U10,Data_Modify!$X$1:$X$38,0),1),"") -> MS.KATWARANG YOMDOY | P10: =IF(AND($U10<>0,$U10<=MAX(Data_Modify!$X$1:$X$38)),INDEX(Data_Modify!P$1:P$38,MATCH($U10,Data_Modify!$X$1:$X$38,0),1),"") -> N | Q10: =SUMIF(Data_Modify!$Y$1:$Y$38,$B10&"_"&$D10&"_"&$O10,Data_Modify!Q$1:Q$38) -> 0 | R10: =SUMIF(Data_Modify!$Y$1:$Y$38,$B10&"_"&$D10&"_"&$O10,Data_Modify!R$1:R$38) -> 2040697 | S10: =SUMIF(Data_Modify!$Y$1:$Y$38,$B10&"_"&$D10&"_"&$O10,Data_Modify!S$1:S$38) -> 3724719 | U10: =IF(V10<=MAX(Data_Modify!$V:$V),IF(V10<>V9,INDEX(Data_Modify!$X:$X,MATCH(V10,Data_Modify!$V:$V,0),1),U9+1),0) -> 6 | V10: =IF(W9<X9,V9,V9+1) -> 2 | W10: =IF(V10<=MAX(Data_Modify!$V:$V),IF(V10<>V9,1,W9+1),0) -> 1 | X10: =SUMIF(Data_Modify!$V:$V,V10,Data_Modify!$W:$W) -> 2
A11: =IF(AND($U11<>0,$U11<=MAX(Data_Modify!$X$1:$X$38)),INDEX(Data_Modify!A$1:A$38,MATCH($U11,Data_Modify!$X$1:$X$38,0),1),"") -> Ladprao | B11: =IF(AND($U11<>0,$U11<=MAX(Data_Modify!$X$1:$X$38)),INDEX(Data_Modify!B$1:B$38,MATCH($U11,Data_Modify!$X$1:$X$38,0),1),"") -> Daungjai | C11: =IF(AND($U11<>0,$U11<=MAX(Data_Modify!$X$1:$X$38)),INDEX(Data_Modify!C$1:C$38,MATCH($U11,Data_Modify!$X$1:$X$38,0),1),"") -> IM | D11: =IF(AND($U11<>0,$U11<=MAX(Data_Modify!$X$1:$X$38)),INDEX(Data_Modify!D$1:D$38,MATCH($U11,Data_Modify!$X$1:$X$38,0),1),"") -> HHP | E11: =IF(AND($U11<>0,$U11<=MAX(Data_Modify!$X$1:$X$38)),INDEX(Data_Modify!E$1:E$38,MATCH($U11,Data_Modify!$X$1:$X$38,0),1),"") -> B | F11: =IF(AND($U11<>0,$U11<=MAX(Data_Modify!$X$1:$X$38)),INDEX(Data_Modify!F$1:F$38,MATCH($U11,Data_Modify!$X$1:$X$38,0),1),"") -> OPERATOR SHOP | G11: =IF(OR($B10<>$B11,$D10<>$D11),SUMIF(Data_Modify!$Y$1:$Y$38,$B11&"_"&$D11&"_"&$O11,Data_Modify!G$1:G$38),0) -> 0 | H11: =IF(OR($B10<>$B11,$D10<>$D11),SUMIF(Data_Modify!$Y$1:$Y$38,$B11&"_"&$D11&"_"&$O11,Data_Modify!H$1:H$38),0) -> 0 | I11: =IF(OR($B10<>$B11,$D10<>$D11),SUMIF(Data_Modify!$Y$1:$Y$38,$B11&"_"&$D11&"_"&$O11,Data_Modify!I$1:I$38),0) -> 0 | J11: =IF(OR($B10<>$B11,$D10<>$D11),SUMIF(Data_Modify!$Y$1:$Y$38,$B11&"_"&$D11&"_"&$O11,Data_Modify!J$1:J$38),0) -> 0 | K11: =IF(OR($B10<>$B11,$D10<>$D11),SUMIF(Data_Modify!$Y$1:$Y$38,$B11&"_"&$D11&"_"&$O11,Data_Modify!K$1:K$38),0) -> 0 | L11: =IF(OR($B10<>$B11,$D10<>$D11),SUMIF(Data_Modify!$Y$1:$Y$38,$B11&"_"&$D11&"_"&$O11,Data_Modify!L$1:L$38),0) -> 0 | M11: =IF(OR($B10<>$B11,$D10<>$D11),SUMIF(Data_Modify!$Y$1:$Y$38,$B11&"_"&$D11&"_"&$O11,Data_Modify!M$1:M$38),0) -> 0 | N11: =IF(OR($B10<>$B11,$D10<>$D11),SUMIF(Data_Modify!$Y$1:$Y$38,$B11&"_"&$D11&"_"&$O11,Data_Modify!N$1:N$38),0) -> 0 | O11: =IF(AND($U11<>0,$U11<=MAX(Data_Modify!$X$1:$X$38)),INDEX(Data_Modify!O$1:O$38,MATCH($U11,Data_Modify!$X$1:$X$38,0),1),"") -> MS.WANDEE DARASING | P11: =IF(AND($U11<>0,$U11<=MAX(Data_Modify!$X$1:$X$38)),INDEX(Data_Modify!P$1:P$38,MATCH($U11,Data_Modify!$X$1:$X$38,0),1),"") -> A | Q11: =SUMIF(Data_Modify!$Y$1:$Y$38,$B11&"_"&$D11&"_"&$O11,Data_Modify!Q$1:Q$38) -> 1860632 | R11: =SUMIF(Data_Modify!$Y$1:$Y$38,$B11&"_"&$D11&"_"&$O11,Data_Modify!R$1:R$38) -> 0 | S11: =SUMIF(Data_Modify!$Y$1:$Y$38,$B11&"_"&$D11&"_"&$O11,Data_Modify!S$1:S$38) -> 0 | U11: =IF(V11<=MAX(Data_Modify!$V:$V),IF(V11<>V10,INDEX(Data_Modify!$X:$X,MATCH(V11,Data_Modify!$V:$V,0),1),U10+1),0) -> 7 | V11: =IF(W10<X10,V10,V10+1) -> 2 | W11: =IF(V11<=MAX(Data_Modify!$V:$V),IF(V11<>V10,1,W10+1),0) -> 2 | X11: =SUMIF(Data_Modify!$V:$V,V11,Data_Modify!$W:$W) -> 2
A12: =IF(AND($U12<>0,$U12<=MAX(Data_Modify!$X$1:$X$38)),INDEX(Data_Modify!A$1:A$38,MATCH($U12,Data_Modify!$X$1:$X$38,0),1),"") -> Pinklao | B12: =IF(AND($U12<>0,$U12<=MAX(Data_Modify!$X$1:$X$38)),INDEX(Data_Modify!B$1:B$38,MATCH($U12,Data_Modify!$X$1:$X$38,0),1),"") -> Chokdee | C12: =IF(AND($U12<>0,$U12<=MAX(Data_Modify!$X$1:$X$38)),INDEX(Data_Modify!C$1:C$38,MATCH($U12,Data_Modify!$X$1:$X$38,0),1),"") -> IM | D12: =IF(AND($U12<>0,$U12<=MAX(Data_Modify!$X$1:$X$38)),INDEX(Data_Modify!D$1:D$38,MATCH($U12,Data_Modify!$X$1:$X$38,0),1),"") -> HHP | E12: =IF(AND($U12<>0,$U12<=MAX(Data_Modify!$X$1:$X$38)),INDEX(Data_Modify!E$1:E$38,MATCH($U12,Data_Modify!$X$1:$X$38,0),1),"") -> A | F12: =IF(AND($U12<>0,$U12<=MAX(Data_Modify!$X$1:$X$38)),INDEX(Data_Modify!F$1:F$38,MATCH($U12,Data_Modify!$X$1:$X$38,0),1),"") -> PREMIUM MT | G12: =IF(OR($B11<>$B12,$D11<>$D12),SUMIF(Data_Modify!$Y$1:$Y$38,$B12&"_"&$D12&"_"&$O12,Data_Modify!G$1:G$38),0) -> 3126560 | H12: =IF(OR($B11<>$B12,$D11<>$D12),SUMIF(Data_Modify!$Y$1:$Y$38,$B12&"_"&$D12&"_"&$O12,Data_Modify!H$1:H$38),0) -> 3376650 | I12: =IF(OR($B11<>$B12,$D11<>$D12),SUMIF(Data_Modify!$Y$1:$Y$38,$B12&"_"&$D12&"_"&$O12,Data_Modify!I$1:I$38),0) -> 2810380 | J12: =IF(OR($B11<>$B12,$D11<>$D12),SUMIF(Data_Modify!$Y$1:$Y$38,$B12&"_"&$D12&"_"&$O12,Data_Modify!J$1:J$38),0) -> 300 | K12: =IF(OR($B11<>$B12,$D11<>$D12),SUMIF(Data_Modify!$Y$1:$Y$38,$B12&"_"&$D12&"_"&$O12,Data_Modify!K$1:K$38),0) -> 314 | L12: =IF(OR($B11<>$B12,$D11<>$D12),SUMIF(Data_Modify!$Y$1:$Y$38,$B12&"_"&$D12&"_"&$O12,Data_Modify!L$1:L$38),0) -> 254 | M12: =IF(OR($B11<>$B12,$D11<>$D12),SUMIF(Data_Modify!$Y$1:$Y$38,$B12&"_"&$D12&"_"&$O12,Data_Modify!M$1:M$38),0) -> 0.591 | N12: =IF(OR($B11<>$B12,$D11<>$D12),SUMIF(Data_Modify!$Y$1:$Y$38,$B12&"_"&$D12&"_"&$O12,Data_Modify!N$1:N$38),0) -> 18 | O12: =IF(AND($U12<>0,$U12<=MAX(Data_Modify!$X$1:$X$38)),INDEX(Data_Modify!O$1:O$38,MATCH($U12,Data_Modify!$X$1:$X$38,0),1),"") -> MS.PRAPATSORN | P12: =IF(AND($U12<>0,$U12<=MAX(Data_Modify!$X$1:$X$38)),INDEX(Data_Modify!P$1:P$38,MATCH($U12,Data_Modify!$X$1:$X$38,0),1),"") -> A | Q12: =SUMIF(Data_Modify!$Y$1:$Y$38,$B12&"_"&$D12&"_"&$O12,Data_Modify!Q$1:Q$38) -> 2901250 | R12: =SUMIF(Data_Modify!$Y$1:$Y$38,$B12&"_"&$D12&"_"&$O12,Data_Modify!R$1:R$38) -> 3167240 | S12: =SUMIF(Data_Modify!$Y$1:$Y$38,$B12&"_"&$D12&"_"&$O12,Data_Modify!S$1:S$38) -> 3438530 | U12: =IF(V12<=MAX(Data_Modify!$V:$V),IF(V12<>V11,INDEX(Data_Modify!$X:$X,MATCH(V12,Data_Modify!$V:$V,0),1),U11+1),0) -> 8 | V12: =IF(W11<X11,V11,V11+1) -> 3 | W12: =IF(V12<=MAX(Data_Modify!$V:$V),IF(V12<>V11,1,W11+1),0) -> 1 | X12: =SUMIF(Data_Modify!$V:$V,V12,Data_Modify!$W:$W) -> 9
A13: =IF(AND($U13<>0,$U13<=MAX(Data_Modify!$X$1:$X$38)),INDEX(Data_Modify!A$1:A$38,MATCH($U13,Data_Modify!$X$1:$X$38,0),1),"") -> Pinklao | B13: =IF(AND($U13<>0,$U13<=MAX(Data_Modify!$X$1:$X$38)),INDEX(Data_Modify!B$1:B$38,MATCH($U13,Data_Modify!$X$1:$X$38,0),1),"") -> Chokdee | C13: =IF(AND($U13<>0,$U13<=MAX(Data_Modify!$X$1:$X$38)),INDEX(Data_Modify!C$1:C$38,MATCH($U13,Data_Modify!$X$1:$X$38,0),1),"") -> CE | D13: =IF(AND($U13<>0,$U13<=MAX(Data_Modify!$X$1:$X$38)),INDEX(Data_Modify!D$1:D$38,MATCH($U13,Data_Modify!$X$1:$X$38,0),1),"") -> AV | E13: =IF(AND($U13<>0,$U13<=MAX(Data_Modify!$X$1:$X$38)),INDEX(Data_Modify!E$1:E$38,MATCH($U13,Data_Modify!$X$1:$X$38,0),1),"") -> A | F13: =IF(AND($U13<>0,$U13<=MAX(Data_Modify!$X$1:$X$38)),INDEX(Data_Modify!F$1:F$38,MATCH($U13,Data_Modify!$X$1:$X$38,0),1),"") -> PREMIUM MT | G13: =IF(OR($B12<>$B13,$D12<>$D13),SUMIF(Data_Modify!$Y$1:$Y$38,$B13&"_"&$D13&"_"&$O13,Data_Modify!G$1:G$38),0) -> 10256822 | H13: =IF(OR($B12<>$B13,$D12<>$D13),SUMIF(Data_Modify!$Y$1:$Y$38,$B13&"_"&$D13&"_"&$O13,Data_Modify!H$1:H$38),0) -> 6091077 | I13: =IF(OR($B12<>$B13,$D12<>$D13),SUMIF(Data_Modify!$Y$1:$Y$38,$B13&"_"&$D13&"_"&$O13,Data_Modify!I$1:I$38),0) -> 4209539 | J13: =IF(OR($B12<>$B13,$D12<>$D13),SUMIF(Data_Modify!$Y$1:$Y$38,$B13&"_"&$D13&"_"&$O13,Data_Modify!J$1:J$38),0) -> 436 | K13: =IF(OR($B12<>$B13,$D12<>$D13),SUMIF(Data_Modify!$Y$1:$Y$38,$B13&"_"&$D13&"_"&$O13,Data_Modify!K$1:K$38),0) -> 211 | L13: =IF(OR($B12<>$B13,$D12<>$D13),SUMIF(Data_Modify!$Y$1:$Y$38,$B13&"_"&$D13&"_"&$O13,Data_Modify!L$1:L$38),0) -> 165 | M13: =IF(OR($B12<>$B13,$D12<>$D13),SUMIF(Data_Modify!$Y$1:$Y$38,$B13&"_"&$D13&"_"&$O13,Data_Modify!M$1:M$38),0) -> 0.905 | N13: =IF(OR($B12<>$B13,$D12<>$D13),SUMIF(Data_Modify!$Y$1:$Y$38,$B13&"_"&$D13&"_"&$O13,Data_Modify!N$1:N$38),0) -> 44 | O13: =IF(AND($U13<>0,$U13<=MAX(Data_Modify!$X$1:$X$38)),INDEX(Data_Modify!O$1:O$38,MATCH($U13,Data_Modify!$X$1:$X$38,0),1),"") -> MR.CHATCHAI | P13: =IF(AND($U13<>0,$U13<=MAX(Data_Modify!$X$1:$X$38)),INDEX(Data_Modify!P$1:P$38,MATCH($U13,Data_Modify!$X$1:$X$38,0),1),"") -> B | Q13: =SUMIF(Data_Modify!$Y$1:$Y$38,$B13&"_"&$D13&"_"&$O13,Data_Modify!Q$1:Q$38) -> 3476894 | R13: =SUMIF(Data_Modify!$Y$1:$Y$38,$B13&"_"&$D13&"_"&$O13,Data_Modify!R$1:R$38) -> 4820554 | S13: =SUMIF(Data_Modify!$Y$1:$Y$38,$B13&"_"&$D13&"_"&$O13,Data_Modify!S$1:S$38) -> 5928012 | U13: =IF(V13<=MAX(Data_Modify!$V:$V),IF(V13<>V12,INDEX(Data_Modify!$X:$X,MATCH(V13,Data_Modify!$V:$V,0),1),U12+1),0) -> 9 | V13: =IF(W12<X12,V12,V12+1) -> 3 | W13: =IF(V13<=MAX(Data_Modify!$V:$V),IF(V13<>V12,1,W12+1),0) -> 2 | X13: =SUMIF(Data_Modify!$V:$V,V13,Data_Modify!$W:$W) -> 9
A14: =IF(AND($U14<>0,$U14<=MAX(Data_Modify!$X$1:$X$38)),INDEX(Data_Modify!A$1:A$38,MATCH($U14,Data_Modify!$X$1:$X$38,0),1),"") -> Pinklao | B14: =IF(AND($U14<>0,$U14<=MAX(Data_Modify!$X$1:$X$38)),INDEX(Data_Modify!B$1:B$38,MATCH($U14,Data_Modify!$X$1:$X$38,0),1),"") -> Chokdee | C14: =IF(AND($U14<>0,$U14<=MAX(Data_Modify!$X$1:$X$38)),INDEX(Data_Modify!C$1:C$38,MATCH($U14,Data_Modify!$X$1:$X$38,0),1),"") -> CE | D14: =IF(AND($U14<>0,$U14<=MAX(Data_Modify!$X$1:$X$38)),INDEX(Data_Modify!D$1:D$38,MATCH($U14,Data_Modify!$X$1:$X$38,0),1),"") -> AV | E14: =IF(AND($U14<>0,$U14<=MAX(Data_Modify!$X$1:$X$38)),INDEX(Data_Modify!E$1:E$38,MATCH($U14,Data_Modify!$X$1:$X$38,0),1),"") -> A | F14: =IF(AND($U14<>0,$U14<=MAX(Data_Modify!$X$1:$X$38)),INDEX(Data_Modify!F$1:F$38,MATCH($U14,Data_Modify!$X$1:$X$38,0),1),"") -> PREMIUM MT | G14: =IF(OR($B13<>$B14,$D13<>$D14),SUMIF(Data_Modify!$Y$1:$Y$38,$B14&"_"&$D14&"_"&$O14,Data_Modify!G$1:G$38),0) -> 0 | H14: =IF(OR($B13<>$B14,$D13<>$D14),SUMIF(Data_Modify!$Y$1:$Y$38,$B14&"_"&$D14&"_"&$O14,Data_Modify!H$1:H$38),0) -> 0 | I14: =IF(OR($B13<>$B14,$D13<>$D14),SUMIF(Data_Modify!$Y$1:$Y$38,$B14&"_"&$D14&"_"&$O14,Data_Modify!I$1:I$38),0) -> 0 | J14: =IF(OR($B13<>$B14,$D13<>$D14),SUMIF(Data_Modify!$Y$1:$Y$38,$B14&"_"&$D14&"_"&$O14,Data_Modify!J$1:J$38),0) -> 0 | K14: =IF(OR($B13<>$B14,$D13<>$D14),SUMIF(Data_Modify!$Y$1:$Y$38,$B14&"_"&$D14&"_"&$O14,Data_Modify!K$1:K$38),0) -> 0 | L14: =IF(OR($B13<>$B14,$D13<>$D14),SUMIF(Data_Modify!$Y$1:$Y$38,$B14&"_"&$D14&"_"&$O14,Data_Modify!L$1:L$38),0) -> 0 | M14: =IF(OR($B13<>$B14,$D13<>$D14),SUMIF(Data_Modify!$Y$1:$Y$38,$B14&"_"&$D14&"_"&$O14,Data_Modify!M$1:M$38),0) -> 0 | N14: =IF(OR($B13<>$B14,$D13<>$D14),SUMIF(Data_Modify!$Y$1:$Y$38,$B14&"_"&$D14&"_"&$O14,Data_Modify!N$1:N$38),0) -> 0 | O14: =IF(AND($U14<>0,$U14<=MAX(Data_Modify!$X$1:$X$38)),INDEX(Data_Modify!O$1:O$38,MATCH($U14,Data_Modify!$X$1:$X$38,0),1),"") -> MR.SUCHART | P14: =IF(AND($U14<>0,$U14<=MAX(Data_Modify!$X$1:$X$38)),INDEX(Data_Modify!P$1:P$38,MATCH($U14,Data_Modify!$X$1:$X$38,0),1),"") -> A | Q14: =SUMIF(Data_Modify!$Y$1:$Y$38,$B14&"_"&$D14&"_"&$O14,Data_Modify!Q$1:Q$38) -> 3476894 | R14: =SUMIF(Data_Modify!$Y$1:$Y$38,$B14&"_"&$D14&"_"&$O14,Data_Modify!R$1:R$38) -> 4820554 | S14: =SUMIF(Data_Modify!$Y$1:$Y$38,$B14&"_"&$D14&"_"&$O14,Data_Modify!S$1:S$38) -> 5928012 | U14: =IF(V14<=MAX(Data_Modify!$V:$V),IF(V14<>V13,INDEX(Data_Modify!$X:$X,MATCH(V14,Data_Modify!$V:$V,0),1),U13+1),0) -> 10 | V14: =IF(W13<X13,V13,V13+1) -> 3 | W14: =IF(V14<=MAX(Data_Modify!$V:$V),IF(V14<>V13,1,W13+1),0) -> 3 | X14: =SUMIF(Data_Modify!$V:$V,V14,Data_Modify!$W:$W) -> 9
A15: =IF(AND($U15<>0,$U15<=MAX(Data_Modify!$X$1:$X$38)),INDEX(Data_Modify!A$1:A$38,MATCH($U15,Data_Modify!$X$1:$X$38,0),1),"") -> Pinklao | B15: =IF(AND($U15<>0,$U15<=MAX(Data_Modify!$X$1:$X$38)),INDEX(Data_Modify!B$1:B$38,MATCH($U15,Data_Modify!$X$1:$X$38,0),1),"") -> Chokdee | C15: =IF(AND($U15<>0,$U15<=MAX(Data_Modify!$X$1:$X$38)),INDEX(Data_Modify!C$1:C$38,MATCH($U15,Data_Modify!$X$1:$X$38,0),1),"") -> CE | D15: =IF(AND($U15<>0,$U15<=MAX(Data_Modify!$X$1:$X$38)),INDEX(Data_Modify!D$1:D$38,MATCH($U15,Data_Modify!$X$1:$X$38,0),1),"") -> AV | E15: =IF(AND($U15<>0,$U15<=MAX(Data_Modify!$X$1:$X$38)),INDEX(Data_Modify!E$1:E$38,MATCH($U15,Data_Modify!$X$1:$X$38,0),1),"") -> A | F15: =IF(AND($U15<>0,$U15<=MAX(Data_Modify!$X$1:$X$38)),INDEX(Data_Modify!F$1:F$38,MATCH($U15,Data_Modify!$X$1:$X$38,0),1),"") -> PREMIUM MT | G15: =IF(OR($B14<>$B15,$D14<>$D15),SUMIF(Data_Modify!$Y$1:$Y$38,$B15&"_"&$D15&"_"&$O15,Data_Modify!G$1:G$38),0) -> 0 | H15: =IF(OR($B14<>$B15,$D14<>$D15),SUMIF(Data_Modify!$Y$1:$Y$38,$B15&"_"&$D15&"_"&$O15,Data_Modify!H$1:H$38),0) -> 0 | I15: =IF(OR($B14<>$B15,$D14<>$D15),SUMIF(Data_Modify!$Y$1:$Y$38,$B15&"_"&$D15&"_"&$O15,Data_Modify!I$1:I$38),0) -> 0 | J15: =IF(OR($B14<>$B15,$D14<>$D15),SUMIF(Data_Modify!$Y$1:$Y$38,$B15&"_"&$D15&"_"&$O15,Data_Modify!J$1:J$38),0) -> 0 | K15: =IF(OR($B14<>$B15,$D14<>$D15),SUMIF(Data_Modify!$Y$1:$Y$38,$B15&"_"&$D15&"_"&$O15,Data_Modify!K$1:K$38),0) -> 0 | L15: =IF(OR($B14<>$B15,$D14<>$D15),SUMIF(Data_Modify!$Y$1:$Y$38,$B15&"_"&$D15&"_"&$O15,Data_Modify!L$1:L$38),0) -> 0 | M15: =IF(OR($B14<>$B15,$D14<>$D15),SUMIF(Data_Modify!$Y$1:$Y$38,$B15&"_"&$D15&"_"&$O15,Data_Modify!M$1:M$38),0) -> 0 | N15: =IF(OR($B14<>$B15,$D14<>$D15),SUMIF(Data_Modify!$Y$1:$Y$38,$B15&"_"&$D15&"_"&$O15,Data_Modify!N$1:N$38),0) -> 0 | O15: =IF(AND($U15<>0,$U15<=MAX(Data_Modify!$X$1:$X$38)),INDEX(Data_Modify!O$1:O$38,MATCH($U15,Data_Modify!$X$1:$X$38,0),1),"") -> MR.PONCHAI | P15: =IF(AND($U15<>0,$U15<=MAX(Data_Modify!$X$1:$X$38)),INDEX(Data_Modify!P$1:P$38,MATCH($U15,Data_Modify!$X$1:$X$38,0),1),"") -> D | Q15: =SUMIF(Data_Modify!$Y$1:$Y$38,$B15&"_"&$D15&"_"&$O15,Data_Modify!Q$1:Q$38) -> 894600 | R15: =SUMIF(Data_Modify!$Y$1:$Y$38,$B15&"_"&$D15&"_"&$O15,Data_Modify!R$1:R$38) -> 661160 | S15: =SUMIF(Data_Modify!$Y$1:$Y$38,$B15&"_"&$D15&"_"&$O15,Data_Modify!S$1:S$38) -> 825892 | U15: =IF(V15<=MAX(Data_Modify!$V:$V),IF(V15<>V14,INDEX(Data_Modify!$X:$X,MATCH(V15,Data_Modify!$V:$V,0),1),U14+1),0) -> 11 | V15: =IF(W14<X14,V14,V14+1) -> 3 | W15: =IF(V15<=MAX(Data_Modify!$V:$V),IF(V15<>V14,1,W14+1),0) -> 4 | X15: =SUMIF(Data_Modify!$V:$V,V15,Data_Modify!$W:$W) -> 9
A16: =IF(AND($U16<>0,$U16<=MAX(Data_Modify!$X$1:$X$38)),INDEX(Data_Modify!A$1:A$38,MATCH($U16,Data_Modify!$X$1:$X$38,0),1),"") -> Pinklao | B16: =IF(AND($U16<>0,$U16<=MAX(Data_Modify!$X$1:$X$38)),INDEX(Data_Modify!B$1:B$38,MATCH($U16,Data_Modify!$X$1:$X$38,0),1),"") -> Chokdee | C16: =IF(AND($U16<>0,$U16<=MAX(Data_Modify!$X$1:$X$38)),INDEX(Data_Modify!C$1:C$38,MATCH($U16,Data_Modify!$X$1:$X$38,0),1),"") -> CE | D16: =IF(AND($U16<>0,$U16<=MAX(Data_Modify!$X$1:$X$38)),INDEX(Data_Modify!D$1:D$38,MATCH($U16,Data_Modify!$X$1:$X$38,0),1),"") -> AV | E16: =IF(AND($U16<>0,$U16<=MAX(Data_Modify!$X$1:$X$38)),INDEX(Data_Modify!E$1:E$38,MATCH($U16,Data_Modify!$X$1:$X$38,0),1),"") -> A | F16: =IF(AND($U16<>0,$U16<=MAX(Data_Modify!$X$1:$X$38)),INDEX(Data_Modify!F$1:F$38,MATCH($U16,Data_Modify!$X$1:$X$38,0),1),"") -> PREMIUM MT | G16: =IF(OR($B15<>$B16,$D15<>$D16),SUMIF(Data_Modify!$Y$1:$Y$38,$B16&"_"&$D16&"_"&$O16,Data_Modify!G$1:G$38),0) -> 0 | H16: =IF(OR($B15<>$B16,$D15<>$D16),SUMIF(Data_Modify!$Y$1:$Y$38,$B16&"_"&$D16&"_"&$O16,Data_Modify!H$1:H$38),0) -> 0 | I16: =IF(OR($B15<>$B16,$D15<>$D16),SUMIF(Data_Modify!$Y$1:$Y$38,$B16&"_"&$D16&"_"&$O16,Data_Modify!I$1:I$38),0) -> 0 | J16: =IF(OR($B15<>$B16,$D15<>$D16),SUMIF(Data_Modify!$Y$1:$Y$38,$B16&"_"&$D16&"_"&$O16,Data_Modify!J$1:J$38),0) -> 0 | K16: =IF(OR($B15<>$B16,$D15<>$D16),SUMIF(Data_Modify!$Y$1:$Y$38,$B16&"_"&$D16&"_"&$O16,Data_Modify!K$1:K$38),0) -> 0 | L16: =IF(OR($B15<>$B16,$D15<>$D16),SUMIF(Data_Modify!$Y$1:$Y$38,$B16&"_"&$D16&"_"&$O16,Data_Modify!L$1:L$38),0) -> 0 | M16: =IF(OR($B15<>$B16,$D15<>$D16),SUMIF(Data_Modify!$Y$1:$Y$38,$B16&"_"&$D16&"_"&$O16,Data_Modify!M$1:M$38),0) -> 0 | N16: =IF(OR($B15<>$B16,$D15<>$D16),SUMIF(Data_Modify!$Y$1:$Y$38,$B16&"_"&$D16&"_"&$O16,Data_Modify!N$1:N$38),0) -> 0 | O16: =IF(AND($U16<>0,$U16<=MAX(Data_Modify!$X$1:$X$38)),INDEX(Data_Modify!O$1:O$38,MATCH($U16,Data_Modify!$X$1:$X$38,0),1),"") -> MR.SANGA | P16: =IF(AND($U16<>0,$U16<=MAX(Data_Modify!$X$1:$X$38)),INDEX(Data_Modify!P$1:P$38,MATCH($U16,Data_Modify!$X$1:$X$38,0),1),"") -> N | Q16: =SUMIF(Data_Modify!$Y$1:$Y$38,$B16&"_"&$D16&"_"&$O16,Data_Modify!Q$1:Q$38) -> 894600 | R16: =SUMIF(Data_Modify!$Y$1:$Y$38,$B16&"_"&$D16&"_"&$O16,Data_Modify!R$1:R$38) -> 661160 | S16: =SUMIF(Data_Modify!$Y$1:$Y$38,$B16&"_"&$D16&"_"&$O16,Data_Modify!S$1:S$38) -> 825892 | U16: =IF(V16<=MAX(Data_Modify!$V:$V),IF(V16<>V15,INDEX(Data_Modify!$X:$X,MATCH(V16,Data_Modify!$V:$V,0),1),U15+1),0) -> 12 | V16: =IF(W15<X15,V15,V15+1) -> 3 | W16: =IF(V16<=MAX(Data_Modify!$V:$V),IF(V16<>V15,1,W15+1),0) -> 5 | X16: =SUMIF(Data_Modify!$V:$V,V16,Data_Modify!$W:$W) -> 9
