Workbook

Sheet main
J3: ขออนุญาตออกแบบใหม่
B4: ลำดับ | C4: รายการ | D4: จำนวน | E4: ราคา/หน่วย | F4: รวมราคา | J4: ปรับชีท data ให้จัดเก็บข้อมูลในลักษณะ | O4: =data!A3 -> เสื้อแขนสั้น เสื้อกล้าม
B5: =IF(COUNTIF(C$5:C5,C5)=1,MAX(B4:B$4)+1,"") -> 1 | C5: ผ้าห่ม (ใหญ่) | D5: 1 | E5: =IF(ISNA(VLOOKUP(C5,data!$A$1:$C$34,3,0)),"",VLOOKUP(C5,data!$A$1:$C$34,3,0)) -> 32 | F5: =IF(E5="",0,E5*D5) -> 32 | J5: การจัดเก็บฐานข้อมูล | O5: =data!A4 -> เสื้อคอปก เสื้อเชิ้ต แขนสั้น
B6: =IF(COUNTIF(C$5:C6,C6)=1,MAX(B$4:B5)+1,"") -> 2 | C6: เสื้อแฟชั่น ช/ญ | D6: 2 | E6: =IF(ISNA(VLOOKUP(C6,data!$A$1:$C$34,3,0)),"",VLOOKUP(C6,data!$A$1:$C$34,3,0)) -> 6 | F6: =IF(E6="",0,E6*D6) -> 12 | J6: ชีท main เรียกข้อมูลจากชีท data มาใช้ | O6: =data!A5 -> เสื้อแขนยาว เสื้อแขน3ส่วน
B7: =IF(COUNTIF(C$5:C7,C7)=1,MAX(B$4:B6)+1,"") -> 3 | C7: รองเท้า กลาง | D7: 1 | E7: =IF(ISNA(VLOOKUP(C7,data!$A$1:$C$34,3,0)),"",VLOOKUP(C7,data!$A$1:$C$34,3,0)) -> 24 | F7: =IF(E7="",0,E7*D7) -> 24 | J7: เพื่อป้องกันการพิมพ์ข้อมูลรายการพิมพ์ | O7: =data!A6 -> เสื้อ กางเกง กระโปรง เด็ก
B8: =IF(COUNTIF(C$5:C8,C8)=1,MAX(B$4:B7)+1,"") -> 4 | C8: กางเกงขาสั้น | D8: 1 | E8: =IF(ISNA(VLOOKUP(C8,data!$A$1:$C$34,3,0)),"",VLOOKUP(C8,data!$A$1:$C$34,3,0)) -> 7 | F8: =IF(E8="",0,E8*D8) -> 7 | J8: จึงควรจัดการตรวจสอบข้อมูลแบบรายการ | O8: =data!A7 -> เสื้อกันหนาว
B9: =IF(COUNTIF(C$5:C9,C9)=1,MAX(B$4:B8)+1,"") -> 5 | C9: ผ้าเช็ดตัว | D9: 1 | E9: =IF(ISNA(VLOOKUP(C9,data!$A$1:$C$34,3,0)),"",VLOOKUP(C9,data!$A$1:$C$34,3,0)) -> 21 | F9: =IF(E9="",0,E9*D9) -> 21 | J9: ในเซล c5 ถึง c14 | O9: =data!A8 -> เสื้อแฟชั่น ช/ญ
B10: =IF(COUNTIF(C$5:C10,C10)=1,MAX(B$4:B9)+1,"") -> 6 | C10: เสื้อกันหนาว | D10: 1 | E10: =IF(ISNA(VLOOKUP(C10,data!$A$1:$C$34,3,0)),"",VLOOKUP(C10,data!$A$1:$C$34,3,0)) -> 5 | F10: =IF(E10="",0,E10*D10) -> 5 | O10: =data!A9 -> กางเกงขาสั้น
B11: =IF(COUNTIF(C$5:C11,C11)=1,MAX(B$4:B10)+1,"") -> 7 | C11: ชุดกระโปรง/กางเกง (สั้น) | D11: 1 | E11: =IF(ISNA(VLOOKUP(C11,data!$A$1:$C$34,3,0)),"",VLOOKUP(C11,data!$A$1:$C$34,3,0)) -> 14 | F11: =IF(E11="",0,E11*D11) -> 14 | O11: =data!A10 -> กางเกงขายาว
B12: =IF(COUNTIF(C$5:C12,C12)=1,MAX(B$4:B11)+1,"") -> 8 | C12: กางเกงแฟชั่น ช/ญ | D12: 1 | E12: =IF(ISNA(VLOOKUP(C12,data!$A$1:$C$34,3,0)),"",VLOOKUP(C12,data!$A$1:$C$34,3,0)) -> 10 | F12: =IF(E12="",0,E12*D12) -> 10 | O12: =data!A11 -> กางเกงยีนส์
B13: =IF(COUNTIF(C$5:C13,C13)=1,MAX(B$4:B12)+1,"") | C13: ผ้าเช็ดตัว | D13: 2 | E13: =IF(ISNA(VLOOKUP(C13,data!$A$1:$C$34,3,0)),"",VLOOKUP(C13,data!$A$1:$C$34,3,0)) -> 21 | F13: =IF(E13="",0,E13*D13) -> 42 | O13: =data!A12 -> กางเกงแฟชั่น ช/ญ
B14: =IF(COUNTIF(C$5:C14,C14)=1,MAX(B$4:B13)+1,"") | E14: =IF(ISNA(VLOOKUP(C14,data!A10:C43,3,0)),"",VLOOKUP(C14,data!A10:C43,3,0)) | F14: =IF(E14="",0,E14*D14) -> 0 | O14: =data!A13 -> ตุ๊กตา เล็ก
E15: รวม | F15: =SUM(F5:F14) -> 167 | O15: =data!A14 -> ตุ๊กตา กลาง
O16: =data!A15 -> ตุ๊กตา ใหญ่
O17: =data!A16 -> ชุดกระโปรง/กางเกง (สั้น)
O18: =data!A17 -> ชุดกระโปรง/กางเกง (ยาว)
O19: =data!A18 -> ชุดกระโปรงแฟชั่น/กางเกง ช/ญ
O20: =data!A19 -> ชุดกระโปรงไหมเทียม
O21: =data!A20 -> ชุดสูทแขนสั้น/ยาว ช/ญ
O22: =data!A21 -> ชุดไนลอน ช/ญ
O23: =data!A22 -> ผ้าเช็ดหน้า
O24: =data!A23 -> ผ้าเช็ดตัว
O25: =data!A24 -> ชุดชั้นใน ช/ญ
O26: =data!A25 -> ถุงเท้า
O27: =data!A26 -> รองเท้า กลาง
... O35: =data!A34 -> ผ้าห่ม (ใหญ่)

Sheet data
A1: ซัก - รีด
A2: รายการ | B2: ประเภท | C2: ราคา
A3: เสื้อแขนสั้น เสื้อกล้าม | B3: เสื้อ | C3: 5
A4: เสื้อคอปก เสื้อเชิ้ต แขนสั้น | B4: เสื้อ | C4: 2
A5: เสื้อแขนยาว เสื้อแขน3ส่วน | B5: เสื้อ | C5: 10
A6: เสื้อ กางเกง กระโปรง เด็ก | B6: เสื้อ | C6: 4
A7: เสื้อกันหนาว | B7: เสื้อ | C7: 5
A8: เสื้อแฟชั่น ช/ญ | B8: เสื้อ | C8: 6
A9: กางเกงขาสั้น | B9: กางเกง | C9: 7
A10: กางเกงขายาว | B10: กางเกง | C10: 8
A11: กางเกงยีนส์ | B11: กางเกง | C11: 9
A12: กางเกงแฟชั่น ช/ญ | B12: กางเกง | C12: 10
A13: ตุ๊กตา เล็ก | B13: ตุ๊กตา | C13: 11
A14: ตุ๊กตา กลาง | B14: ตุ๊กตา | C14: 12
... A34: ผ้าห่ม (ใหญ่) | B34: ชุดที่นอน | C34: 32
