Workbook

Sheet Data
B2: TA | C2: DETAIL | D2: PART | E2: PO | F2: MO
A3: 1 | B3: TA0009 | C3: PVC123 | D3: 117E 45710 | E3: DMT121143 | F3: 24070001
A4: 2 | B4: TA0010 | C4: PVC124 | D4: 117K 50750 | E4: DMT121144 | F4: 24070002
A5: 3 | B5: TA0013 | C5: PVC125 | D5: 117E 47210 | E5: DMT121145 | F5: 24070003
A6: 4 | B6: TA0372-C | C6: PVC126 | D6: PM060HH45 | E6: DMT121146 | F6: 24070004
A7: 5 | B7: TA0437 | C7: PVC127 | D7: PM060HH47 | E7: DMT121147 | F7: 24070005
A8: 6 | B8: TA0464-C | C8: PVC128 | D8: PM060HH48 | E8: DMT121148 | F8: 24070006
A9: 7 | B9: TA0667 | C9: PVC129 | D9: PM060HH33 | E9: DMT121149 | F9: 24070007
A10: 8 | B10: TA0675-C | C10: PVC130 | D10: PM060HH35 | E10: DMT121150 | F10: 24070008
A11: 9 | B11: TA0712-B | C11: PVC131 | D11: PM060HH37 | E11: DMT121151 | F11: 24070009
A12: 10 | B12: TA0722-D | C12: PVC132 | D12: PM060HH38 | E12: DMT121152 | F12: 24070010
A13: 11 | B13: TA0746 | C13: PVC133 | D13: PM060HH42 | E13: DMT121153 | F13: 24070011
A14: 12 | B14: TA0758-D | C14: PVC134 | D14: P05K1-40-100.. | E14: DMT121154 | F14: 24070012
... A34: 1.2 | B34: TA2796 | C34: PVC154 | D34: S-00011435 | E34: DMT121174 | F34: 24070032

Sheet Sheet1
S9: 1 | T9: 0
A17: No | B17: Goods Description | G17: Quantity | H17: Unit | I17: Helper1 | J17: helper2 | K17: helper3 | L17: Measurement (CM) | P17: =MAX(A21:A140) -> 30 | Q17: ใส่ข้อมูล (lot no. Q'ty Part no. Po no.) ตรงนี้เท่านั้น
A18: ลำดับที่ | B18: คำอธิบายสินค้า | G18: PER CARTON | I18: PER CARTON | J18: PER CARTON | K18: TOTAL | L18: ขนาด
R19: LOT NO. | S19: QTY | W19: Part no. | X19: Po no. | Y19: Total box
A21: =IF(W21="","",1) -> 1 | B21: =IF(W21="","",VLOOKUP(C22,Data!B:C,2,FALSE)) -> PVC123 | G21: =IF(W21="","",SUM(S22:S24)) -> 25000 | H21: =IF(W21="","","M.") -> M. | I21: =IF(W21="","",VLOOKUP(C22,Data!B:E,4,FALSE)) -> DMT121143 | J21: =IF(W21="","",VLOOKUP(C22,Data!B:F,5,FALSE)) -> 24070001 | K21: =IFERROR(IF(P22="","",J21*(P22+P23+P24)),"") -> 3.0087501e+08 | L21: =IF(W21="","","35.0 x 35.0 x 14.0") -> 35.0 x 35.0 x 14.0 | O21: 2000 M./BOX | V21: 1 | W21: =VLOOKUP(V21,Data!A:B,2,FALSE) -> TA0009 | X21: =VLOOKUP(V21,Data!A:F,5,FALSE) -> DMT121143 | Y21: =G21/2000 -> 12.5 | AA21: ="1"&IF(Y21=1,"","-"&AB21) -> 1-13 | AB21: =ROUNDUP(Y21,0) -> 13
B22: =IF(W21="","","PART NO :") -> PART NO : | C22: =IF(W21="","",W21) -> TA0009 | E22: =IF(C22="","",", "&VLOOKUP(C22,Data!B:D,3,FALSE)) -> , 117E 45710 | G22: =IF(W21="","","(2000 M./BOX)") -> (2000 M./BOX) | L22: =IF(W21="","","C/N "&AA21) -> C/N 1-13 | O22: 2000 M./BOX | P22: =S22/2000 -> 5 | Q22: BOX | R22: =VLOOKUP(V21,Data!A:F,6,FALSE) -> 24070001 | S22: 10000 | T22: M | V22: 1.1 | W22: =VLOOKUP(V22,Data!A:B,2,FALSE) -> TA2795
B23: =IF(W21="","","LOT NO:") -> LOT NO: | C23: =IF(W21="","",R22&IF(R23="","",","&R23&IF(R24="","",","&R24))) -> 24070001,24070001,24070032 | L23: =A21&"{1"&C22&"{2"&G21&"{3"&R22&"{4"&S22&"{5"&R23&"{6"&S23&"{7"&R24&"{8"&S24 -> 1{1TA0009{225000{324070001{410000{524070001{610000{724070032{85000 | O23: 2000 M./BOX | P23: =S23/2000 -> 5 | Q23: BOX | R23: 24070001 | S23: 10000 | T23: M | V23: 1.2 | W23: =VLOOKUP(V23,Data!A:B,2,FALSE) -> TA2796
B24: =IF(W21="","","PO.NO.") -> PO.NO. | C24: =IF(W21="","",X21) -> DMT121143 | D24: =IF(W21="","","(Cable from Bando Lao)") -> (Cable from Bando Lao) | P24: =S24/2000 -> 2.5 | Q24: BOX | R24: =VLOOKUP(V23,Data!A:F,6,FALSE) -> 24070032 | S24: 5000 | T24: M
A25: =IF(W25="","",2) -> 2 | B25: =IF(W25="","",VLOOKUP(C26,Data!B:C,2,FALSE)) -> PVC124 | G25: =IF(W25="","",SUM(S26:S28)) -> 20000 | H25: =IF(W25="","","M.") -> M. | I25: =IF(W25="","",VLOOKUP(C26,Data!B:E,4,FALSE)) -> DMT121144 | J25: =IF(W25="","",VLOOKUP(C26,Data!B:F,5,FALSE)) -> 24070002 | K25: =IFERROR(IF(P26="","",J25*(P26+P27+P28)),"") -> 240700020 | L25: =IF(W25="","","35.0 x 35.0 x 14.0") -> 35.0 x 35.0 x 14.0 | O25: 2000 M./BOX | V25: 2 | W25: =VLOOKUP(V25,Data!A:B,2,FALSE) -> TA0010 | X25: =VLOOKUP(V25,Data!A:F,5,FALSE) -> DMT121144 | Y25: =G25/2000 -> 10 | AA25: =AB21+1&IF(Y25=1,"","-"&AB25) -> 14-23 | AB25: =ROUNDUP(SUM($Y$21:Y25),0) -> 23
B26: =IF(W25="","","PART NO :") -> PART NO : | C26: =IF(W25="","",W25) -> TA0010 | E26: =IF(C26="","",", "&VLOOKUP(C26,Data!B:D,3,FALSE)) -> , 117K 50750 | G26: =IF(W25="","","(2000 M./BOX)") -> (2000 M./BOX) | L26: =IF(W25="","","C/N "&AA25) -> C/N 14-23 | O26: 2000 M./BOX | P26: =S26/2000 -> 10 | Q26: BOX | R26: =VLOOKUP(V25,Data!A:F,6,FALSE) -> 24070002 | S26: 20000 | T26: M | V26: 2.2
B27: =IF(W25="","","LOT NO:") -> LOT NO: | C27: =IF(W25="","",R26&IF(R27="","",","&R27&IF(R28="","",","&R28))) -> 24070002 | L27: =A25&"{1"&C26&"{2"&G25&"{3"&R26&"{4"&S26&"{5"&R27&"{6"&S27&"{7"&R28&"{8"&S28 -> 2{1TA0010{220000{324070002{420000{5{6{7{8 | O27: 2000 M./BOX | P27: =S27/2000 -> 0 | Q27: BOX | T27: M | V27: 2.3
B28: =IF(W25="","","PO.NO.") -> PO.NO. | C28: =IF(W25="","",X25) -> DMT121144 | D28: =IF(W25="","","(Cable from Bando Lao)") -> (Cable from Bando Lao) | P28: =S28/2000 -> 0 | Q28: BOX | T28: M
A29: =IF(W29="","",A25+1) -> 3 | B29: =IF(W29="","",VLOOKUP(C30,Data!B:C,2,FALSE)) -> PVC125 | G29: =IF(W29="","",SUM(S30:S32)) -> 30000 | H29: =IF(W29="","","M.") -> M. | I29: =IF(W29="","",VLOOKUP(C30,Data!B:E,4,FALSE)) -> DMT121145 | J29: =IF(W29="","",VLOOKUP(C30,Data!B:F,5,FALSE)) -> 24070003 | K29: =IFERROR(IF(P30="","",J29*(P30+P31+P32)),"") -> 361050045 | L29: =IF(W29="","","35.0 x 35.0 x 14.0") -> 35.0 x 35.0 x 14.0 | O29: 2000 M./BOX | V29: =V25+1 -> 3 | W29: =VLOOKUP(V29,Data!A:B,2,FALSE) -> TA0013 | X29: =VLOOKUP(V29,Data!A:F,5,FALSE) -> DMT121145 | Y29: =G29/2000 -> 15 | AA29: =AB25+1&IF(Y29=1,"","-"&AB29) -> 24-38 | AB29: =ROUNDUP(SUM($Y$21:Y29),0) -> 38
B30: =IF(W29="","","PART NO :") -> PART NO : | C30: =IF(W29="","",W29) -> TA0013 | E30: =IF(C30="","",", "&VLOOKUP(C30,Data!B:D,3,FALSE)) -> , 117E 47210 | G30: =IF(W29="","","(2000 M./BOX)") -> (2000 M./BOX) | L30: =IF(W29="","","C/N "&AA29) -> C/N 24-38 | O30: 2000 M./BOX | P30: =S30/2000 -> 15 | Q30: BOX | R30: =VLOOKUP(V29,Data!A:F,6,FALSE) -> 24070003 | S30: 30000 | T30: M
B31: =IF(W29="","","LOT NO:") -> LOT NO: | C31: =IF(W29="","",R30&IF(R31="","",","&R31&IF(R32="","",","&R32))) -> 24070003 | L31: =A29&"{1"&C30&"{2"&G29&"{3"&R30&"{4"&S30&"{5"&R31&"{6"&S31&"{7"&R32&"{8"&S32 -> 3{1TA0013{230000{324070003{430000{5{6{7{8 | O31: 2000 M./BOX | P31: =S31/2000 -> 0 | Q31: BOX | T31: M
B32: =IF(W29="","","PO.NO.") -> PO.NO. | C32: =IF(W29="","",X29) -> DMT121145 | D32: =IF(W29="","","(Cable from Bando Lao)") -> (Cable from Bando Lao) | P32: =S32/2000 -> 0 | Q32: BOX | T32: M
A33: =IF(W33="","",A29+1) -> 4 | B33: =IF(W33="","",VLOOKUP(C34,Data!B:C,2,FALSE)) -> PVC126 | G33: =IF(W33="","",SUM(S34:S36)) -> 500 | H33: =IF(W33="","","M.") -> M. | I33: =IF(W33="","",VLOOKUP(C34,Data!B:E,4,FALSE)) -> DMT121146 | J33: =IF(W33="","",VLOOKUP(C34,Data!B:F,5,FALSE)) -> 24070004 | K33: =IFERROR(IF(P34="","",J33*(P34+P35+P36)),"") -> 6017501 | L33: =IF(W33="","","35.0 x 35.0 x 14.0") -> 35.0 x 35.0 x 14.0 | O33: 2000 M./BOX | V33: =V29+1 -> 4 | W33: =VLOOKUP(V33,Data!A:B,2,FALSE) -> TA0372-C | X33: =VLOOKUP(V33,Data!A:F,5,FALSE) -> DMT121146 | Y33: =G33/2000 -> 0.25 | AA33: =AB29+1&IF(Y33=1,"","-"&AB33) -> 39-38 | AB33: =ROUNDUP(SUM($Y$21:Y33),0) -> 38
B34: =IF(W33="","","PART NO :") -> PART NO : | C34: =IF(W33="","",W33) -> TA0372-C | E34: =IF(C34="","",", "&VLOOKUP(C34,Data!B:D,3,FALSE)) -> , PM060HH45 | G34: =IF(W33="","","(2000 M./BOX)") -> (2000 M./BOX) | L34: =IF(W33="","","C/N "&AA33) -> C/N 39-38 | O34: 2000 M./BOX | P34: =S34/2000 -> 0.25 | Q34: BOX | R34: =VLOOKUP(V33,Data!A:F,6,FALSE) -> 24070004 | S34: 500 | T34: M
B35: =IF(W33="","","LOT NO:") -> LOT NO: | C35: =IF(W33="","",R34&IF(R35="","",","&R35&IF(R36="","",","&R36))) -> 24070004 | L35: =A33&"{1"&C34&"{2"&G33&"{3"&R34&"{4"&S34&"{5"&R35&"{6"&S35&"{7"&R36&"{8"&S36 -> 4{1TA0372-C{2500{324070004{4500{5{6{7{8 | O35: 2000 M./BOX | P35: =S35/2000 -> 0 | Q35: BOX | T35: M
B36: =IF(W33="","","PO.NO.") -> PO.NO. | C36: =IF(W33="","",X33) -> DMT121146 | D36: =IF(W33="","","(Cable from Bando Lao)") -> (Cable from Bando Lao) | P36: =S36/2000 -> 0 | Q36: BOX | T36: M
A37: =IF(W37="","",A33+1) -> 5 | B37: =IF(W37="","",VLOOKUP(C38,Data!B:C,2,FALSE)) -> PVC127 | G37: =IF(W37="","",SUM(S38:S40)) -> 5000 | H37: =IF(W37="","","M.") -> M. | I37: =IF(W37="","",VLOOKUP(C38,Data!B:E,4,FALSE)) -> DMT121147 | J37: =IF(W37="","",VLOOKUP(C38,Data!B:F,5,FALSE)) -> 24070005 | K37: =IFERROR(IF(P38="","",J37*(P38+P39+P40)),"") -> 60175012 | L37: =IF(W37="","","35.0 x 35.0 x 14.0") -> 35.0 x 35.0 x 14.0 | O37: 2000 M./BOX | V37: =V33+1 -> 5 | W37: =VLOOKUP(V37,Data!A:B,2,FALSE) -> TA0437 | X37: =VLOOKUP(V37,Data!A:F,5,FALSE) -> DMT121147 | Y37: =G37/2000 -> 2.5 | AA37: =AB33+1&IF(Y33=1,"","-"&AB37) -> 39-41 | AB37: =ROUNDUP(SUM($Y$21:Y37),0) -> 41
B38: =IF(W37="","","PART NO :") -> PART NO : | C38: =IF(W37="","",W37) -> TA0437 | E38: =IF(C38="","",", "&VLOOKUP(C38,Data!B:D,3,FALSE)) -> , PM060HH47 | G38: =IF(W37="","","(2000 M./BOX)") -> (2000 M./BOX) | L38: =IF(W37="","","C/N "&AA37) -> C/N 39-41 | O38: 2000 M./BOX | P38: =S38/2000 -> 2.5 | Q38: BOX | R38: =VLOOKUP(V37,Data!A:F,6,FALSE) -> 24070005 | S38: 5000 | T38: M
B39: =IF(W37="","","LOT NO:") -> LOT NO: | C39: =IF(W37="","",R38&IF(R39="","",","&R39&IF(R40="","",","&R40))) -> 24070005 | L39: =A37&"{1"&C38&"{2"&G37&"{3"&R38&"{4"&S38&"{5"&R39&"{6"&S39&"{7"&R40&"{8"&S40 -> 5{1TA0437{25000{324070005{45000{5{6{7{8 | O39: 2000 M./BOX | P39: =S39/2000 -> 0 | Q39: BOX | T39: M
B40: =IF(W37="","","PO.NO.") -> PO.NO. | C40: =IF(W37="","",X37) -> DMT121147 | D40: =IF(W37="","","(Cable from Bando Lao)") -> (Cable from Bando Lao) | P40: =S40/2000 -> 0 | Q40: BOX | T40: M
A41: =IF(W41="","",A37+1) -> 6 | B41: =IF(W41="","",VLOOKUP(C42,Data!B:C,2,FALSE)) -> PVC128 | G41: =IF(W41="","",SUM(S42:S44)) -> 10000 | H41: =IF(W41="","","M.") -> M. | I41: =IF(W41="","",VLOOKUP(C42,Data!B:E,4,FALSE)) -> DMT121148 | J41: =IF(W41="","",VLOOKUP(C42,Data!B:F,5,FALSE)) -> 24070006 | K41: =IFERROR(IF(P42="","",J41*(P42+P43+P44)),"") -> 120350030 | L41: =IF(W41="","","35.0 x 35.0 x 14.0") -> 35.0 x 35.0 x 14.0 | O41: 2000 M./BOX | V41: =V37+1 -> 6 | W41: =VLOOKUP(V41,Data!A:B,2,FALSE) -> TA0464-C | X41: =VLOOKUP(V41,Data!A:F,5,FALSE) -> DMT121148 | Y41: =G41/2000 -> 5 | AA41: =AB37+1&IF(Y41=1,"","-"&AB41) -> 42-46 | AB41: =ROUNDUP(SUM($Y$21:Y41),0) -> 46
B42: =IF(W41="","","PART NO :") -> PART NO : | C42: =IF(W41="","",W41) -> TA0464-C | E42: =IF(C42="","",", "&VLOOKUP(C42,Data!B:D,3,FALSE)) -> , PM060HH48 | G42: =IF(W41="","","(2000 M./BOX)") -> (2000 M./BOX) | L42: =IF(W41="","","C/N "&AA41) -> C/N 42-46 | O42: 2000 M./BOX | P42: =S42/2000 -> 5 | Q42: BOX | R42: =VLOOKUP(V41,Data!A:F,6,FALSE) -> 24070006 | S42: 10000 | T42: M
B43: =IF(W41="","","LOT NO:") -> LOT NO: | C43: =IF(W41="","",R42&IF(R43="","",","&R43&IF(R44="","",","&R44))) -> 24070006 | L43: =A41&"{1"&C42&"{2"&G41&"{3"&R42&"{4"&S42&"{5"&R43&"{6"&S43&"{7"&R44&"{8"&S44 -> 6{1TA0464-C{210000{324070006{410000{5{6{7{8 | O43: 2000 M./BOX | P43: =S43/2000 -> 0 | Q43: BOX | T43: M
B44: =IF(W41="","","PO.NO.") -> PO.NO. | C44: =IF(W41="","",X41) -> DMT121148 | D44: =IF(W41="","","(Cable from Bando Lao)") -> (Cable from Bando Lao) | P44: =S44/2000 -> 0 | Q44: BOX | T44: M
A45: =IF(W45="","",A41+1) -> 7 | B45: =IF(W45="","",VLOOKUP(C46,Data!B:C,2,FALSE)) -> PVC129 | G45: =IF(W45="","",SUM(S46:S48)) -> 10000 | H45: =IF(W45="","","M.") -> M. | I45: =IF(W45="","",VLOOKUP(C46,Data!B:E,4,FALSE)) -> DMT121149 | J45: =IF(W45="","",VLOOKUP(C46,Data!B:F,5,FALSE)) -> 24070007 | K45: =IFERROR(IF(P46="","",J45*(P46+P47+P48)),"") -> 120350035 | L45: =IF(W45="","","35.0 x 35.0 x 14.0") -> 35.0 x 35.0 x 14.0 | O45: 2000 M./BOX | V45: =V41+1 -> 7 | W45: =VLOOKUP(V45,Data!A:B,2,FALSE) -> TA0667 | X45: =VLOOKUP(V45,Data!A:F,5,FALSE) -> DMT121149 | Y45: =G45/2000 -> 5 | AA45: =AB41+1&IF(Y45=1,"","-"&AB45) -> 47-51 | AB45: =ROUNDUP(SUM($Y$21:Y45),0) -> 51
B46: =IF(W45="","","PART NO :") -> PART NO : | C46: =IF(W45="","",W45) -> TA0667 | E46: =IF(C46="","",", "&VLOOKUP(C46,Data!B:D,3,FALSE)) -> , PM060HH33 | G46: =IF(W45="","","(2000 M./BOX)") -> (2000 M./BOX) | L46: =IF(W45="","","C/N "&AA45) -> C/N 47-51 | O46: 2000 M./BOX | P46: =S46/2000 -> 5 | Q46: BOX | R46: =VLOOKUP(V45,Data!A:F,6,FALSE) -> 24070007 | S46: 10000 | T46: M
B47: =IF(W45="","","LOT NO:") -> LOT NO: | C47: =IF(W45="","",R46&IF(R47="","",","&R47&IF(R48="","",","&R48))) -> 24070007 | L47: =A45&"{1"&C46&"{2"&G45&"{3"&R46&"{4"&S46&"{5"&R47&"{6"&S47&"{7"&R48&"{8"&S48 -> 7{1TA0667{210000{324070007{410000{5{6{7{8 | O47: 2000 M./BOX | P47: =S47/2000 -> 0 | Q47: BOX | T47: M
B48: =IF(W45="","","PO.NO.") -> PO.NO. | C48: =IF(W45="","",X45) -> DMT121149 | D48: =IF(W45="","","(Cable from Bando Lao)") -> (Cable from Bando Lao) | P48: =S48/2000 -> 0 | Q48: BOX | T48: M
A49: =IF(W49="","",A45+1) -> 8 | B49: =IF(W49="","",VLOOKUP(C50,Data!B:C,2,FALSE)) -> PVC130 | G49: =IF(W49="","",SUM(S50:S52)) -> 500 | H49: =IF(W49="","","M.") -> M. | I49: =IF(W49="","",VLOOKUP(C50,Data!B:E,4,FALSE)) -> DMT121150 | J49: =IF(W49="","",VLOOKUP(C50,Data!B:F,5,FALSE)) -> 24070008 | K49: =IFERROR(IF(P50="","",J49*(P50+P51+P52)),"") -> 6017502 | L49: =IF(W49="","","35.0 x 35.0 x 14.0") -> 35.0 x 35.0 x 14.0 | O49: 2000 M./BOX | V49: =V45+1 -> 8 | W49: =VLOOKUP(V49,Data!A:B,2,FALSE) -> TA0675-C | X49: =VLOOKUP(V49,Data!A:F,5,FALSE) -> DMT121150 | Y49: =G49/2000 -> 0.25 | AA49: =AB45+1&IF(Y49=1,"","-"&AB49) -> 52-51 | AB49: =ROUNDUP(SUM($Y$21:Y49),0) -> 51
B50: =IF(W49="","","PART NO :") -> PART NO : | C50: =IF(W49="","",W49) -> TA0675-C | E50: =IF(C50="","",", "&VLOOKUP(C50,Data!B:D,3,FALSE)) -> , PM060HH35 | G50: =IF(W49="","","(2000 M./BOX)") -> (2000 M./BOX) | L50: =IF(W49="","","C/N "&AA49) -> C/N 52-51 | O50: 2000 M./BOX | P50: =S50/2000 -> 0.25 | Q50: BOX | R50: =VLOOKUP(V49,Data!A:F,6,FALSE) -> 24070008 | S50: 500 | T50: M
B51: =IF(W49="","","LOT NO:") -> LOT NO: | C51: =IF(W49="","",R50&IF(R51="","",","&R51&IF(R52="","",","&R52))) -> 24070008 | L51: =A49&"{1"&C50&"{2"&G49&"{3"&R50&"{4"&S50&"{5"&R51&"{6"&S51&"{7"&R52&"{8"&S52 -> 8{1TA0675-C{2500{324070008{4500{5{6{7{8 | O51: 2000 M./BOX | P51: =S51/2000 -> 0 | Q51: BOX | T51: M
B52: =IF(W49="","","PO.NO.") -> PO.NO. | C52: =IF(W49="","",X49) -> DMT121150 | D52: =IF(W49="","","(Cable from Bando Lao)") -> (Cable from Bando Lao) | P52: =S52/2000 -> 0 | Q52: BOX | T52: M
A53: =IF(W53="","",A49+1) -> 9 | B53: =IF(W53="","",VLOOKUP(C54,Data!B:C,2,FALSE)) -> PVC131 | G53: =IF(W53="","",SUM(S54:S56)) -> 3000 | H53: =IF(W53="","","M.") -> M. | I53: =IF(W53="","",VLOOKUP(C54,Data!B:E,4,FALSE)) -> DMT121151 | J53: =IF(W53="","",VLOOKUP(C54,Data!B:F,5,FALSE)) -> 24070009 | K53: =IFERROR(IF(P54="","",J53*(P54+P55+P56)),"") -> 36105014 | L53: =IF(W53="","","35.0 x 35.0 x 14.0") -> 35.0 x 35.0 x 14.0 | O53: 2000 M./BOX | V53: =V49+1 -> 9 | W53: =VLOOKUP(V53,Data!A:B,2,FALSE) -> TA0712-B | X53: =VLOOKUP(V53,Data!A:F,5,FALSE) -> DMT121151 | Y53: =G53/2000 -> 1.5 | AA53: =AB49+1&IF(Y53=1,"","-"&AB53) -> 52-52 | AB53: =ROUNDUP(SUM($Y$21:Y53),0) -> 52
B54: =IF(W53="","","PART NO :") -> PART NO : | C54: =IF(W53="","",W53) -> TA0712-B | E54: =IF(C54="","",", "&VLOOKUP(C54,Data!B:D,3,FALSE)) -> , PM060HH37 | G54: =IF(W53="","","(2000 M./BOX)") -> (2000 M./BOX) | L54: =IF(W53="","","C/N "&AA53) -> C/N 52-52 | O54: 2000 M./BOX | P54: =S54/2000 -> 1.5 | Q54: BOX | R54: =VLOOKUP(V53,Data!A:F,6,FALSE) -> 24070009 | S54: 3000 | T54: M
B55: =IF(W53="","","LOT NO:") -> LOT NO: | C55: =IF(W53="","",R54&IF(R55="","",","&R55&IF(R56="","",","&R56))) -> 24070009 | L55: =A53&"{1"&C54&"{2"&G53&"{3"&R54&"{4"&S54&"{5"&R55&"{6"&S55&"{7"&R56&"{8"&S56 -> 9{1TA0712-B{23000{324070009{43000{5{6{7{8 | O55: 2000 M./BOX | P55: =S55/2000 -> 0 | Q55: BOX | T55: M
B56: =IF(W53="","","PO.NO.") -> PO.NO. | C56: =IF(W53="","",X53) -> DMT121151 | D56: =IF(W53="","","(Cable from Bando Lao)") -> (Cable from Bando Lao) | P56: =S56/2000 -> 0 | Q56: BOX | T56: M
A57: =IF(W57="","",A53+1) -> 10 | B57: =IF(W57="","",VLOOKUP(C58,Data!B:C,2,FALSE)) -> PVC132 | G57: =IF(W57="","",SUM(S58:S60)) -> 4000 | H57: =IF(W57="","","M.") -> M. | I57: =IF(W57="","",VLOOKUP(C58,Data!B:E,4,FALSE)) -> DMT121152 | J57: =IF(W57="","",VLOOKUP(C58,Data!B:F,5,FALSE)) -> 24070010 | K57: =IFERROR(IF(P58="","",J57*(P58+P59+P60)),"") -> 48140020 | L57: =IF(W57="","","35.0 x 35.0 x 14.0") -> 35.0 x 35.0 x 14.0 | O57: 2000 M./BOX | V57: =V53+1 -> 10 | W57: =VLOOKUP(V57,Data!A:B,2,FALSE) -> TA0722-D | X57: =VLOOKUP(V57,Data!A:F,5,FALSE) -> DMT121152 | Y57: =G57/2000 -> 2 | AA57: =AB53+1&IF(Y57=1,"","-"&AB57) -> 53-54 | AB57: =ROUNDUP(SUM($Y$21:Y57),0) -> 54
B58: =IF(W57="","","PART NO :") -> PART NO : | C58: =IF(W57="","",W57) -> TA0722-D | E58: =IF(C58="","",", "&VLOOKUP(C58,Data!B:D,3,FALSE)) -> , PM060HH38 | G58: =IF(W57="","","(2000 M./BOX)") -> (2000 M./BOX) | L58: =IF(W57="","","C/N "&AA57) -> C/N 53-54 | O58: 2000 M./BOX | P58: =S58/2000 -> 2 | Q58: BOX | R58: =VLOOKUP(V57,Data!A:F,6,FALSE) -> 24070010 | S58: 4000 | T58: M
B59: =IF(W57="","","LOT NO:") -> LOT NO: | C59: =IF(W57="","",R58&IF(R59="","",","&R59&IF(R60="","",","&R60))) -> 24070010 | L59: =A57&"{1"&C58&"{2"&G57&"{3"&R58&"{4"&S58&"{5"&R59&"{6"&S59&"{7"&R60&"{8"&S60 -> 10{1TA0722-D{24000{324070010{44000{5{6{7{8 | O59: 2000 M./BOX | P59: =S59/2000 -> 0 | Q59: BOX | T59: M
B60: =IF(W57="","","PO.NO.") -> PO.NO. | C60: =IF(W57="","",X57) -> DMT121152 | D60: =IF(W57="","","(Cable from Bando Lao)") -> (Cable from Bando Lao) | P60: =S60/2000 -> 0 | Q60: BOX | T60: M
A61: =IF(W61="","",A57+1) -> 11 | B61: =IF(W61="","",VLOOKUP(C62,Data!B:C,2,FALSE)) -> PVC133 | G61: =IF(W61="","",SUM(S62:S64)) -> 5000 | H61: =IF(W61="","","M.") -> M. | I61: =IF(W61="","",VLOOKUP(C62,Data!B:E,4,FALSE)) -> DMT121153 | J61: =IF(W61="","",VLOOKUP(C62,Data!B:F,5,FALSE)) -> 24070011 | K61: =IFERROR(IF(P62="","",J61*(P62+P63+P64)),"") -> 60175028 | L61: =IF(W61="","","35.0 x 35.0 x 14.0") -> 35.0 x 35.0 x 14.0 | O61: 2000 M./BOX | V61: =V57+1 -> 11 | W61: =VLOOKUP(V61,Data!A:B,2,FALSE) -> TA0746 | X61: =VLOOKUP(V61,Data!A:F,5,FALSE) -> DMT121153 | Y61: =G61/2000 -> 2.5 | AA61: =AB57+1&IF(Y61=1,"","-"&AB61) -> 55-57 | AB61: =ROUNDUP(SUM($Y$21:Y61),0) -> 57
B62: =IF(W61="","","PART NO :") -> PART NO : | C62: =IF(W61="","",W61) -> TA0746 | E62: =IF(C62="","",", "&VLOOKUP(C62,Data!B:D,3,FALSE)) -> , PM060HH42 | G62: =IF(W61="","","(2000 M./BOX)") -> (2000 M./BOX) | L62: =IF(W61="","","C/N "&AA61) -> C/N 55-57 | O62: 2000 M./BOX | P62: =S62/2000 -> 2.5 | Q62: BOX | R62: =VLOOKUP(V61,Data!A:F,6,FALSE) -> 24070011 | S62: 5000 | T62: M
B63: =IF(W61="","","LOT NO:") -> LOT NO: | C63: =IF(W61="","",R62&IF(R63="","",","&R63&IF(R64="","",","&R64))) -> 24070011 | L63: =A61&"{1"&C62&"{2"&G61&"{3"&R62&"{4"&S62&"{5"&R63&"{6"&S63&"{7"&R64&"{8"&S64 -> 11{1TA0746{25000{324070011{45000{5{6{7{8 | O63: 2000 M./BOX | P63: =S63/2000 -> 0 | Q63: BOX | T63: M
B64: =IF(W61="","","PO.NO.") -> PO.NO. | C64: =IF(W61="","",X61) -> DMT121153 | D64: =IF(W61="","","(Cable from Bando Lao)") -> (Cable from Bando Lao) | P64: =S64/2000 -> 0 | Q64: BOX | T64: M
A65: =IF(W65="","",A61+1) -> 12 | B65: =IF(W65="","",VLOOKUP(C66,Data!B:C,2,FALSE)) -> PVC134 | G65: =IF(W65="","",SUM(S66:S68)) -> 100 | H65: =IF(W65="","","M.") -> M. | I65: =IF(W65="","",VLOOKUP(C66,Data!B:E,4,FALSE)) -> DMT121154 | J65: =IF(W65="","",VLOOKUP(C66,Data!B:F,5,FALSE)) -> 24070012 | K65: =IFERROR(IF(P66="","",J65*(P66+P67+P68)),"") -> 1203500.6 | L65: =IF(W65="","","35.0 x 35.0 x 14.0") -> 35.0 x 35.0 x 14.0 | O65: 2000 M./BOX | V65: =V61+1 -> 12 | W65: =VLOOKUP(V65,Data!A:B,2,FALSE) -> TA0758-D | X65: =VLOOKUP(V65,Data!A:F,5,FALSE) -> DMT121154 | Y65: =G65/2000 -> 0.05 | AA65: =AB61+1&IF(Y65=1,"","-"&AB65) -> 58-57 | AB65: =ROUNDUP(SUM($Y$21:Y65),0) -> 57
B66: =IF(W65="","","PART NO :") -> PART NO : | C66: =IF(W65="","",W65) -> TA0758-D | E66: =IF(C66="","",", "&VLOOKUP(C66,Data!B:D,3,FALSE)) -> , P05K1-40-100.. | G66: =IF(W65="","","(2000 M./BOX)") -> (2000 M./BOX) | L66: =IF(W65="","","C/N "&AA65) -> C/N 58-57 | O66: 2000 M./BOX | P66: =S66/2000 -> 0.05 | Q66: BOX | R66: =VLOOKUP(V65,Data!A:F,6,FALSE) -> 24070012 | S66: 100 | T66: M
B67: =IF(W65="","","LOT NO:") -> LOT NO: | C67: =IF(W65="","",R66&IF(R67="","",","&R67&IF(R68="","",","&R68))) -> 24070012 | L67: =A65&"{1"&C66&"{2"&G65&"{3"&R66&"{4"&S66&"{5"&R67&"{6"&S67&"{7"&R68&"{8"&S68 -> 12{1TA0758-D{2100{324070012{4100{5{6{7{8 | O67: 2000 M./BOX | P67: =S67/2000 -> 0 | Q67: BOX | T67: M
B68: =IF(W65="","","PO.NO.") -> PO.NO. | C68: =IF(W65="","",X65) -> DMT121154 | D68: =IF(W65="","","(Cable from Bando Lao)") -> (Cable from Bando Lao) | P68: =S68/2000 -> 0 | Q68: BOX | T68: M
A69: =IF(W69="","",A65+1) -> 13 | B69: =IF(W69="","",VLOOKUP(C70,Data!B:C,2,FALSE)) -> PVC135 | G69: =IF(W69="","",SUM(S70:S72)) -> 10000 | H69: =IF(W69="","","M.") -> M. | I69: =IF(W69="","",VLOOKUP(C70,Data!B:E,4,FALSE)) -> DMT121155 | J69: =IF(W69="","",VLOOKUP(C70,Data!B:F,5,FALSE)) -> 24070013 | K69: =IFERROR(IF(P70="","",J69*(P70+P71+P72)),"") -> 120350065 | L69: =IF(W69="","","35.0 x 35.0 x 14.0") -> 35.0 x 35.0 x 14.0 | O69: 2000 M./BOX | V69: =V65+1 -> 13 | W69: =VLOOKUP(V69,Data!A:B,2,FALSE) -> TA0759-D | X69: =VLOOKUP(V69,Data!A:F,5,FALSE) -> DMT121155 | Y69: =G69/2000 -> 5 | AA69: =AB65+1&IF(Y69=1,"","-"&AB69) -> 58-62 | AB69: =ROUNDUP(SUM($Y$21:Y69),0) -> 62
B70: =IF(W69="","","PART NO :") -> PART NO : | C70: =IF(W69="","",W69) -> TA0759-D | E70: =IF(C70="","",", "&VLOOKUP(C70,Data!B:D,3,FALSE)) -> , 136N120071A | G70: =IF(W69="","","(2000 M./BOX)") -> (2000 M./BOX) | L70: =IF(W69="","","C/N "&AA69) -> C/N 58-62 | O70: 2000 M./BOX | P70: =S70/2000 -> 5 | Q70: BOX | R70: =VLOOKUP(V69,Data!A:F,6,FALSE) -> 24070013 | S70: 10000 | T70: M
B71: =IF(W69="","","LOT NO:") -> LOT NO: | C71: =IF(W69="","",R70&IF(R71="","",","&R71&IF(R72="","",","&R72))) -> 24070013 | L71: =A69&"{1"&C70&"{2"&G69&"{3"&R70&"{4"&S70&"{5"&R71&"{6"&S71&"{7"&R72&"{8"&S72 -> 13{1TA0759-D{210000{324070013{410000{5{6{7{8 | O71: 2000 M./BOX | P71: =S71/2000 -> 0 | Q71: BOX | T71: M
B72: =IF(W69="","","PO.NO.") -> PO.NO. | C72: =IF(W69="","",X69) -> DMT121155 | D72: =IF(W69="","","(Cable from Bando Lao)") -> (Cable from Bando Lao) | P72: =S72/2000 -> 0 | Q72: BOX | T72: M
A73: =IF(W73="","",A69+1) -> 14 | B73: =IF(W73="","",VLOOKUP(C74,Data!B:C,2,FALSE)) -> PVC136 | G73: =IF(W73="","",SUM(S74:S76)) -> 8000 | H73: =IF(W73="","","M.") -> M. | I73: =IF(W73="","",VLOOKUP(C74,Data!B:E,4,FALSE)) -> DMT121156 | J73: =IF(W73="","",VLOOKUP(C74,Data!B:F,5,FALSE)) -> 24070014 | K73: =IFERROR(IF(P74="","",J73*(P74+P75+P76)),"") -> 96280056 | L73: =IF(W73="","","35.0 x 35.0 x 14.0") -> 35.0 x 35.0 x 14.0 | O73: 2000 M./BOX | V73: =V69+1 -> 14 | W73: =VLOOKUP(V73,Data!A:B,2,FALSE) -> TA0760-D | X73: =VLOOKUP(V73,Data!A:F,5,FALSE) -> DMT121156 | Y73: =G73/2000 -> 4 | AA73: =AB69+1&IF(Y73=1,"","-"&AB73) -> 63-66 | AB73: =ROUNDUP(SUM($Y$21:Y73),0) -> 66
B74: =IF(W73="","","PART NO :") -> PART NO : | C74: =IF(W73="","",W73) -> TA0760-D | E74: =IF(C74="","",", "&VLOOKUP(C74,Data!B:D,3,FALSE)) -> , 136N120072A | G74: =IF(W73="","","(2000 M./BOX)") -> (2000 M./BOX) | L74: =IF(W73="","","C/N "&AA73) -> C/N 63-66 | O74: 2000 M./BOX | P74: =S74/2000 -> 4 | Q74: BOX | R74: =VLOOKUP(V73,Data!A:F,6,FALSE) -> 24070014 | S74: 8000 | T74: M
B75: =IF(W73="","","LOT NO:") -> LOT NO: | C75: =IF(W73="","",R74&IF(R75="","",","&R75&IF(R76="","",","&R76))) -> 24070014 | L75: =A73&"{1"&C74&"{2"&G73&"{3"&R74&"{4"&S74&"{5"&R75&"{6"&S75&"{7"&R76&"{8"&S76 -> 14{1TA0760-D{28000{324070014{48000{5{6{7{8 | O75: 2000 M./BOX | P75: =S75/2000 -> 0 | Q75: BOX | T75: M
B76: =IF(W73="","","PO.NO.") -> PO.NO. | C76: =IF(W73="","",X73) -> DMT121156 | D76: =IF(W73="","","(Cable from Bando Lao)") -> (Cable from Bando Lao) | P76: =S76/2000 -> 0 | Q76: BOX | T76: M
A77: =IF(W77="","",A73+1) -> 15 | B77: =IF(W77="","",VLOOKUP(C78,Data!B:C,2,FALSE)) -> PVC137 | G77: =IF(W77="","",SUM(S78:S80)) -> 5000 | H77: =IF(W77="","","M.") -> M. | I77: =IF(W77="","",VLOOKUP(C78,Data!B:E,4,FALSE)) -> DMT121157 | J77: =IF(W77="","",VLOOKUP(C78,Data!B:F,5,FALSE)) -> 24070015 | K77: =IFERROR(IF(P78="","",J77*(P78+P79+P80)),"") -> 60175038 | L77: =IF(W77="","","35.0 x 35.0 x 14.0") -> 35.0 x 35.0 x 14.0 | O77: 2000 M./BOX | V77: =V73+1 -> 15 | W77: =VLOOKUP(V77,Data!A:B,2,FALSE) -> TA0761-D | X77: =VLOOKUP(V77,Data!A:F,5,FALSE) -> DMT121157 | Y77: =G77/2000 -> 2.5 | AA77: =AB73+1&IF(Y77=1,"","-"&AB77) -> 67-69 | AB77: =ROUNDUP(SUM($Y$21:Y77),0) -> 69
B78: =IF(W77="","","PART NO :") -> PART NO : | C78: =IF(W77="","",W77) -> TA0761-D | E78: =IF(C78="","",", "&VLOOKUP(C78,Data!B:D,3,FALSE)) -> , 136N120073B | G78: =IF(W77="","","(2000 M./BOX)") -> (2000 M./BOX) | L78: =IF(W77="","","C/N "&AA77) -> C/N 67-69 | O78: 2000 M./BOX | P78: =S78/2000 -> 2.5 | Q78: BOX | R78: =VLOOKUP(V77,Data!A:F,6,FALSE) -> 24070015 | S78: 5000 | T78: M
B79: =IF(W77="","","LOT NO:") -> LOT NO: | C79: =IF(W77="","",R78&IF(R79="","",","&R79&IF(R80="","",","&R80))) -> 24070015 | L79: =A77&"{1"&C78&"{2"&G77&"{3"&R78&"{4"&S78&"{5"&R79&"{6"&S79&"{7"&R80&"{8"&S80 -> 15{1TA0761-D{25000{324070015{45000{5{6{7{8 | O79: 2000 M./BOX | P79: =S79/2000 -> 0 | Q79: BOX | T79: M
B80: =IF(W77="","","PO.NO.") -> PO.NO. | C80: =IF(W77="","",X77) -> DMT121157 | D80: =IF(W77="","","(Cable from Bando Lao)") -> (Cable from Bando Lao) | P80: =S80/2000 -> 0 | Q80: BOX | T80: M
A81: =IF(W81="","",A77+1) -> 16 | B81: =IF(W81="","",VLOOKUP(C82,Data!B:C,2,FALSE)) -> PVC138 | G81: =IF(W81="","",SUM(S82:S84)) -> 10000 | H81: =IF(W81="","","M.") -> M. | I81: =IF(W81="","",VLOOKUP(C82,Data!B:E,4,FALSE)) -> DMT121158 | J81: =IF(W81="","",VLOOKUP(C82,Data!B:F,5,FALSE)) -> 24070016 | K81: =IFERROR(IF(P82="","",J81*(P82+P83+P84)),"") -> 120350080 | L81: =IF(W81="","","35.0 x 35.0 x 14.0") -> 35.0 x 35.0 x 14.0 | O81: 2000 M./BOX | V81: =V77+1 -> 16 | W81: =VLOOKUP(V81,Data!A:B,2,FALSE) -> TA0782-B | X81: =VLOOKUP(V81,Data!A:F,5,FALSE) -> DMT121158 | Y81: =G81/2000 -> 5 | AA81: =AB77+1&IF(Y81=1,"","-"&AB81) -> 70-74 | AB81: =ROUNDUP(SUM($Y$21:Y81),0) -> 74
B82: =IF(W81="","","PART NO :") -> PART NO : | C82: =IF(W81="","",W81) -> TA0782-B | E82: =IF(C82="","",", "&VLOOKUP(C82,Data!B:D,3,FALSE)) -> , 136N200001B | G82: =IF(W81="","","(2000 M./BOX)") -> (2000 M./BOX) | L82: =IF(W81="","","C/N "&AA81) -> C/N 70-74 | O82: 2000 M./BOX | P82: =S82/2000 -> 5 | Q82: BOX | R82: =VLOOKUP(V81,Data!A:F,6,FALSE) -> 24070016 | S82: 10000 | T82: M
B83: =IF(W81="","","LOT NO:") -> LOT NO: | C83: =IF(W81="","",R82&IF(R83="","",","&R83&IF(R84="","",","&R84))) -> 24070016 | L83: =A81&"{1"&C82&"{2"&G81&"{3"&R82&"{4"&S82&"{5"&R83&"{6"&S83&"{7"&R84&"{8"&S84 -> 16{1TA0782-B{210000{324070016{410000{5{6{7{8 | O83: 2000 M./BOX | P83: =S83/2000 -> 0 | Q83: BOX | T83: M
B84: =IF(W81="","","PO.NO.") -> PO.NO. | C84: =IF(W81="","",X81) -> DMT121158 | D84: =IF(W81="","","(Cable from Bando Lao)") -> (Cable from Bando Lao) | P84: =S84/2000 -> 0 | Q84: BOX | T84: M
A85: =IF(W85="","",A81+1) -> 17 | B85: =IF(W85="","",VLOOKUP(C86,Data!B:C,2,FALSE)) -> PVC139 | G85: =IF(W85="","",SUM(S86:S88)) -> 5000 | H85: =IF(W85="","","M.") -> M. | I85: =IF(W85="","",VLOOKUP(C86,Data!B:E,4,FALSE)) -> DMT121159 | J85: =IF(W85="","",VLOOKUP(C86,Data!B:F,5,FALSE)) -> 24070017 | K85: =IFERROR(IF(P86="","",J85*(P86+P87+P88)),"") -> 60175042 | L85: =IF(W85="","","35.0 x 35.0 x 14.0") -> 35.0 x 35.0 x 14.0 | O85: 2000 M./BOX | V85: =V81+1 -> 17 | W85: =VLOOKUP(V85,Data!A:B,2,FALSE) -> TA0783-B | X85: =VLOOKUP(V85,Data!A:F,5,FALSE) -> DMT121159 | Y85: =G85/2000 -> 2.5 | AA85: =AB81+1&IF(Y85=1,"","-"&AB85) -> 75-76 | AB85: =ROUNDUP(SUM($Y$21:Y85),0) -> 76
B86: =IF(W85="","","PART NO :") -> PART NO : | C86: =IF(W85="","",W85) -> TA0783-B | E86: =IF(C86="","",", "&VLOOKUP(C86,Data!B:D,3,FALSE)) -> , CC18023HP124 | G86: =IF(W85="","","(2000 M./BOX)") -> (2000 M./BOX) | L86: =IF(W85="","","C/N "&AA85) -> C/N 75-76 | O86: 2000 M./BOX | P86: =S86/2000 -> 2.5 | Q86: BOX | R86: =VLOOKUP(V85,Data!A:F,6,FALSE) -> 24070017 | S86: 5000 | T86: M
B87: =IF(W85="","","LOT NO:") -> LOT NO: | C87: =IF(W85="","",R86&IF(R87="","",","&R87&IF(R88="","",","&R88))) -> 24070017 | L87: =A85&"{1"&C86&"{2"&G85&"{3"&R86&"{4"&S86&"{5"&R87&"{6"&S87&"{7"&R88&"{8"&S88 -> 17{1TA0783-B{25000{324070017{45000{5{6{7{8 | O87: 2000 M./BOX | P87: =S87/2000 -> 0 | Q87: BOX | T87: M
B88: =IF(W85="","","PO.NO.") -> PO.NO. | C88: =IF(W85="","",X85) -> DMT121159 | D88: =IF(W85="","","(Cable from Bando Lao)") -> (Cable from Bando Lao) | P88: =S88/2000 -> 0 | Q88: BOX | T88: M
A89: =IF(W89="","",A85+1) -> 18 | B89: =IF(W89="","",VLOOKUP(C90,Data!B:C,2,FALSE)) -> PVC140 | G89: =IF(W89="","",SUM(S90:S92)) -> 8000 | H89: =IF(W89="","","M.") -> M. | I89: =IF(W89="","",VLOOKUP(C90,Data!B:E,4,FALSE)) -> DMT121160 | J89: =IF(W89="","",VLOOKUP(C90,Data!B:F,5,FALSE)) -> 24070018 | K89: =IFERROR(IF(P90="","",J89*(P90+P91+P92)),"") -> 96280072 | L89: =IF(W89="","","35.0 x 35.0 x 14.0") -> 35.0 x 35.0 x 14.0 | O89: 2000 M./BOX | V89: =V85+1 -> 18 | W89: =VLOOKUP(V89,Data!A:B,2,FALSE) -> TA0784-B | X89: =VLOOKUP(V89,Data!A:F,5,FALSE) -> DMT121160 | Y89: =G89/2000 -> 4 | AA89: =AB85+1&IF(Y89=1,"","-"&AB89) -> 77-80 | AB89: =ROUNDUP(SUM($Y$21:Y89),0) -> 80
B90: =IF(W89="","","PART NO :") -> PART NO : | C90: =IF(W89="","",W89) -> TA0784-B | E90: =IF(C90="","",", "&VLOOKUP(C90,Data!B:D,3,FALSE)) -> , CC18023HP125 | G90: =IF(W89="","","(2000 M./BOX)") -> (2000 M./BOX) | L90: =IF(W89="","","C/N "&AA89) -> C/N 77-80 | O90: 2000 M./BOX | P90: =S90/2000 -> 4 | Q90: BOX | R90: =VLOOKUP(V89,Data!A:F,6,FALSE) -> 24070018 | S90: 8000 | T90: M
B91: =IF(W89="","","LOT NO:") -> LOT NO: | C91: =IF(W89="","",R90&IF(R91="","",","&R91&IF(R92="","",","&R92))) -> 24070018 | L91: =A89&"{1"&C90&"{2"&G89&"{3"&R90&"{4"&S90&"{5"&R91&"{6"&S91&"{7"&R92&"{8"&S92 -> 18{1TA0784-B{28000{324070018{48000{5{6{7{8 | O91: 2000 M./BOX | P91: =S91/2000 -> 0 | Q91: BOX | T91: M
B92: =IF(W89="","","PO.NO.") -> PO.NO. | C92: =IF(W89="","",X89) -> DMT121160 | D92: =IF(W89="","","(Cable from Bando Lao)") -> (Cable from Bando Lao) | P92: =S92/2000 -> 0 | Q92: BOX | T92: M
A93: =IF(W93="","",A89+1) -> 19 | B93: =IF(W93="","",VLOOKUP(C94,Data!B:C,2,FALSE)) -> PVC141 | G93: =IF(W93="","",SUM(S94:S96)) -> 10000 | H93: =IF(W93="","","M.") -> M. | I93: =IF(W93="","",VLOOKUP(C94,Data!B:E,4,FALSE)) -> DMT121161 | J93: =IF(W93="","",VLOOKUP(C94,Data!B:F,5,FALSE)) -> 24070019 | K93: =IFERROR(IF(P94="","",J93*(P94+P95+P96)),"") -> 120350095 | L93: =IF(W93="","","35.0 x 35.0 x 14.0") -> 35.0 x 35.0 x 14.0 | O93: 2000 M./BOX | V93: =V89+1 -> 19 | W93: =VLOOKUP(V93,Data!A:B,2,FALSE) -> TA0793-B | X93: =VLOOKUP(V93,Data!A:F,5,FALSE) -> DMT121161 | Y93: =G93/2000 -> 5 | AA93: =AB89+1&IF(Y93=1,"","-"&AB93) -> 81-85 | AB93: =ROUNDUP(SUM($Y$21:Y93),0) -> 85
B94: =IF(W93="","","PART NO :") -> PART NO : | C94: =IF(W93="","",W93) -> TA0793-B | E94: =IF(C94="","",", "&VLOOKUP(C94,Data!B:D,3,FALSE)) -> , CC20251HP135S1 | G94: =IF(W93="","","(2000 M./BOX)") -> (2000 M./BOX) | L94: =IF(W93="","","C/N "&AA93) -> C/N 81-85 | O94: 2000 M./BOX | P94: =S94/2000 -> 5 | Q94: BOX | R94: =VLOOKUP(V93,Data!A:F,6,FALSE) -> 24070019 | S94: 10000 | T94: M
B95: =IF(W93="","","LOT NO:") -> LOT NO: | C95: =IF(W93="","",R94&IF(R95="","",","&R95&IF(R96="","",","&R96))) -> 24070019 | L95: =A93&"{1"&C94&"{2"&G93&"{3"&R94&"{4"&S94&"{5"&R95&"{6"&S95&"{7"&R96&"{8"&S96 -> 19{1TA0793-B{210000{324070019{410000{5{6{7{8 | O95: 2000 M./BOX | P95: =S95/2000 -> 0 | Q95: BOX | T95: M
B96: =IF(W93="","","PO.NO.") -> PO.NO. | C96: =IF(W93="","",X93) -> DMT121161 | D96: =IF(W93="","","(Cable from Bando Lao)") -> (Cable from Bando Lao) | P96: =S96/2000 -> 0 | Q96: BOX | T96: M
A97: =IF(W97="","",A93+1) -> 20 | B97: =IF(W97="","",VLOOKUP(C98,Data!B:C,2,FALSE)) -> PVC142 | G97: =IF(W97="","",SUM(S98:S100)) -> 1000 | H97: =IF(W97="","","M.") -> M. | I97: =IF(W97="","",VLOOKUP(C98,Data!B:E,4,FALSE)) -> DMT121162 | J97: =IF(W97="","",VLOOKUP(C98,Data!B:F,5,FALSE)) -> 24070020 | K97: =IFERROR(IF(P98="","",J97*(P98+P99+P100)),"") -> 12035010 | L97: =IF(W97="","","35.0 x 35.0 x 14.0") -> 35.0 x 35.0 x 14.0 | O97: 2000 M./BOX | V97: =V93+1 -> 20 | W97: =VLOOKUP(V97,Data!A:B,2,FALSE) -> TA0805-B | X97: =VLOOKUP(V97,Data!A:F,5,FALSE) -> DMT121162 | Y97: =G97/2000 -> 0.5 | AA97: =AB93+1&IF(Y97=1,"","-"&AB97) -> 86-86 | AB97: =ROUNDUP(SUM($Y$21:Y97),0) -> 86
B98: =IF(W97="","","PART NO :") -> PART NO : | C98: =IF(W97="","",W97) -> TA0805-B | E98: =IF(C98="","",", "&VLOOKUP(C98,Data!B:D,3,FALSE)) -> , CC20251HP136S1 | G98: =IF(W97="","","(2000 M./BOX)") -> (2000 M./BOX) | L98: =IF(W97="","","C/N "&AA97) -> C/N 86-86 | O98: 2000 M./BOX | P98: =S98/2000 -> 0.5 | Q98: BOX | R98: =VLOOKUP(V97,Data!A:F,6,FALSE) -> 24070020 | S98: 1000 | T98: M
B99: =IF(W97="","","LOT NO:") -> LOT NO: | C99: =IF(W97="","",R98&IF(R99="","",","&R99&IF(R100="","",","&R100))) -> 24070020 | L99: =A97&"{1"&C98&"{2"&G97&"{3"&R98&"{4"&S98&"{5"&R99&"{6"&S99&"{7"&R100&"{8"&S100 -> 20{1TA0805-B{21000{324070020{41000{5{6{7{8 | O99: 2000 M./BOX | P99: =S99/2000 -> 0 | Q99: BOX | T99: M
B100: =IF(W97="","","PO.NO.") -> PO.NO. | C100: =IF(W97="","",X97) -> DMT121162 | D100: =IF(W97="","","(Cable from Bando Lao)") -> (Cable from Bando Lao) | P100: =S100/2000 -> 0 | Q100: BOX | T100: M
A101: =IF(W101="","",A97+1) -> 21 | B101: =IF(W101="","",VLOOKUP(C102,Data!B:C,2,FALSE)) -> PVC143 | G101: =IF(W101="","",SUM(S102:S104)) -> 2000 | H101: =IF(W101="","","M.") -> M. | I101: =IF(W101="","",VLOOKUP(C102,Data!B:E,4,FALSE)) -> DMT121163 | J101: =IF(W101="","",VLOOKUP(C102,Data!B:F,5,FALSE)) -> 24070021 | K101: =IFERROR(IF(P102="","",J101*(P102+P103+P104)),"") -> 24070021 | L101: =IF(W101="","","35.0 x 35.0 x 14.0") -> 35.0 x 35.0 x 14.0 | O101: 2000 M./BOX | V101: =V97+1 -> 21 | W101: =VLOOKUP(V101,Data!A:B,2,FALSE) -> TA0809 | X101: =VLOOKUP(V101,Data!A:F,5,FALSE) -> DMT121163 | Y101: =G101/2000 -> 1 | AA101: =AB97+1&IF(Y101=1,"","-"&AB101) -> 87 | AB101: =ROUNDUP(SUM($Y$21:Y101),0) -> 87
B102: =IF(W101="","","PART NO :") -> PART NO : | C102: =IF(W101="","",W101) -> TA0809 | E102: =IF(C102="","",", "&VLOOKUP(C102,Data!B:D,3,FALSE)) -> , CC20251HP138S1 | G102: =IF(W101="","","(2000 M./BOX)") -> (2000 M./BOX) | L102: =IF(W101="","","C/N "&AA101) -> C/N 87 | O102: 2000 M./BOX | P102: =S102/2000 -> 0 | Q102: BOX | R102: =VLOOKUP(V101,Data!A:F,6,FALSE) -> 24070021 | T102: M
B103: =IF(W101="","","LOT NO:") -> LOT NO: | C103: =IF(W101="","",R102&IF(R103="","",","&R103&IF(R104="","",","&R104))) -> 24070021 | L103: =A101&"{1"&C102&"{2"&G101&"{3"&R102&"{4"&S102&"{5"&R103&"{6"&S103&"{7"&R104&"{8"&S104 -> 21{1TA0809{22000{324070021{4{5{62000{7{8 | O103: 2000 M./BOX | P103: =S103/2000 -> 1 | Q103: BOX | S103: 2000 | T103: M
B104: =IF(W101="","","PO.NO.") -> PO.NO. | C104: =IF(W101="","",X101) -> DMT121163 | D104: =IF(W101="","","(Cable from Bando Lao)") -> (Cable from Bando Lao) | P104: =S104/2000 -> 0 | Q104: BOX | T104: M
A105: =IF(W105="","",A101+1) -> 22 | B105: =IF(W105="","",VLOOKUP(C106,Data!B:C,2,FALSE)) -> PVC144 | G105: =IF(W105="","",SUM(S106:S108)) -> 3000 | H105: =IF(W105="","","M.") -> M. | I105: =IF(W105="","",VLOOKUP(C106,Data!B:E,4,FALSE)) -> DMT121164 | J105: =IF(W105="","",VLOOKUP(C106,Data!B:F,5,FALSE)) -> 24070022 | K105: =IFERROR(IF(P106="","",J105*(P106+P107+P108)),"") -> 36105033 | L105: =IF(W105="","","35.0 x 35.0 x 14.0") -> 35.0 x 35.0 x 14.0 | O105: 2000 M./BOX | V105: =V101+1 -> 22 | W105: =VLOOKUP(V105,Data!A:B,2,FALSE) -> TA0908 | X105: =VLOOKUP(V105,Data!A:F,5,FALSE) -> DMT121164 | Y105: =G105/2000 -> 1.5 | AA105: =AB101+1&IF(Y105=1,"","-"&AB105) -> 88-88 | AB105: =ROUNDUP(SUM($Y$21:Y105),0) -> 88
B106: =IF(W105="","","PART NO :") -> PART NO : | C106: =IF(W105="","",W105) -> TA0908 | E106: =IF(C106="","",", "&VLOOKUP(C106,Data!B:D,3,FALSE)) -> , CC20251HP139S1 | G106: =IF(W105="","","(2000 M./BOX)") -> (2000 M./BOX) | L106: =IF(W105="","","C/N "&AA105) -> C/N 88-88 | O106: 2000 M./BOX | P106: =S106/2000 -> 1.5 | Q106: BOX | R106: =VLOOKUP(V105,Data!A:F,6,FALSE) -> 24070022 | S106: 3000 | T106: M
B107: =IF(W105="","","LOT NO:") -> LOT NO: | C107: =IF(W105="","",R106&IF(R107="","",","&R107&IF(R108="","",","&R108))) -> 24070022 | L107: =A105&"{1"&C106&"{2"&G105&"{3"&R106&"{4"&S106&"{5"&R107&"{6"&S107&"{7"&R108&"{8"&S108 -> 22{1TA0908{23000{324070022{43000{5{6{7{8 | O107: 2000 M./BOX | P107: =S107/2000 -> 0 | Q107: BOX | T107: M
B108: =IF(W105="","","PO.NO.") -> PO.NO. | C108: =IF(W105="","",X105) -> DMT121164 | D108: =IF(W105="","","(Cable from Bando Lao)") -> (Cable from Bando Lao) | P108: =S108/2000 -> 0 | Q108: BOX | T108: M
A109: =IF(W109="","",A105+1) -> 23 | B109: =IF(W109="","",VLOOKUP(C110,Data!B:C,2,FALSE)) -> PVC145 | G109: =IF(W109="","",SUM(S110:S112)) -> 5000 | H109: =IF(W109="","","M.") -> M. | I109: =IF(W109="","",VLOOKUP(C110,Data!B:E,4,FALSE)) -> DMT121165 | J109: =IF(W109="","",VLOOKUP(C110,Data!B:F,5,FALSE)) -> 24070023 | K109: =IFERROR(IF(P110="","",J109*(P110+P111+P112)),"") -> 60175058 | L109: =IF(W109="","","35.0 x 35.0 x 14.0") -> 35.0 x 35.0 x 14.0 | O109: 2000 M./BOX | V109: =V105+1 -> 23 | W109: =VLOOKUP(V109,Data!A:B,2,FALSE) -> TA0909 | X109: =VLOOKUP(V109,Data!A:F,5,FALSE) -> DMT121165 | Y109: =G109/2000 -> 2.5 | AA109: =AB105+1&IF(Y109=1,"","-"&AB109) -> 89-91 | AB109: =ROUNDUP(SUM($Y$21:Y109),0) -> 91
B110: =IF(W109="","","PART NO :") -> PART NO : | C110: =IF(W109="","",W109) -> TA0909 | E110: =IF(C110="","",", "&VLOOKUP(C110,Data!B:D,3,FALSE)) -> , CC20251HP140S1 | G110: =IF(W109="","","(2000 M./BOX)") -> (2000 M./BOX) | L110: =IF(W109="","","C/N "&AA109) -> C/N 89-91 | O110: 2000 M./BOX | P110: =S110/2000 -> 2.5 | Q110: BOX | R110: =VLOOKUP(V109,Data!A:F,6,FALSE) -> 24070023 | S110: 5000 | T110: M
B111: =IF(W109="","","LOT NO:") -> LOT NO: | C111: =IF(W109="","",R110&IF(R111="","",","&R111&IF(R112="","",","&R112))) -> 24070023 | L111: =A109&"{1"&C110&"{2"&G109&"{3"&R110&"{4"&S110&"{5"&R111&"{6"&S111&"{7"&R112&"{8"&S112 -> 23{1TA0909{25000{324070023{45000{5{6{7{8 | O111: 2000 M./BOX | P111: =S111/2000 -> 0 | Q111: BOX | T111: M
B112: =IF(W109="","","PO.NO.") -> PO.NO. | C112: =IF(W109="","",X109) -> DMT121165 | D112: =IF(W109="","","(Cable from Bando Lao)") -> (Cable from Bando Lao) | P112: =S112/2000 -> 0 | Q112: BOX | T112: M
A113: =IF(W113="","",A109+1) -> 24 | B113: =IF(W113="","",VLOOKUP(C114,Data!B:C,2,FALSE)) -> PVC146 | G113: =IF(W113="","",SUM(S114:S116)) -> 8000 | H113: =IF(W113="","","M.") -> M. | I113: =IF(W113="","",VLOOKUP(C114,Data!B:E,4,FALSE)) -> DMT121166 | J113: =IF(W113="","",VLOOKUP(C114,Data!B:F,5,FALSE)) -> 24070024 | K113: =IFERROR(IF(P114="","",J113*(P114+P115+P116)),"") -> 96280096 | L113: =IF(W113="","","35.0 x 35.0 x 14.0") -> 35.0 x 35.0 x 14.0 | O113: 2000 M./BOX | V113: =V109+1 -> 24 | W113: =VLOOKUP(V113,Data!A:B,2,FALSE) -> TA0910 | X113: =VLOOKUP(V113,Data!A:F,5,FALSE) -> DMT121166 | Y113: =G113/2000 -> 4 | AA113: =AB109+1&IF(Y113=1,"","-"&AB113) -> 92-95 | AB113: =ROUNDUP(SUM($Y$21:Y113),0) -> 95
B114: =IF(W113="","","PART NO :") -> PART NO : | C114: =IF(W113="","",W113) -> TA0910 | E114: =IF(C114="","",", "&VLOOKUP(C114,Data!B:D,3,FALSE)) -> , CC20251HP141S1 | G114: =IF(W113="","","(2000 M./BOX)") -> (2000 M./BOX) | L114: =IF(W113="","","C/N "&AA113) -> C/N 92-95 | O114: 2000 M./BOX | P114: =S114/2000 -> 4 | Q114: BOX | R114: =VLOOKUP(V113,Data!A:F,6,FALSE) -> 24070024 | S114: 8000 | T114: M
B115: =IF(W113="","","LOT NO:") -> LOT NO: | C115: =IF(W113="","",R114&IF(R115="","",","&R115&IF(R116="","",","&R116))) -> 24070024 | L115: =A113&"{1"&C114&"{2"&G113&"{3"&R114&"{4"&S114&"{5"&R115&"{6"&S115&"{7"&R116&"{8"&S116 -> 24{1TA0910{28000{324070024{48000{5{6{7{8 | O115: 2000 M./BOX | P115: =S115/2000 -> 0 | Q115: BOX | T115: M
B116: =IF(W113="","","PO.NO.") -> PO.NO. | C116: =IF(W113="","",X113) -> DMT121166 | D116: =IF(W113="","","(Cable from Bando Lao)") -> (Cable from Bando Lao) | P116: =S116/2000 -> 0 | Q116: BOX | T116: M
...
