Workbook

Sheet Data
B2: TA | C2: DETAIL | D2: PART | E2: PO | F2: MO
A3: 1 | B3: TA0009 | C3: PVC123 | D3: 117E 45710 | E3: DMT121143 | F3: 24070001
A4: 2 | B4: TA0010 | C4: PVC124 | D4: 117K 50750 | E4: DMT121144 | F4: 24070002
A5: 3 | B5: TA0013 | C5: PVC125 | D5: 117E 47210 | E5: DMT121145 | F5: 24070003
A6: 4 | B6: TA0372-C | C6: PVC126 | D6: PM060HH45 | E6: DMT121146 | F6: 24070004
A7: 5 | B7: TA0437 | C7: PVC127 | D7: PM060HH47 | E7: DMT121147 | F7: 24070005
A8: 6 | B8: TA0464-C | C8: PVC128 | D8: PM060HH48 | E8: DMT121148 | F8: 24070006
A9: 7 | B9: TA0667 | C9: PVC129 | D9: PM060HH33 | E9: DMT121149 | F9: 24070007
A10: 8 | B10: TA0675-C | C10: PVC130 | D10: PM060HH35 | E10: DMT121150 | F10: 24070008
A11: 9 | B11: TA0712-B | C11: PVC131 | D11: PM060HH37 | E11: DMT121151 | F11: 24070009
A12: 10 | B12: TA0722-D | C12: PVC132 | D12: PM060HH38 | E12: DMT121152 | F12: 24070010
A13: 11 | B13: TA0746 | C13: PVC133 | D13: PM060HH42 | E13: DMT121153 | F13: 24070011
A14: 12 | B14: TA0758-D | C14: PVC134 | D14: P05K1-40-100.. | E14: DMT121154 | F14: 24070012
... A34: 1.2 | B34: TA2796 | C34: PVC154 | D34: S-00011435 | E34: DMT121174 | F34: 24070032

Sheet Sheet1
S9: 1 | T9: 0
A17: No | B17: Goods Description | G17: Quantity | H17: Unit | I17: Helper1 | J17: helper2 | K17: helper3 | L17: Measurement (CM) | P17: =MAX(A21:A140) -> 30 | Q17: ใส่ข้อมูล (lot no. Q'ty Part no. Po no.) ตรงนี้เท่านั้น
A18: ลำดับที่ | B18: คำอธิบายสินค้า | G18: PER CARTON | I18: PER CARTON | J18: PER CARTON | K18: TOTAL | L18: ขนาด
R19: LOT NO. | S19: QTY | W19: Part no. | X19: Po no. | Y19: Total box
A21: =IF(W21="","",1) -> 1 | B21: =IF(W21="","",VLOOKUP(C22,Data!B:C,2,FALSE)) -> PVC123 | G21: =IF(W21="","",SUM(S22:S24)) -> 25000 | H21: =IF(W21="","","M.") -> M. | I21: =IF(W21="","",VLOOKUP(C22,Data!B:E,4,FALSE)) -> DMT121143 | J21: =IF(W21="","",VLOOKUP(C22,Data!B:F,5,FALSE)) -> 24070001 | K21: =IFERROR(IF(P22="","",J21*(P22+P23+P24)),"") -> 3.0087501e+08 | L21: =IF(W21="","","35.0 x 35.0 x 14.0") -> 35.0 x 35.0 x 14.0 | O21: 2000 M./BOX | V21: 1 | W21: =VLOOKUP(V21,Data!A:B,2,FALSE) -> TA0009 | X21: =VLOOKUP(V21,Data!A:F,5,FALSE) -> DMT121143 | Y21: =G21/2000 -> 12.5 | AA21: ="1"&IF(Y21=1,"","-"&AB21) -> 1-13 | AB21: =ROUNDUP(Y21,0) -> 13
B22: =IF(W21="","","PART NO :") -> PART NO : | C22: =IF(W21="","",W21) -> TA0009 | E22: =IF(C22="","",", "&VLOOKUP(C22,Data!B:D,3,FALSE)) -> , 117E 45710 | G22: =IF(W21="","","(2000 M./BOX)") -> (2000 M./BOX) | L22: =IF(W21="","","C/N "&AA21) -> C/N 1-13 | O22: 2000 M./BOX | P22: =S22/2000 -> 5 | Q22: BOX | R22: =VLOOKUP(V21,Data!A:F,6,FALSE) -> 24070001 | S22: 10000 | T22: M | V22: 1.1 | W22: =VLOOKUP(V22,Data!A:B,2,FALSE) -> TA2795
B23: =IF(W21="","","LOT NO:") -> LOT NO: | C23: =IF(W21="","",R22&IF(R23="","",","&R23&IF(R24="","",","&R24))) -> 24070001,24070001,24070032 | L23: =A21&"{1"&C22&"{2"&G21&"{3"&R22&"{4"&S22&"{5"&R23&"{6"&S23&"{7"&R24&"{8"&S24 -> 1{1TA0009{225000{324070001{410000{524070001{610000{724070032{85000 | O23: 2000 M./BOX | P23: =S23/2000 -> 5 | Q23: BOX | R23: 24070001 | S23: 10000 | T23: M | V23: 1.2 | W23: =VLOOKUP(V23,Data!A:B,2,FALSE) -> TA2796
B24: =IF(W21="","","PO.NO.") -> PO.NO. | C24: =IF(W21="","",X21) -> DMT121143 | D24: =IF(W21="","","(Cable from Bando Lao)") -> (Cable from Bando Lao) | P24: =S24/2000 -> 2.5 | Q24: BOX | R24: =VLOOKUP(V23,Data!A:F,6,FALSE) -> 24070032 | S24: 5000 | T24: M
A25: =IF(W25="","",2) -> 2 | B25: =IF(W25="","",VLOOKUP(C26,Data!B:C,2,FALSE)) -> PVC124 | G25: =IF(W25="","",SUM(S26:S28)) -> 20000 | H25: =IF(W25="","","M.") -> M. | I25: =IF(W25="","",VLOOKUP(C26,Data!B:E,4,FALSE)) -> DMT121144 | J25: =IF(W25="","",VLOOKUP(C26,Data!B:F,5,FALSE)) -> 24070002 | K25: =IFERROR(IF(P26="","",J25*(P26+P27+P28)),"") -> 240700020 | L25: =IF(W25="","","35.0 x 35.0 x 14.0") -> 35.0 x 35.0 x 14.0 | O25: 2000 M./BOX | V25: 2 | W25: =VLOOKUP(V25,Data!A:B,2,FALSE) -> TA0010 | X25: =VLOOKUP(V25,Data!A:F,5,FALSE) -> DMT121144 | Y25: =G25/2000 -> 10 | AA25: =AB21+1&IF(Y25=1,"","-"&AB25) -> 14-23 | AB25: =ROUNDUP(SUM($Y$21:Y25),0) -> 23
B26: =IF(W25="","","PART NO :") -> PART NO : | C26: =IF(W25="","",W25) -> TA0010 | E26: =IF(C26="","",", "&VLOOKUP(C26,Data!B:D,3,FALSE)) -> , 117K 50750 | G26: =IF(W25="","","(2000 M./BOX)") -> (2000 M./BOX) | L26: =IF(W25="","","C/N "&AA25) -> C/N 14-23 | O26: 2000 M./BOX | P26: =S26/2000 -> 10 | Q26: BOX | R26: =VLOOKUP(V25,Data!A:F,6,FALSE) -> 24070002 | S26: 20000 | T26: M | V26: 2.2
B27: =IF(W25="","","LOT NO:") -> LOT NO: | C27: =IF(W25="","",R26&IF(R27="","",","&R27&IF(R28="","",","&R28))) -> 24070002 | L27: =A25&"{1"&C26&"{2"&G25&"{3"&R26&"{4"&S26&"{5"&R27&"{6"&S27&"{7"&R28&"{8"&S28 -> 2{1TA0010{220000{324070002{420000{5{6{7{8 | O27: 2000 M./BOX | P27: =S27/2000 -> 0 | Q27: BOX | T27: M | V27: 2.3
B28: =IF(W25="","","PO.NO.") -> PO.NO. | C28: =IF(W25="","",X25) -> DMT121144 | D28: =IF(W25="","","(Cable from Bando Lao)") -> (Cable from Bando Lao) | P28: =S28/2000 -> 0 | Q28: BOX | T28: M
A29: =IF(W29="","",A25+1) -> 3 | B29: =IF(W29="","",VLOOKUP(C30,Data!B:C,2,FALSE)) -> PVC125 | G29: =IF(W29="","",SUM(S30:S32)) -> 30000 | H29: =IF(W29="","","M.") -> M. | I29: =IF(W29="","",VLOOKUP(C30,Data!B:E,4,FALSE)) -> DMT121145 | J29: =IF(W29="","",VLOOKUP(C30,Data!B:F,5,FALSE)) -> 24070003 | K29: =IFERROR(IF(P30="","",J29*(P30+P31+P32)),"") -> 361050045 | L29: =IF(W29="","","35.0 x 35.0 x 14.0") -> 35.0 x 35.0 x 14.0 | O29: 2000 M./BOX | V29: =V25+1 -> 3 | W29: =VLOOKUP(V29,Data!A:B,2,FALSE) -> TA0013 | X29: =VLOOKUP(V29,Data!A:F,5,FALSE) -> DMT121145 | Y29: =G29/2000 -> 15 | AA29: =AB25+1&IF(Y29=1,"","-"&AB29) -> 24-38 | AB29: =ROUNDUP(SUM($Y$21:Y29),0) -> 38
B30: =IF(W29="","","PART NO :") -> PART NO : | C30: =IF(W29="","",W29) -> TA0013 | E30: =IF(C30="","",", "&VLOOKUP(C30,Data!B:D,3,FALSE)) -> , 117E 47210 | G30: =IF(W29="","","(2000 M./BOX)") -> (2000 M./BOX) | L30: =IF(W29="","","C/N "&AA29) -> C/N 24-38 | O30: 2000 M./BOX | P30: =S30/2000 -> 15 | Q30: BOX | R30: =VLOOKUP(V29,Data!A:F,6,FALSE) -> 24070003 | S30: 30000 | T30: M
B31: =IF(W29="","","LOT NO:") -> LOT NO: | C31: =IF(W29="","",R30&IF(R31="","",","&R31&IF(R32="","",","&R32))) -> 24070003 | L31: =A29&"{1"&C30&"{2"&G29&"{3"&R30&"{4"&S30&"{5"&R31&"{6"&S31&"{7"&R32&"{8"&S32 -> 3{1TA0013{230000{324070003{430000{5{6{7{8 | O31: 2000 M./BOX | P31: =S31/2000 -> 0 | Q31: BOX | T31: M
B32: =IF(W29="","","PO.NO.") -> PO.NO. | C32: =IF(W29="","",X29) -> DMT121145 | D32: =IF(W29="","","(Cable from Bando Lao)") -> (Cable from Bando Lao) | P32: =S32/2000 -> 0 | Q32: BOX | T32: M
A33: =IF(W33="","",A29+1) -> 4 | B33: =IF(W33="","",VLOOKUP(C34,Data!B:C,2,FALSE)) -> PVC126 | G33: =IF(W33="","",SUM(S34:S36)) -> 500 | H33: =IF(W33="","","M.") -> M. | I33: =IF(W33="","",VLOOKUP(C34,Data!B:E,4,FALSE)) -> DMT121146 | J33: =IF(W33="","",VLOOKUP(C34,Data!B:F,5,FALSE)) -> 24070004 | K33: =IFERROR(IF(P34="","",J33*(P34+P35+P36)),"") -> 6017501 | L33: =IF(W33="","","35.0 x 35.0 x 14.0") -> 35.0 x 35.0 x 14.0 | O33: 2000 M./BOX | V33: =V29+1 -> 4 | W33: =VLOOKUP(V33,Data!A:B,2,FALSE) -> TA0372-C | X33: =VLOOKUP(V33,Data!A:F,5,FALSE) -> DMT121146 | Y33: =G33/2000 -> 0.25 | AA33: =AB29+1&IF(Y33=1,"","-"&AB33) -> 39-38 | AB33: =ROUNDUP(SUM($Y$21:Y33),0) -> 38
B34: =IF(W33="","","PART NO :") -> PART NO : | C34: =IF(W33="","",W33) -> TA0372-C | E34: =IF(C34="","",", "&VLOOKUP(C34,Data!B:D,3,FALSE)) -> , PM060HH45 | G34: =IF(W33="","","(2000 M./BOX)") -> (2000 M./BOX) | L34: =IF(W33="","","C/N "&AA33) -> C/N 39-38 | O34: 2000 M./BOX | P34: =S34/2000 -> 0.25 | Q34: BOX | R34: =VLOOKUP(V33,Data!A:F,6,FALSE) -> 24070004 | S34: 500 | T34: M
B35: =IF(W33="","","LOT NO:") -> LOT NO: | C35: =IF(W33="","",R34&IF(R35="","",","&R35&IF(R36="","",","&R36))) -> 24070004 | L35: =A33&"{1"&C34&"{2"&G33&"{3"&R34&"{4"&S34&"{5"&R35&"{6"&S35&"{7"&R36&"{8"&S36 -> 4{1TA0372-C{2500{324070004{4500{5{6{7{8 | O35: 2000 M./BOX | P35: =S35/2000 -> 0 | Q35: BOX | T35: M
B36: =IF(W33="","","PO.NO.") -> PO.NO. | C36: =IF(W33="","",X33) -> DMT121146 | D36: =IF(W33="","","(Cable from Bando Lao)") -> (Cable from Bando Lao) | P36: =S36/2000 -> 0 | Q36: BOX | T36: M
A37: =IF(W37="","",A33+1) -> 5 | B37: =IF(W37="","",VLOOKUP(C38,Data!B:C,2,FALSE)) -> PVC127 | G37: =IF(W37="","",SUM(S38:S40)) -> 5000 | H37: =IF(W37="","","M.") -> M. | I37: =IF(W37="","",VLOOKUP(C38,Data!B:E,4,FALSE)) -> DMT121147 | J37: =IF(W37="","",VLOOKUP(C38,Data!B:F,5,FALSE)) -> 24070005 | K37: =IFERROR(IF(P38="","",J37*(P38+P39+P40)),"") -> 60175012 | L37: =IF(W37="","","35.0 x 35.0 x 14.0") -> 35.0 x 35.0 x 14.0 | O37: 2000 M./BOX | V37: =V33+1 -> 5 | W37: =VLOOKUP(V37,Data!A:B,2,FALSE) -> TA0437 | X37: =VLOOKUP(V37,Data!A:F,5,FALSE) -> DMT121147 | Y37: =G37/2000 -> 2.5 | AA37: =AB33+1&IF(Y33=1,"","-"&AB37) -> 39-41 | AB37: =ROUNDUP(SUM($Y$21:Y37),0) -> 41
B38: =IF(W37="","","PART NO :") -> PART NO : | C38: =IF(W37="","",W37) -> TA0437 | E38: =IF(C38="","",", "&VLOOKUP(C38,Data!B:D,3,FALSE)) -> , PM060HH47 | G38: =IF(W37="","","(2000 M./BOX)") -> (2000 M./BOX) | L38: =IF(W37="","","C/N "&AA37) -> C/N 39-41 | O38: 2000 M./BOX | P38: =S38/2000 -> 2.5 | Q38: BOX | R38: =VLOOKUP(V37,Data!A:F,6,FALSE) -> 24070005 | S38: 5000 | T38: M
B39: =IF(W37="","","LOT NO:") -> LOT NO: | C39: =IF(W37="","",R38&IF(R39="","",","&R39&IF(R40="","",","&R40))) -> 24070005 | L39: =A37&"{1"&C38&"{2"&G37&"{3"&R38&"{4"&S38&"{5"&R39&"{6"&S39&"{7"&R40&"{8"&S40 -> 5{1TA0437{25000{324070005{45000{5{6{7{8 | O39: 2000 M./BOX | P39: =S39/2000 -> 0 | Q39: BOX | T39: M
B40: =IF(W37="","","PO.NO.") -> PO.NO. | C40: =IF(W37="","",X37) -> DMT121147 | D40: =IF(W37="","","(Cable from Bando Lao)") -> (Cable from Bando Lao) | P40: =S40/2000 -> 0 | Q40: BOX | T40: M
A41: =IF(W41="","",A37+1) -> 6 | B41: =IF(W41="","",VLOOKUP(C42,Data!B:C,2,FALSE)) -> PVC128 | G41: =IF(W41="","",SUM(S42:S44)) -> 10000 | H41: =IF(W41="","","M.") -> M. | I41: =IF(W41="","",VLOOKUP(C42,Data!B:E,4,FALSE)) -> DMT121148 | J41: =IF(W41="","",VLOOKUP(C42,Data!B:F,5,FALSE)) -> 24070006 | K41: =IFERROR(IF(P42="","",J41*(P42+P43+P44)),"") -> 120350030 | L41: =IF(W41="","","35.0 x 35.0 x 14.0") -> 35.0 x 35.0 x 14.0 | O41: 2000 M./BOX | V41: =V37+1 -> 6 | W41: =VLOOKUP(V41,Data!A:B,2,FALSE) -> TA0464-C | X41: =VLOOKUP(V41,Data!A:F,5,FALSE) -> DMT121148 | Y41: =G41/2000 -> 5 | AA41: =AB37+1&IF(Y41=1,"","-"&AB41) -> 42-46 | AB41: =ROUNDUP(SUM($Y$21:Y41),0) -> 46
B42: =IF(W41="","","PART NO :") -> PART NO : | C42: =IF(W41="","",W41) -> TA0464-C | E42: =IF(C42="","",", "&VLOOKUP(C42,Data!B:D,3,FALSE)) -> , PM060HH48 | G42: =IF(W41="","","(2000 M./BOX)") -> (2000 M./BOX) | L42: =IF(W41="","","C/N "&AA41) -> C/N 42-46 | O42: 2000 M./BOX | P42: =S42/2000 -> 5 | Q42: BOX | R42: =VLOOKUP(V41,Data!A:F,6,FALSE) -> 24070006 | S42: 10000 | T42: M
B43: =IF(W41="","","LOT NO:") -> LOT NO: | C43: =IF(W41="","",R42&IF(R43="","",","&R43&IF(R44="","",","&R44))) -> 24070006 | L43: =A41&"{1"&C42&"{2"&G41&"{3"&R42&"{4"&S42&"{5"&R43&"{6"&S43&"{7"&R44&"{8"&S44 -> 6{1TA0464-C{210000{324070006{410000{5{6{7{8 | O43: 2000 M./BOX | P43: =S43/2000 -> 0 | Q43: BOX | T43: M
B44: =IF(W41="","","PO.NO.") -> PO.NO. | C44: =IF(W41="","",X41) -> DMT121148 | D44: =IF(W41="","","(Cable from Bando Lao)") -> (Cable from Bando Lao) | P44: =S44/2000 -> 0 | Q44: BOX | T44: M
A45: =IF(W45="","",A41+1) -> 7 | B45: =IF(W45="","",VLOOKUP(C46,Data!B:C,2,FALSE)) -> PVC129 | G45: =IF(W45="","",SUM(S46:S48)) -> 10000 | H45: =IF(W45="","","M.") -> M. | I45: =IF(W45="","",VLOOKUP(C46,Data!B:E,4,FALSE)) -> DMT121149 | J45: =IF(W45="","",VLOOKUP(C46,Data!B:F,5,FALSE)) -> 24070007 | K45: =IFERROR(IF(P46="","",J45*(P46+P47+P48)),"") -> 120350035 | L45: =IF(W45="","","35.0 x 35.0 x 14.0") -> 35.0 x 35.0 x 14.0 | O45: 2000 M./BOX | V45: =V41+1 -> 7 | W45: =VLOOKUP(V45,Data!A:B,2,FALSE) -> TA0667 | X45: =VLOOKUP(V45,Data!A:F,5,FALSE) -> DMT121149 | Y45: =G45/2000 -> 5 | AA45: =AB41+1&IF(Y45=1,"","-"&AB45) -> 47-51 | AB45: =ROUNDUP(SUM($Y$21:Y45),0) -> 51
B46: =IF(W45="","","PART NO :") -> PART NO : | C46: =IF(W45="","",W45) -> TA0667 | E46: =IF(C46="","",", "&VLOOKUP(C46,Data!B:D,3,FALSE)) -> , PM060HH33 | G46: =IF(W45="","","(2000 M./BOX)") -> (2000 M./BOX) | L46: =IF(W45="","","C/N "&AA45) -> C/N 47-51 | O46: 2000 M./BOX | P46: =S46/2000 -> 5 | Q46: BOX | R46: =VLOOKUP(V45,Data!A:F,6,FALSE) -> 24070007 | S46: 10000 | T46: M
B47: =IF(W45="","","LOT NO:") -> LOT NO: | C47: =IF(W45="","",R46&IF(R47="","",","&R47&IF(R48="","",","&R48))) -> 24070007 | L47: =A45&"{1"&C46&"{2"&G45&"{3"&R46&"{4"&S46&"{5"&R47&"{6"&S47&"{7"&R48&"{8"&S48 -> 7{1TA0667{210000{324070007{410000{5{6{7{8 | O47: 2000 M./BOX | P47: =S47/2000 -> 0 | Q47: BOX | T47: M
B48: =IF(W45="","","PO.NO.") -> PO.NO. | C48: =IF(W45="","",X45) -> DMT121149 | D48: =IF(W45="","","(Cable from Bando Lao)") -> (Cable from Bando Lao) | P48: =S48/2000 -> 0 | Q48: BOX | T48: M
A49: =IF(W49="","",A45+1) -> 8 | B49: =IF(W49="","",VLOOKUP(C50,Data!B:C,2,FALSE)) -> PVC130 | G49: =IF(W49="","",SUM(S50:S52)) -> 500 | H49: =IF(W49="","","M.") -> M. | I49: =IF(W49="","",VLOOKUP(C50,Data!B:E,4,FALSE)) -> DMT121150 | J49: =IF(W49="","",VLOOKUP(C50,Data!B:F,5,FALSE)) -> 24070008 | K49: =IFERROR(IF(P50="","",J49*(P50+P51+P52)),"") -> 6017502 | L49: =IF(W49="","","35.0 x 35.0 x 14.0") -> 35.0 x 35.0 x 14.0 | O49: 2000 M./BOX | V49: =V45+1 -> 8 | W49: =VLOOKUP(V49,Data!A:B,2,FALSE) -> TA0675-C | X49: =VLOOKUP(V49,Data!A:F,5,FALSE) -> DMT121150 | Y49: =G49/2000 -> 0.25 | AA49: =AB45+1&IF(Y49=1,"","-"&AB49) -> 52-51 | AB49: =ROUNDUP(SUM($Y$21:Y49),0) -> 51
B50: =IF(W49="","","PART NO :") -> PART NO : | C50: =IF(W49="","",W49) -> TA0675-C | E50: =IF(C50="","",", "&VLOOKUP(C50,Data!B:D,3,FALSE)) -> , PM060HH35 | G50: =IF(W49="","","(2000 M./BOX)") -> (2000 M./BOX) | L50: =IF(W49="","","C/N "&AA49) -> C/N 52-51 | O50: 2000 M./BOX | P50: =S50/2000 -> 0.25 | Q50: BOX | R50: =VLOOKUP(V49,Data!A:F,6,FALSE) -> 24070008 | S50: 500 | T50: M
B51: =IF(W49="","","LOT NO:") -> LOT NO: | C51: =IF(W49="","",R50&IF(R51="","",","&R51&IF(R52="","",","&R52))) -> 24070008 | L51: =A49&"{1"&C50&"{2"&G49&"{3"&R50&"{4"&S50&"{5"&R51&"{6"&S51&"{7"&R52&"{8"&S52 -> 8{1TA0675-C{2500{324070008{4500{5{6{7{8 | O51: 2000 M./BOX | P51: =S51/2000 -> 0 | Q51: BOX | T51: M
B52: =IF(W49="","","PO.NO.") -> PO.NO. | C52: =IF(W49="","",X49) -> DMT121150 | D52: =IF(W49="","","(Cable from Bando Lao)") -> (Cable from Bando Lao) | P52: =S52/2000 -> 0 | Q52: BOX | T52: M
A53: =IF(W53="","",A49+1) -> 9 | B53: =IF(W53="","",VLOOKUP(C54,Data!B:C,2,FALSE)) -> PVC131 | G53: =IF(W53="","",SUM(S54:S56)) -> 3000 | H53: =IF(W53="","","M.") -> M. | I53: =IF(W53="","",VLOOKUP(C54,Data!B:E,4,FALSE)) -> DMT121151 | J53: =IF(W53="","",VLOOKUP(C54,Data!B:F,5,FALSE)) -> 24070009 | K53: =IFERROR(IF(P54="","",J53*(P54+P55+P56)),"") -> 36105014 | L53: =IF(W53="","","35.0 x 35.0 x 14.0") -> 35.0 x 35.0 x 14.0 | O53: 2000 M./BOX | V53: =V49+1 -> 9 | W53: =VLOOKUP(V53,Data!A:B,2,FALSE) -> TA0712-B | X53: =VLOOKUP(V53,Data!A:F,5,FALSE) -> DMT121151 | Y53: =G53/2000 -> 1.5 | AA53: =AB49+1&IF(Y53=1,"","-"&AB53) -> 52-52 | AB53: =ROUNDUP(SUM($Y$21:Y53),0) -> 52
B54: =IF(W53="","","PART NO :") -> PART NO : | C54: =IF(W53="","",W53) -> TA0712-B | E54: =IF(C54="","",", "&VLOOKUP(C54,Data!B:D,3,FALSE)) -> , PM060HH37 | G54: =IF(W53="","","(2000 M./BOX)") -> (2000 M./BOX) | L54: =IF(W53="","","C/N "&AA53) -> C/N 52-52 | O54: 2000 M./BOX | P54: =S54/2000 -> 1.5 | Q54: BOX | R54: =VLOOKUP(V53,Data!A:F,6,FALSE) -> 24070009 | S54: 3000 | T54: M
B55: =IF(W53="","","LOT NO:") -> LOT NO: | C55: =IF(W53="","",R54&IF(R55="","",","&R55&IF(R56="","",","&R56))) -> 24070009 | L55: =A53&"{1"&C54&"{2"&G53&"{3"&R54&"{4"&S54&"{5"&R55&"{6"&S55&"{7"&R56&"{8"&S56 -> 9{1TA0712-B{23000{324070009{43000{5{6{7{8 | O55: 2000 M./BOX | P55: =S55/2000 -> 0 | Q55: BOX | T55: M
B56: =IF(W53="","","PO.NO.") -> PO.NO. | C56: =IF(W53="","",X53) -> DMT121151 | D56: =IF(W53="","","(Cable from Bando Lao)") -> (Cable from Bando Lao) | P56: =S56/2000 -> 0 | Q56: BOX | T56: M
...
