Workbook

Sheet Menu
A2: ข้อมูล | B2: Count
A3: A4 | B3: =VLOOKUP(Menu!A3,DATA!E:F,2,0) -> 7
A4: อันดับที่ 1
A5: =IF(ROWS($A$5:$A5)>$B$3,"",DATA!J3&", "&DATA!K3) -> AA15, 25-ส.ค.
A6: =IF(ROWS($A$5:$A6)>$B$3,"",DATA!J4&", "&DATA!K4) -> AA22, 20-ส.ค.
A7: =IF(ROWS($A$5:$A7)>$B$3,"",DATA!J5&", "&DATA!K5) -> AA26, 23-มิ.ย.
A8: =IF(ROWS($A$5:$A8)>$B$3,"",DATA!J6&", "&DATA!K6) -> AA37, 12-พ.ค.
A9: =IF(ROWS($A$5:$A9)>$B$3,"",DATA!J7&", "&DATA!K7) -> AA4, 23-ส.ค.
A10: =IF(ROWS($A$5:$A10)>$B$3,"",DATA!J8&", "&DATA!K8) -> AA44, 19-พ.ค.
A11: =IF(ROWS($A$5:$A11)>$B$3,"",DATA!J9&", "&DATA!K9) -> AA48, 23-พ.ค.
A13: =IF(ROWS($A$5:$A13)>$B$3,"",DATA!J10&", "&DATA!K10)
A18: ข้อมูล | B18: Count
A19: =DATA!E4 -> A3 | B19: =VLOOKUP(Menu!A19,DATA!E:F,2,0) -> 7
A20: อันดับที่ 2
A21: =IF(ROWS($A$5:$A5)>$B$3,"",DATA!J10&", "&DATA!K10) -> AA14, 24-ส.ค.
A22: =IF(ROWS($A$5:$A6)>$B$3,"",DATA!J11&", "&DATA!K11) -> AA21, 20-ก.ค.
A23: =IF(ROWS($A$5:$A7)>$B$3,"",DATA!J12&", "&DATA!K12) -> AA25, 22-ส.ค.
A24: =IF(ROWS($A$5:$A8)>$B$3,"",DATA!J13&", "&DATA!K13) -> AA3, 22-ส.ค.
A25: =IF(ROWS($A$5:$A9)>$B$3,"",DATA!J14&", "&DATA!K14) -> AA36, 11-พ.ค.
A26: =IF(ROWS($A$5:$A10)>$B$3,"",DATA!J15&", "&DATA!K15) -> AA43, 18-พ.ค.
A27: =IF(ROWS($A$5:$A11)>$B$3,"",DATA!J16&", "&DATA!K16) -> AA47, 22-พ.ค.
A28: =IF(ROWS($A$5:$A13)>$B$3,"",DATA!J17&", "&DATA!K17)
A29: =IF(ROWS($A$5:$A14)>$B$3,"",DATA!J18&", "&DATA!K18)
A30: =IF(ROWS($A$5:$A15)>$B$3,"",DATA!J19&", "&DATA!K19)
A31: =IF(ROWS($A$5:$A16)>$B$3,"",DATA!J20&", "&DATA!K20)
A34: ข้อมูล | B34: Count
A35: =DATA!E5 -> A1 | B35: =VLOOKUP(Menu!A35,DATA!E:F,2,0) -> 7
A36: อันดับที่ 3
A37: =IF(ROWS($A$5:$A5)>$B$3,"",DATA!J17&", "&DATA!K17) -> AA1, 20-ส.ค.
A38: =IF(ROWS($A$5:$A6)>$B$3,"",DATA!J18&", "&DATA!K18) -> AA12, 22-ส.ค.
A39: =IF(ROWS($A$5:$A7)>$B$3,"",DATA!J19&", "&DATA!K19) -> AA19, 22-ส.ค.
A40: =IF(ROWS($A$5:$A8)>$B$3,"",DATA!J20&", "&DATA!K20) -> AA23, 22-ส.ค.
A41: =IF(ROWS($A$5:$A9)>$B$3,"",DATA!J21&", "&DATA!K21) -> AA34, 9-พ.ค.
A42: =IF(ROWS($A$5:$A10)>$B$3,"",DATA!J22&", "&DATA!K22) -> AA41, 16-พ.ค.
A43: =IF(ROWS($A$5:$A11)>$B$3,"",DATA!J23&", "&DATA!K23) -> AA45, 20-พ.ค.
A44: =IF(ROWS($A$5:$A12)>$B$3,"",DATA!J24&", "&DATA!K24)
A45: =IF(ROWS($A$5:$A13)>$B$3,"",DATA!J25&", "&DATA!K25)
A46: =IF(ROWS($A$5:$A14)>$B$3,"",DATA!J26&", "&DATA!K26)
A47: =IF(ROWS($A$5:$A15)>$B$3,"",DATA!J27&", "&DATA!K27)

Sheet DATA
A1: ข้อมูล | B1: Date | C1: Type | E1: Count of ข้อมูล | I1: Count of ข้อมูล
A2: A1 | B2: 44793 | C2: AA1 | E2: ข้อมูล | F2: Total | I2: ข้อมูล | J2: Type | K2: Date | L2: Total
A3: A2 | B3: 44793 | C3: AA2 | E3: A4 | F3: 7 | I3: A4 | J3: AA15 | K3: 25-ส.ค. | L3: 1
A4: A3 | B4: 44795 | C4: AA3 | E4: A3 | F4: 7 | J4: AA22 | K4: 20-ส.ค. | L4: 1
A5: A4 | B5: 44796 | C5: AA4 | E5: A1 | F5: 7 | J5: AA26 | K5: 23-มิ.ย. | L5: 1
A6: A6 | B6: 44797 | C6: AA5 | E6: A2 | F6: 7 | J6: AA37 | K6: 12-พ.ค. | L6: 1
A7: A6 | B7: 44798 | C7: AA6 | E7: A6 | F7: 4 | J7: AA4 | K7: 23-ส.ค. | L7: 1
A8: A7 | B8: 44799 | C8: AA7 | E8: A8 | F8: 2 | J8: AA44 | K8: 19-พ.ค. | L8: 1
A9: A8 | B9: 44762 | C9: AA8 | E9: A17 | F9: 2 | J9: AA48 | K9: 23-พ.ค. | L9: 1
A10: A9 | B10: 44793 | C10: AA9 | E10: A18 | F10: 2 | I10: A3 | J10: AA14 | K10: 24-ส.ค. | L10: 1
A11: A10 | B11: 44795 | C11: AA10 | E11: A7 | F11: 2 | J11: AA21 | K11: 20-ก.ค. | L11: 1
A12: A11 | B12: 44735 | C12: AA11 | E12: A10 | F12: 2 | J12: AA25 | K12: 22-ส.ค. | L12: 1
A13: A1 | B13: 44795 | C13: AA12 | E13: A9 | F13: 2 | J13: AA3 | K13: 22-ส.ค. | L13: 1
A14: A2 | B14: 44796 | C14: AA13 | E14: A11 | F14: 2 | J14: AA36 | K14: 11-พ.ค. | L14: 1
A15: A3 | B15: 44797 | C15: AA14 | E15: A16 | F15: 2 | J15: AA43 | K15: 18-พ.ค. | L15: 1
A16: A4 | B16: 44798 | C16: AA15 | E16: Grand Total | F16: 48 | J16: AA47 | K16: 22-พ.ค. | L16: 1
A17: A16 | B17: 44799 | C17: AA16 | I17: A1 | J17: AA1 | K17: 20-ส.ค. | L17: 1
A18: A17 | B18: 44762 | C18: AA17 | J18: AA12 | K18: 22-ส.ค. | L18: 1
A19: A18 | B19: 44793 | C19: AA18 | J19: AA19 | K19: 22-ส.ค. | L19: 1
A20: A1 | B20: 44795 | C20: AA19 | J20: AA23 | K20: 22-ส.ค. | L20: 1
A21: A2 | B21: 44735 | C21: AA20 | J21: AA34 | K21: 9-พ.ค. | L21: 1
A22: A3 | B22: 44762 | C22: AA21 | J22: AA41 | K22: 16-พ.ค. | L22: 1
A23: A4 | B23: 44793 | C23: AA22 | J23: AA45 | K23: 20-พ.ค. | L23: 1
A24: A1 | B24: 44795 | C24: AA23 | I24: A2 | J24: AA13 | K24: 23-ส.ค. | L24: 1
A25: A2 | B25: 44735 | C25: AA24 | J25: AA2 | K25: 20-ส.ค. | L25: 1
A26: A3 | B26: 44795 | C26: AA25 | J26: AA20 | K26: 23-มิ.ย. | L26: 1
A27: A4 | B27: 44735 | C27: AA26 | J27: AA24 | K27: 23-มิ.ย. | L27: 1
A28: A6 | B28: 44683 | C28: AA27 | J28: AA35 | K28: 10-พ.ค. | L28: 1
A29: A6 | B29: 44684 | C29: AA28 | J29: AA42 | K29: 17-พ.ค. | L29: 1
A30: A7 | B30: 44685 | C30: AA29 | J30: AA46 | K30: 21-พ.ค. | L30: 1
A31: A8 | B31: 44686 | C31: AA30 | I31: A6 | J31: AA27 | K31: 2-พ.ค. | L31: 1
A32: A9 | B32: 44687 | C32: AA31 | J32: AA28 | K32: 3-พ.ค. | L32: 1
A33: A10 | B33: 44688 | C33: AA32 | J33: AA5 | K33: 24-ส.ค. | L33: 1
A34: A11 | B34: 44689 | C34: AA33 | J34: AA6 | K34: 25-ส.ค. | L34: 1
A35: A1 | B35: 44690 | C35: AA34 | I35: A8 | J35: AA30 | K35: 5-พ.ค. | L35: 1
A36: A2 | B36: 44691 | C36: AA35 | J36: AA8 | K36: 20-ก.ค. | L36: 1
A37: A3 | B37: 44692 | C37: AA36 | I37: A17 | J37: AA17 | K37: 20-ก.ค. | L37: 1
A38: A4 | B38: 44693 | C38: AA37 | J38: AA39 | K38: 14-พ.ค. | L38: 1
A39: A16 | B39: 44694 | C39: AA38 | I39: A18 | J39: AA18 | K39: 20-ส.ค. | L39: 1
A40: A17 | B40: 44695 | C40: AA39 | J40: AA40 | K40: 15-พ.ค. | L40: 1
...
